Workbook

Sheet 1월일별(순창)
A2: 순창공공하수처리시설 수질검사결과
A4: 2025년 1월 (시설용량 : 5100㎥/일) | R4: (단위 : ㎎/ℓ, 개/㎖, ㎥/일)
A5: 일자 | B5: 유입량 | C5: 방류량 | D5: 유 입 수 | L5: 방 류 수
D6: 수온 | E6: pH | F6: BOD | G6: TOC | H6: SS | I6: T-N | J6: T-P | K6: 대장균군수 | L6: pH | M6: BOD | N6: TOC | O6: SS | P6: T-N | Q6: T-P | R6: 대장균군수
A7: 1 | B7: 3997 | C7: 3781 | D7: 13.2 | E7: 7.5 | F7: 250.8 | G7: 71.6 | H7: 255 | I7: 57.06 | J7: 5.88 | K7: 26000 | L7: 7 | M7: 5.1 | N7: 5.9 | O7: 6.2 | P7: 12.84 | Q7: 0.143 | R7: 20
A8: 2 | B8: 5655 | C8: 4150 | D8: 13.1 | E8: 7.5 | F8: 240.6 | G8: 66.6 | H8: 260 | I8: 54.96 | J8: 6.036 | K8: 40000 | L8: 7 | M8: 5.2 | N8: 5.1 | O8: 6.3 | P8: 12.564 | Q8: 0.142 | R8: 13
A9: 3 | B9: 5065 | C9: 4274 | D9: 13.5 | E9: 7.5 | F9: 243.6 | G9: 68.3 | H9: 280 | I9: 57.12 | J9: 5.856 | K9: 53000 | L9: 7 | M9: 5.6 | N9: 5.5 | O9: 6.3 | P9: 13.068 | Q9: 0.119 | R9: 16
A10: 4 | B10: 3802 | C10: 3663 | D10: 12.8 | E10: 7.4 | F10: 256.2 | G10: 71.7 | H10: 240 | I10: 55.26 | J10: 6.024 | K10: 34000 | L10: 7 | M10: 5.8 | N10: 3.4 | O10: 6 | P10: 10.435 | Q10: 0.142 | R10: 22
A11: 5 | B11: 3971 | C11: 3970 | D11: 13 | E11: 7.5 | F11: 261 | G11: 103.5 | H11: 250 | I11: 53.34 | J11: 6.06 | K11: 49000 | L11: 7 | M11: 5.2 | N11: 3.1 | O11: 5.8 | P11: 12.9 | Q11: 0.132 | R11: 12
A12: 6 | B12: 4460 | C12: 4077 | D12: 12.3 | E12: 7.6 | F12: 264.6 | G12: 90.2 | H12: 230 | I12: 58.2 | J12: 5.952 | K12: 47000 | L12: 7 | M12: 5.1 | N12: 3.4 | O12: 6 | P12: 12.78 | Q12: 0.146 | R12: 17
A13: 7 | B13: 4189 | C13: 4066 | D13: 12.9 | E13: 7.5 | F13: 244.8 | G13: 126 | H13: 250 | I13: 55.92 | J13: 5.868 | K13: 180000 | L13: 7 | M13: 5.4 | N13: 7.1 | O13: 6.4 | P13: 12.312 | Q13: 0.13 | R13: 13
A14: 8 | B14: 4633 | C14: 4383 | D14: 11.9 | E14: 7.5 | F14: 239.4 | G14: 120.6 | H14: 265 | I14: 54.96 | J14: 5.892 | K14: 38000 | L14: 7 | M14: 5.3 | N14: 6.7 | O14: 6 | P14: 12.48 | Q14: 0.131 | R14: 13
A15: 9 | B15: 5021 | C15: 4582 | D15: 11.9 | E15: 7.5 | F15: 226.2 | G15: 88.3 | H15: 250 | I15: 58.44 | J15: 5.844 | K15: 38000 | L15: 7 | M15: 5.9 | N15: 4.4 | O15: 6.4 | P15: 12.396 | Q15: 0.113 | R15: 13
A16: 10 | B16: 4498 | C16: 4051 | D16: 8 | E16: 7.2 | F16: 248.4 | G16: 80.8 | H16: 275 | I16: 58.32 | J16: 5.892 | K16: 38000 | L16: 7 | M16: 5.8 | N16: 3.6 | O16: 6.2 | P16: 12.576 | Q16: 0.139 | R16: 38
A17: 11 | B17: 4204 | C17: 4281 | D17: 9 | E17: 7.4 | F17: 241.8 | G17: 85.5 | H17: 260 | I17: 57.54 | J17: 6 | K17: 67000 | L17: 7 | M17: 5.1 | N17: 4.6 | O17: 5.9 | P17: 12.732 | Q17: 0.116 | R17: 27
A18: 12 | B18: 3996 | C18: 4282 | D18: 9.3 | E18: 7.5 | F18: 245.4 | G18: 87.3 | H18: 280 | I18: 56.52 | J18: 5.784 | K18: 64000 | L18: 7 | M18: 5 | N18: 3.9 | O18: 6 | P18: 12.792 | Q18: 0.142 | R18: 27
... A37: 31 | B37: 4419 | C37: 3717 | D37: 11.4 | E37: 7.5 | F37: 249 | G37: 102.8 | H37: 195 | I37: 57.96 | J37: 5.784 | K37: 37000 | L37: 6.9 | M37: 5.1 | N37: 3.5 | O37: 6 | P37: 12.828 | Q37: 0.091 | R37: 22
A38: 평균 | B38: =AVERAGE(B7:B37) -> 4445.8387 | C38: =AVERAGE(C7:C37) -> 3913.4839 | D38: - | E38: =AVERAGE(E7:E37) -> 7.4709677 | F38: =AVERAGE(F7:F37) -> 251.59355 | G38: =AVERAGE(G7:G37) -> 94.658065 | H38: =AVERAGE(H7:H37) -> 237.09677 | I38: =AVERAGE(I7:I37) -> 56.893548 | J38: =AVERAGE(J7:J37) -> 5.828129 | K38: =AVERAGE(K7:K37) -> 60096.774 | L38: =AVERAGE(L7:L37) -> 6.9935484 | ... R38: =AVERAGE(R7:R37) -> 20.290323
A39: 최대 | B39: =MAX(B7:B37) -> 5655 | C39: =MAX(C7:C37) -> 4582 | D39: - | E39: =MAX(E7:E37) -> 7.6 | F39: =MAX(F7:F37) -> 274.2 | G39: =MAX(G7:G37) -> 131.7 | H39: =MAX(H7:H37) -> 285 | I39: =MAX(I7:I37) -> 58.68 | J39: =MAX(J7:J37) -> 6.06 | K39: =MAX(K7:K37) -> 280000 | L39: =MAX(L7:L37) -> 7.1 | ... R39: =MAX(R7:R37) -> 38
A40: 최소 | B40: =MIN(B7:B37) -> 3497 | C40: =MIN(C7:C37) -> 2387 | D40: - | E40: =MIN(E7:E37) -> 7.2 | F40: =MIN(F7:F37) -> 226.2 | G40: =MIN(G7:G37) -> 66.6 | H40: =MIN(H7:H37) -> 120 | I40: =MIN(I7:I37) -> 53.34 | J40: =MIN(J7:J37) -> 5.16 | K40: =MIN(K7:K37) -> 13000 | L40: =MIN(L7:L37) -> 6.9 | ... R40: =MIN(R7:R37) -> 11
A41: 설계 | B41: - | C41: - | D41: - | E41: - | F41: 150 | G41: (142.3) | H41: 159.7 | I41: 44.9 | J41: 6.5 | K41: 300000 | L41: - | M41: 4.4 | N41: (18.4) | O41: 2.6 | P41: 13.7 | Q41: 0.43 | R41: 3000
B42: =SUM(B7:B37) -> 137821 | C42: =SUM(C7:C37) -> 121318

Sheet 2월일별(순창)
A2: 순창공공하수처리시설 수질검사결과
A4: 2025년 2월 (시설용량 : 5100㎥/일) | R4: (단위 : ㎎/ℓ, 개/㎖, ㎥/일)
A5: 일자 | B5: 유입량 | C5: 방류량 | D5: 유 입 수 | L5: 방 류 수
D6: 수온 | E6: pH | F6: BOD | G6: TOC | H6: SS | I6: T-N | J6: T-P | K6: 대장균군수 | L6: pH | M6: BOD | N6: TOC | O6: SS | P6: T-N | Q6: T-P | R6: 대장균군수
A7: 1 | B7: 4220 | C7: 4180 | D7: 12 | E7: 7.4 | F7: 270 | G7: 108.2 | H7: 275 | I7: 56.28 | J7: 5.76 | K7: 46000 | L7: 6.9 | M7: 4.9 | N7: 2.9 | O7: 6 | P7: 12.48 | Q7: 0.083 | R7: 23
A8: 2 | B8: 4521 | C8: 4481 | D8: 12.1 | E8: 7.5 | F8: 252 | G8: 104 | H8: 280 | I8: 58.02 | J8: 5.832 | K8: 43000 | L8: 7 | M8: 4.6 | N8: 4.5 | O8: 5.7 | P8: 12.828 | Q8: 0.091 | R8: 23
A9: 3 | B9: 4398 | C9: 4341 | D9: 10.4 | E9: 7.5 | F9: 246.6 | G9: 109.9 | H9: 265 | I9: 55.8 | J9: 5.988 | K9: 140000 | L9: 7 | M9: 5.8 | N9: 3.6 | O9: 5.8 | P9: 12.264 | Q9: 0.104 | R9: 24
A10: 4 | B10: 4297 | C10: 4053 | D10: 10.9 | E10: 7.5 | F10: 226.8 | G10: 55.6 | H10: 275 | I10: 57.84 | J10: 6 | K10: 40000 | L10: 6.9 | M10: 5.2 | N10: 4.3 | O10: 4.9 | P10: 12.732 | Q10: 0.076 | R10: 22
A11: 5 | B11: 4023 | C11: 3729 | D11: 10.4 | E11: 7.5 | F11: 235.2 | G11: 75.8 | H11: 260 | I11: 56.46 | J11: 5.844 | K11: 34000 | L11: 7 | M11: 5.4 | N11: 4.2 | O11: 5.5 | P11: 12.78 | Q11: 0.096 | R11: 22
A12: 6 | B12: 4241 | C12: 3953 | D12: 11.5 | E12: 7.5 | F12: 227.4 | G12: 74.9 | H12: 275 | I12: 58.02 | J12: 5.928 | K12: 32000 | L12: 7 | M12: 5.5 | N12: 2.5 | O12: 6.2 | P12: 12.216 | Q12: 0.083 | R12: 24
A13: 7 | B13: 4128 | C13: 3871 | D13: 12.4 | E13: 7.5 | F13: 156.3 | G13: 86.8 | H13: 275 | I13: 58.38 | J13: 5.868 | K13: 44000 | L13: 7 | M13: 4.4 | N13: 5.5 | O13: 5.3 | P13: 12.36 | Q13: 0.073 | R13: 28
A14: 8 | B14: 4023 | C14: 4015 | D14: 12.9 | E14: 7.4 | F14: 161.7 | G14: 56.4 | H14: 260 | I14: 59.1 | J14: 6.06 | K14: 68000 | L14: 6.9 | M14: 4.4 | N14: 2.7 | O14: 5.7 | P14: 9.432 | Q14: 0.06 | R14: 23
A15: 9 | B15: 4105 | C15: 3947 | D15: 13.1 | E15: 7.5 | F15: 153.6 | G15: 57.1 | H15: 285 | I15: 58.44 | J15: 5.976 | K15: 75000 | L15: 7 | M15: 4.3 | N15: 2.8 | O15: 6 | P15: 9.348 | Q15: 0.066 | R15: 22
A16: 10 | B16: 3942 | C16: 2983 | D16: 13.2 | E16: 7.4 | F16: 151.5 | G16: 59.4 | H16: 275 | I16: 58.5 | J16: 6.036 | K16: 67000 | L16: 6.9 | M16: 4.2 | N16: 3.2 | O16: 6 | P16: 9.096 | Q16: 0.059 | R16: 25
A17: 11 | B17: 3951 | C17: 2517 | D17: 13 | E17: 7.4 | F17: 154.2 | G17: 68.1 | H17: 290 | I17: 67.56 | J17: 6.06 | K17: 42000 | L17: 6.8 | M17: 4.3 | N17: 3.5 | O17: 5.7 | P17: 9.072 | Q17: 0.061 | R17: 22
A18: 12 | B18: 3307 | C18: 2352 | D18: 13.1 | E18: 7.5 | F18: 150 | G18: 79.8 | H18: 295 | I18: 69.696 | J18: 6.048 | K18: 39000 | L18: 7 | M18: 4.2 | N18: 3.2 | O18: 5.7 | P18: 9.468 | Q18: 0.056 | R18: 22
... A34: 28 | B34: 4103 | C34: 4098 | D34: 14.5 | E34: 7.4 | F34: 147 | G34: 120.5 | H34: 300 | I34: 68.328 | J34: 6.012 | K34: 34000 | L34: 7.4 | M34: 4.7 | N34: 3.5 | O34: 6.2 | P34: 9.036 | Q34: 0.052 | R34: 22
A38: 평균 | B38: =AVERAGE(B7:B37) -> 3992.3571 | C38: =AVERAGE(C7:C37) -> 3557.9643 | D38: - | E38: =AVERAGE(E7:E37) -> 7.4507143 | F38: =AVERAGE(F7:F37) -> 170.35714 | G38: =AVERAGE(G7:G37) -> 78.621429 | H38: =AVERAGE(H7:H37) -> 279.64286 | I38: =AVERAGE(I7:I37) -> 64.656 | J38: =AVERAGE(J7:J37) -> 6.0527143 | K38: =AVERAGE(K7:K37) -> 45214.286 | L38: =AVERAGE(L7:L37) -> 6.9607143 | ... R38: =AVERAGE(R7:R37) -> 22.892857
A39: 최대 | B39: =MAX(B7:B37) -> 4678 | C39: =MAX(C7:C37) -> 4665 | D39: - | E39: =MAX(E7:E37) -> 7.52 | F39: =MAX(F7:F37) -> 270 | G39: =MAX(G7:G37) -> 120.5 | H39: =MAX(H7:H37) -> 300 | I39: =MAX(I7:I37) -> 69.984 | J39: =MAX(J7:J37) -> 7.332 | K39: =MAX(K7:K37) -> 140000 | L39: =MAX(L7:L37) -> 7.4 | ... R39: =MAX(R7:R37) -> 28
A40: 최소 | B40: =MIN(B7:B37) -> 3254 | C40: =MIN(C7:C37) -> 2054 | D40: - | E40: =MIN(E7:E37) -> 7.4 | F40: =MIN(F7:F37) -> 145.5 | G40: =MIN(G7:G37) -> 55.6 | H40: =MIN(H7:H37) -> 260 | I40: =MIN(I7:I37) -> 55.8 | J40: =MIN(J7:J37) -> 5.76 | K40: =MIN(K7:K37) -> 32000 | L40: =MIN(L7:L37) -> 6.7 | ... R40: =MIN(R7:R37) -> 21
A41: 설계 | B41: - | C41: - | D41: - | E41: - | F41: 150 | G41: (142.3) | H41: 159.7 | I41: 44.9 | J41: 6.5 | K41: 300000 | L41: - | M41: 4.4 | N41: (18.4) | O41: 2.6 | P41: 13.7 | Q41: 0.43 | R41: 3000
B42: =SUM(B7:B37) -> 111786 | C42: =SUM(C7:C37) -> 99623

Sheet 3월일별(순창)
A2: 순창공공하수처리시설 수질검사결과
A4: 2025년 3월 (시설용량 : 5100㎥/일) | R4: (단위 : ㎎/ℓ, 개/㎖, ㎥/일)
A5: 일자 | B5: 유입량 | C5: 방류량 | D5: 유 입 수 | L5: 방 류 수
D6: 수온 | E6: pH | F6: BOD | G6: TOC | H6: SS | I6: T-N | J6: T-P | K6: 대장균군수 | L6: pH | M6: BOD | N6: TOC | O6: SS | P6: T-N | Q6: T-P | R6: 대장균군수
A7: 1 | B7: 4318 | C7: 4206 | D7: 14.1 | E7: 7.4 | F7: 152.4 | G7: 87.7 | H7: 295 | I7: 68.976 | J7: 6.036 | K7: 46000 | L7: 7.4 | M7: 4.7 | N7: 2.3 | O7: 6.1 | P7: 9.036 | Q7: 0.054 | R7: 22
A8: 2 | B8: 4358 | C8: 4263 | D8: 14.3 | E8: 7.4 | F8: 149.4 | G8: 84.6 | H8: 285 | I8: 68.256 | J8: 6.036 | K8: 44000 | L8: 7.4 | M8: 4.8 | N8: 2.3 | O8: 6.2 | P8: 9.012 | Q8: 0.048 | R8: 22
A9: 3 | B9: 4333 | C9: 4221 | D9: 14.4 | E9: 7.4 | F9: 147.9 | G9: 85.4 | H9: 275 | I9: 68.976 | J9: 6.084 | K9: 47000 | L9: 7.4 | M9: 4.7 | N9: 3 | O9: 6.3 | P9: 9 | Q9: 0.054 | R9: 22
A10: 4 | B10: 4314 | C10: 4165 | D10: 14.2 | E10: 7.4 | F10: 151.5 | G10: 86.8 | H10: 285 | I10: 68.688 | J10: 5.988 | K10: 49000 | L10: 7.4 | M10: 4.5 | N10: 3.4 | O10: 6 | P10: 9.036 | Q10: 0.058 | R10: 22
A11: 5 | B11: 4599 | C11: 4538 | D11: 14.4 | E11: 7.4 | F11: 148.2 | G11: 52.3 | H11: 260 | I11: 68.472 | J11: 6.048 | K11: 200000 | L11: 6.8 | M11: 4.7 | N11: 3.6 | O11: 5.8 | P11: 9 | Q11: 0.053 | R11: 22
A12: 6 | B12: 5250 | C12: 5236 | D12: 14.2 | E12: 7.4 | F12: 149.7 | G12: 56.2 | H12: 270 | I12: 67.536 | J12: 6.096 | K12: 190000 | L12: 6.8 | M12: 4.4 | N12: 2 | O12: 6 | P12: 8.808 | Q12: 0.048 | R12: 21
A13: 7 | B13: 4568 | C13: 4519 | D13: 14.4 | E13: 7.4 | F13: 153 | G13: 110.4 | H13: 290 | I13: 68.256 | J13: 6.12 | K13: 210000 | L13: 6.7 | M13: 4.5 | N13: 4.3 | O13: 6 | P13: 8.784 | Q13: 0.06 | R13: 21
A14: 8 | B14: 4675 | C14: 4603 | D14: 14.6 | E14: 7.4 | F14: 153 | G14: 77.1 | H14: 295 | I14: 68.472 | J14: 6.06 | K14: 56000 | L14: 6.8 | M14: 4.5 | N14: 3.3 | O14: 6.1 | P14: 9.012 | Q14: 0.059 | R14: 22
A15: 9 | B15: 4433 | C15: 4367 | D15: 14.5 | E15: 7.5 | F15: 150.9 | G15: 78.8 | H15: 280 | I15: 68.616 | J15: 6.012 | K15: 49000 | L15: 6.9 | M15: 4.4 | N15: 3.6 | O15: 5.5 | P15: 9.06 | Q15: 0.055 | R15: 21
A16: 10 | B16: 4293 | C16: 4177 | D16: 14.6 | E16: 7.4 | F16: 151.2 | G16: 77.9 | H16: 290 | I16: 68.04 | J16: 6.012 | K16: 55000 | L16: 6.7 | M16: 4.6 | N16: 2.7 | O16: 5.9 | P16: 8.964 | Q16: 0.06 | R16: 22
A17: 11 | B17: 4351 | C17: 4229 | D17: 14.7 | E17: 7.4 | F17: 150 | G17: 62.4 | H17: 300 | I17: 68.184 | J17: 6.036 | K17: 60000 | L17: 6.7 | M17: 4.5 | N17: 3.7 | O17: 6 | P17: 8.988 | Q17: 0.06 | R17: 21
A18: 12 | B18: 4576 | C18: 4500 | D18: 14.8 | E18: 7.4 | F18: 148.8 | G18: 63.4 | H18: 290 | I18: 65.664 | J18: 5.382 | K18: 53000 | L18: 6.8 | M18: 4.7 | N18: 4.3 | O18: 5.9 | P18: 9.686 | Q18: 0.047 | R18: 23
... A37: 31 | B37: 4562 | C37: 4468 | D37: 17.5 | E37: 7.5 | F37: 145.8 | G37: 114.2 | H37: 255 | I37: 80.832 | J37: 6.42 | K37: 58000 | L37: 6.9 | M37: 4.4 | N37: 5.9 | O37: 5.5 | P37: 8.13 | Q37: 0.282 | R37: 25
A38: 평균 | B38: =AVERAGE(B7:B37) -> 4457.2581 | C38: =AVERAGE(C7:C37) -> 4376.2581 | D38: - | E38: =AVERAGE(E7:E37) -> 7.4258065 | F38: =AVERAGE(F7:F37) -> 149.86452 | G38: =AVERAGE(G7:G37) -> 76.506452 | H38: =AVERAGE(H7:H37) -> 277.74194 | I38: =AVERAGE(I7:I37) -> 66.072968 | J38: =AVERAGE(J7:J37) -> 6.0420968 | K38: =AVERAGE(K7:K37) -> 69064.516 | L38: =AVERAGE(L7:L37) -> 6.8967742 | ... R38: =AVERAGE(R7:R37) -> 23.645161
A39: 최대 | B39: =MAX(B7:B37) -> 5250 | C39: =MAX(C7:C37) -> 5236 | D39: - | E39: =MAX(E7:E37) -> 7.5 | F39: =MAX(F7:F37) -> 154.8 | G39: =MAX(G7:G37) -> 114.2 | H39: =MAX(H7:H37) -> 300 | I39: =MAX(I7:I37) -> 80.832 | J39: =MAX(J7:J37) -> 6.826 | K39: =MAX(K7:K37) -> 210000 | L39: =MAX(L7:L37) -> 7.4 | ... R39: =MAX(R7:R37) -> 29
A40: 최소 | B40: =MIN(B7:B37) -> 3664 | C40: =MIN(C7:C37) -> 3525 | D40: - | E40: =MIN(E7:E37) -> 7.4 | F40: =MIN(F7:F37) -> 144.3 | G40: =MIN(G7:G37) -> 49.8 | H40: =MIN(H7:H37) -> 255 | I40: =MIN(I7:I37) -> 54.18 | J40: =MIN(J7:J37) -> 5.268 | K40: =MIN(K7:K37) -> 44000 | L40: =MIN(L7:L37) -> 6.7 | ... R40: =MIN(R7:R37) -> 20
A41: 설계 | B41: - | C41: - | D41: - | E41: - | F41: 150 | G41: (142.3) | H41: 159.7 | I41: 44.9 | J41: 6.5 | K41: 300000 | L41: - | M41: 4.4 | N41: (18.4) | O41: 2.6 | P41: 13.7 | Q41: 0.43 | R41: 3000
B42: =SUM(B7:B37) -> 138175 | C42: =SUM(C7:C37) -> 135664

Sheet 4월일별(순창)
A2: 순창공공하수처리시설 수질검사결과
A4: 2025년 4월 (시설용량 : 5100㎥/일) | R4: (단위 : ㎎/ℓ, 개/㎖, ㎥/일)
A5: 일자 | B5: 유입량 | C5: 방류량 | D5: 유 입 수 | L5: 방 류 수
D6: 수온 | E6: pH | F6: BOD | G6: TOC | H6: SS | I6: T-N | J6: T-P | K6: 대장균군수 | L6: pH | M6: BOD | N6: TOC | O6: SS | P6: T-N | Q6: T-P | R6: 대장균군수
A7: 1 | B7: 4234 | C7: 4175 | D7: 17.6 | E7: 7.5 | F7: 184.8 | G7: 150.92 | H7: 275 | I7: 55.2 | J7: 5.448 | K7: 66000 | L7: 7 | M7: 4.5 | N7: 5.313 | O7: 5.7 | P7: 8.232 | Q7: 0.134 | R7: 27
A8: 2 | B8: 4676 | C8: 4644 | D8: 17.5 | E8: 7.4 | F8: 178.8 | G8: 109.79 | H8: 285 | I8: 63.54 | J8: 7.428 | K8: 70000 | L8: 6.9 | M8: 4.4 | N8: 3.834 | O8: 5.4 | P8: 6.372 | Q8: 0.209 | R8: 22
A9: 3 | B9: 4417 | C9: 4349 | D9: 17.6 | E9: 7.5 | F9: 185.1 | G9: 107.21 | H9: 260 | I9: 62.16 | J9: 5.868 | K9: 76000 | L9: 7 | M9: 4.6 | N9: 1.999 | O9: 5.9 | P9: 6.984 | Q9: 0.247 | R9: 26
A10: 4 | B10: 4582 | C10: 4567 | D10: 17.8 | E10: 7.5 | F10: 178.2 | G10: 89.07 | H10: 240 | I10: 54.42 | J10: 7.08 | K10: 96000 | L10: 6.9 | M10: 4.5 | N10: 2.207 | O10: 5.4 | P10: 7.11 | Q10: 0.232 | R10: 25
A11: 5 | B11: 4942 | C11: 4882 | D11: 17.9 | E11: 7.4 | F11: 173.4 | G11: 100.38 | H11: 250 | I11: 61.92 | J11: 6.456 | K11: 98000 | L11: 6.8 | M11: 4.5 | N11: 5.337 | O11: 5.6 | P11: 8.362 | Q11: 0.295 | R11: 26
A12: 6 | B12: 4542 | C12: 4498 | D12: 17.6 | E12: 7.5 | F12: 229.8 | G12: 97.97 | H12: 255 | I12: 67.824 | J12: 8.064 | K12: 100000 | L12: 7 | M12: 4.7 | N12: 5.017 | O12: 5.3 | P12: 9.35 | Q12: 0.211 | R12: 24
A13: 7 | B13: 4536 | C13: 4443 | D13: 18 | E13: 7.5 | F13: 217.8 | G13: 99.16 | H13: 270 | I13: 63 | J13: 7.296 | K13: 84000 | L13: 7 | M13: 4.4 | N13: 3.341 | O13: 5.6 | P13: 6.528 | Q13: 0.048 | R13: 21
A14: 8 | B14: 5019 | C14: 4976 | D14: 18.1 | E14: 7.4 | F14: 234.6 | G14: 93.19 | H14: 280 | I14: 57.54 | J14: 7.212 | K14: 93000 | L14: 6.9 | M14: 4.6 | N14: 8.985 | O14: 5.4 | P14: 7.716 | Q14: 0.185 | R14: 26
A15: 9 | B15: 3748 | C15: 3740 | D15: 18.1 | E15: 7.5 | F15: 250.2 | G15: 175.49 | H15: 275 | I15: 52.14 | J15: 6.36 | K15: 87000 | L15: 7 | M15: 4.1 | N15: 6.438 | O15: 5.8 | P15: 8.083 | Q15: 0.266 | R15: 19
A16: 10 | B16: 4316 | C16: 4266 | D16: 18.1 | E16: 7.4 | F16: 261.6 | G16: 127.15 | H16: 270 | I16: 70.32 | J16: 8.04 | K16: 85000 | L16: 6.9 | M16: 3.8 | N16: 3.093 | O16: 5.6 | P16: 6.462 | Q16: 0.186 | R16: 24
A17: 11 | B17: 4847 | C17: 4771 | D17: 17.9 | E17: 7.5 | F17: 285.6 | G17: 112.42 | H17: 245 | I17: 71.28 | J17: 6.648 | K17: 88000 | L17: 7 | M17: 3.2 | N17: 4.242 | O17: 5.1 | P17: 6.162 | Q17: 0.214 | R17: 28
A18: 12 | B18: 4392 | C18: 4355 | D18: 16.5 | E18: 7.5 | F18: 274.2 | G18: 175.29 | H18: 260 | I18: 76.2 | J18: 6.612 | K18: 71000 | L18: 7 | M18: 3 | N18: 4.977 | O18: 5.5 | P18: 6.15 | Q18: 0.024 | R18: 24
... A36: 30 | B36: 5091 | C36: 4963 | D36: 19.2 | E36: 7.5 | F36: 266.4 | G36: 213.447 | H36: 260 | I36: 58.68 | J36: 4.932 | K36: 84000 | L36: 7 | M36: 2.7 | N36: 4.6794 | O36: 3.4 | P36: 6.966 | Q36: 0.138 | R36: 23
A38: 평균 | B38: =AVERAGE(B7:B37) -> 4936.9 | C38: =AVERAGE(C7:C37) -> 4872.9667 | D38: - | E38: =AVERAGE(E7:E37) -> 7.4433333 | F38: =AVERAGE(F7:F37) -> 246.79 | G38: =AVERAGE(G7:G37) -> 129.79023 | H38: =AVERAGE(H7:H37) -> 262.16667 | I38: =AVERAGE(I7:I37) -> 64.1968 | J38: =AVERAGE(J7:J37) -> 6.6232 | K38: =AVERAGE(K7:K37) -> 82400 | L38: =AVERAGE(L7:L37) -> 6.9133333 | ... R38: =AVERAGE(R7:R37) -> 23.4
A39: 최대 | B39: =MAX(B7:B37) -> 6109 | C39: =MAX(C7:C37) -> 6025 | D39: - | E39: =MAX(E7:E37) -> 7.5 | F39: =MAX(F7:F37) -> 285.6 | G39: =MAX(G7:G37) -> 213.447 | H39: =MAX(H7:H37) -> 285 | I39: =MAX(I7:I37) -> 81.12 | J39: =MAX(J7:J37) -> 8.7 | K39: =MAX(K7:K37) -> 100000 | L39: =MAX(L7:L37) -> 7 | ... R39: =MAX(R7:R37) -> 29
A40: 최소 | B40: =MIN(B7:B37) -> 3748 | C40: =MIN(C7:C37) -> 3740 | D40: - | E40: =MIN(E7:E37) -> 7.3 | F40: =MIN(F7:F37) -> 173.4 | G40: =MIN(G7:G37) -> 76.09 | H40: =MIN(H7:H37) -> 235 | I40: =MIN(I7:I37) -> 46.02 | J40: =MIN(J7:J37) -> 4.836 | K40: =MIN(K7:K37) -> 65000 | L40: =MIN(L7:L37) -> 6.7 | ... R40: =MIN(R7:R37) -> 17
A41: 설계 | B41: - | C41: - | D41: - | E41: - | F41: 150 | G41: (142.3) | H41: 159.7 | I41: 44.9 | J41: 6.5 | K41: 300000 | L41: - | M41: 4.4 | N41: (18.4) | O41: 2.6 | P41: 13.7 | Q41: 0.43 | R41: 3000
B42: =SUM(B7:B37) -> 148107 | C42: =SUM(C7:C37) -> 146189

Sheet 5월일별(순창)
A2: 순창공공하수처리시설 수질검사결과
A4: 2025년 5월 (시설용량 : 5100㎥/일) | R4: (단위 : ㎎/ℓ, 개/㎖, ㎥/일)
A5: 일자 | B5: 유입량 | C5: 방류량 | D5: 유 입 수 | L5: 방 류 수
D6: 수온 | E6: pH | F6: BOD | G6: TOC | H6: SS | I6: T-N | J6: T-P | K6: 대장균군수 | L6: pH | M6: BOD | N6: TOC | O6: SS | P6: T-N | Q6: T-P | R6: 대장균군수
A7: 1
A8: 2
A9: 3
A10: 4
A11: 5
A12: 6
A13: 7
A14: 8
A15: 9
A16: 10
A17: 11
A18: 12
... A37: 31
A38: 평균 | B38: =AVERAGE(B7:B37) -> #DIV/0! | C38: =AVERAGE(C7:C37) -> #DIV/0! | D38: - | E38: =AVERAGE(E7:E37) -> #DIV/0! | F38: =AVERAGE(F7:F37) -> #DIV/0! | G38: =AVERAGE(G7:G37) -> #DIV/0! | H38: =AVERAGE(H7:H37) -> #DIV/0! | I38: =AVERAGE(I7:I37) -> #DIV/0! | J38: =AVERAGE(J7:J37) -> #DIV/0! | K38: =AVERAGE(K7:K37) -> #DIV/0! | L38: =AVERAGE(L7:L37) -> #DIV/0! | ... R38: =AVERAGE(R7:R37) -> #DIV/0!
A39: 최대 | B39: =MAX(B7:B37) -> 0 | C39: =MAX(C7:C37) -> 0 | D39: - | E39: =MAX(E7:E37) -> 0 | F39: =MAX(F7:F37) -> 0 | G39: =MAX(G7:G37) -> 0 | H39: =MAX(H7:H37) -> 0 | I39: =MAX(I7:I37) -> 0 | J39: =MAX(J7:J37) -> 0 | K39: =MAX(K7:K37) -> 0 | L39: =MAX(L7:L37) -> 0 | ... R39: =MAX(R7:R37) -> 0
A40: 최소 | B40: =MIN(B7:B37) -> 0 | C40: =MIN(C7:C37) -> 0 | D40: - | E40: =MIN(E7:E37) -> 0 | F40: =MIN(F7:F37) -> 0 | G40: =MIN(G7:G37) -> 0 | H40: =MIN(H7:H37) -> 0 | I40: =MIN(I7:I37) -> 0 | J40: =MIN(J7:J37) -> 0 | K40: =MIN(K7:K37) -> 0 | L40: =MIN(L7:L37) -> 0 | ... R40: =MIN(R7:R37) -> 0
A41: 설계 | B41: - | C41: - | D41: - | E41: - | F41: 150 | G41: (142.3) | H41: 159.7 | I41: 44.9 | J41: 6.5 | K41: 300000 | L41: - | M41: 4.4 | N41: (18.4) | O41: 2.6 | P41: 13.7 | Q41: 0.43 | R41: 3000
B42: =SUM(B7:B37) -> 0 | C42: =SUM(C7:C37) -> 0

Sheet 6월일별(순창)
A2: 순창공공하수처리시설 수질검사결과
A4: 2025년 6월 (시설용량 : 5100㎥/일) | R4: (단위 : ㎎/ℓ, 개/㎖, ㎥/일)
A5: 일자 | B5: 유입량 | C5: 방류량 | D5: 유 입 수 | L5: 방 류 수
D6: 수온 | E6: pH | F6: BOD | G6: TOC | H6: SS | I6: T-N | J6: T-P | K6: 대장균군수 | L6: pH | M6: BOD | N6: TOC | O6: SS | P6: T-N | Q6: T-P | R6: 대장균군수
A7: 1
A8: 2
A9: 3
A10: 4
A11: 5
A12: 6
A13: 7
A14: 8
A15: 9
A16: 10
A17: 11
A18: 12
... A36: 30
A38: 평균 | B38: =AVERAGE(B7:B37) -> #DIV/0! | C38: =AVERAGE(C7:C37) -> #DIV/0! | D38: - | E38: =AVERAGE(E7:E37) -> #DIV/0! | F38: =AVERAGE(F7:F37) -> #DIV/0! | G38: =AVERAGE(G7:G37) -> #DIV/0! | H38: =AVERAGE(H7:H37) -> #DIV/0! | I38: =AVERAGE(I7:I37) -> #DIV/0! | J38: =AVERAGE(J7:J37) -> #DIV/0! | K38: =AVERAGE(K7:K37) -> #DIV/0! | L38: =AVERAGE(L7:L37) -> #DIV/0! | ... R38: =AVERAGE(R7:R37) -> #DIV/0!
A39: 최대 | B39: =MAX(B7:B37) -> 0 | C39: =MAX(C7:C37) -> 0 | D39: - | E39: =MAX(E7:E37) -> 0 | F39: =MAX(F7:F37) -> 0 | G39: =MAX(G7:G37) -> 0 | H39: =MAX(H7:H37) -> 0 | I39: =MAX(I7:I37) -> 0 | J39: =MAX(J7:J37) -> 0 | K39: =MAX(K7:K37) -> 0 | L39: =MAX(L7:L37) -> 0 | ... R39: =MAX(R7:R37) -> 0
A40: 최소 | B40: =MIN(B7:B37) -> 0 | C40: =MIN(C7:C37) -> 0 | D40: - | E40: =MIN(E7:E37) -> 0 | F40: =MIN(F7:F37) -> 0 | G40: =MIN(G7:G37) -> 0 | H40: =MIN(H7:H37) -> 0 | I40: =MIN(I7:I37) -> 0 | J40: =MIN(J7:J37) -> 0 | K40: =MIN(K7:K37) -> 0 | L40: =MIN(L7:L37) -> 0 | ... R40: =MIN(R7:R37) -> 0
A41: 설계 | B41: - | C41: - | D41: - | E41: - | F41: 150 | G41: (142.3) | H41: 159.7 | I41: 44.9 | J41: 6.5 | K41: 300000 | L41: - | M41: 4.4 | N41: (18.4) | O41: 2.6 | P41: 13.7 | Q41: 0.43 | R41: 3000
B42: =SUM(B7:B37) -> 0 | C42: =SUM(C7:C37) -> 0

Sheet 7월일별(순창)
A2: 순창공공하수처리시설 수질검사결과
A4: 2025년 7월 (시설용량 : 5100㎥/일) | R4: (단위 : ㎎/ℓ, 개/㎖, ㎥/일)
A5: 일자 | B5: 유입량 | C5: 방류량 | D5: 유 입 수 | L5: 방 류 수
D6: 수온 | E6: pH | F6: BOD | G6: TOC | H6: SS | I6: T-N | J6: T-P | K6: 대장균군수 | L6: pH | M6: BOD | N6: TOC | O6: SS | P6: T-N | Q6: T-P | R6: 대장균군수
A7: 1
A8: 2
A9: 3
A10: 4
A11: 5
A12: 6
A13: 7
A14: 8
A15: 9
A16: 10
A17: 11
A18: 12
... A37: 31
A38: 평균 | B38: =AVERAGE(B7:B37) -> #DIV/0! | C38: =AVERAGE(C7:C37) -> #DIV/0! | D38: - | E38: =AVERAGE(E7:E37) -> #DIV/0! | F38: =AVERAGE(F7:F37) -> #DIV/0! | G38: =AVERAGE(G7:G37) -> #DIV/0! | H38: =AVERAGE(H7:H37) -> #DIV/0! | I38: =AVERAGE(I7:I37) -> #DIV/0! | J38: =AVERAGE(J7:J37) -> #DIV/0! | K38: =AVERAGE(K7:K37) -> #DIV/0! | L38: =AVERAGE(L7:L37) -> #DIV/0! | ... R38: =AVERAGE(R7:R37) -> #DIV/0!
A39: 최대 | B39: =MAX(B7:B37) -> 0 | C39: =MAX(C7:C37) -> 0 | D39: - | E39: =MAX(E7:E37) -> 0 | F39: =MAX(F7:F37) -> 0 | G39: =MAX(G7:G37) -> 0 | H39: =MAX(H7:H37) -> 0 | I39: =MAX(I7:I37) -> 0 | J39: =MAX(J7:J37) -> 0 | K39: =MAX(K7:K37) -> 0 | L39: =MAX(L7:L37) -> 0 | ... R39: =MAX(R7:R37) -> 0
A40: 최소 | B40: =MIN(B7:B37) -> 0 | C40: =MIN(C7:C37) -> 0 | D40: - | E40: =MIN(E7:E37) -> 0 | F40: =MIN(F7:F37) -> 0 | G40: =MIN(G7:G37) -> 0 | H40: =MIN(H7:H37) -> 0 | I40: =MIN(I7:I37) -> 0 | J40: =MIN(J7:J37) -> 0 | K40: =MIN(K7:K37) -> 0 | L40: =MIN(L7:L37) -> 0 | ... R40: =MIN(R7:R37) -> 0
A41: 설계 | B41: - | C41: - | D41: - | E41: - | F41: 150 | G41: (142.3) | H41: 159.7 | I41: 44.9 | J41: 6.5 | K41: 300000 | L41: - | M41: 4.4 | N41: (18.4) | O41: 2.6 | P41: 13.7 | Q41: 0.43 | R41: 3000
B42: =SUM(B7:B37) -> 0 | C42: =SUM(C7:C37) -> 0

Sheet 8월일별(순창)
A2: 순창공공하수처리시설 수질검사결과
A4: 2025년 8월 (시설용량 : 5100㎥/일) | R4: (단위 : ㎎/ℓ, 개/㎖, ㎥/일)
A5: 일자 | B5: 유입량 | C5: 방류량 | D5: 유 입 수 | L5: 방 류 수
D6: 수온 | E6: pH | F6: BOD | G6: TOC | H6: SS | I6: T-N | J6: T-P | K6: 대장균군수 | L6: pH | M6: BOD | N6: TOC | O6: SS | P6: T-N | Q6: T-P | R6: 대장균군수
A7: 1
A8: 2
A9: 3
A10: 4
A11: 5
A12: 6
A13: 7
A14: 8
A15: 9
A16: 10
A17: 11
A18: 12
... A37: 31
A38: 평균 | B38: =AVERAGE(B7:B37) -> #DIV/0! | C38: =AVERAGE(C7:C37) -> #DIV/0! | D38: - | E38: =AVERAGE(E7:E37) -> #DIV/0! | F38: =AVERAGE(F7:F37) -> #DIV/0! | G38: =AVERAGE(G7:G37) -> #DIV/0! | H38: =AVERAGE(H7:H37) -> #DIV/0! | I38: =AVERAGE(I7:I37) -> #DIV/0! | J38: =AVERAGE(J7:J37) -> #DIV/0! | K38: =AVERAGE(K7:K37) -> #DIV/0! | L38: =AVERAGE(L7:L37) -> #DIV/0! | ... R38: =AVERAGE(R7:R37) -> #DIV/0!
A39: 최대 | B39: =MAX(B7:B37) -> 0 | C39: =MAX(C7:C37) -> 0 | D39: - | E39: =MAX(E7:E37) -> 0 | F39: =MAX(F7:F37) -> 0 | G39: =MAX(G7:G37) -> 0 | H39: =MAX(H7:H37) -> 0 | I39: =MAX(I7:I37) -> 0 | J39: =MAX(J7:J37) -> 0 | K39: =MAX(K7:K37) -> 0 | L39: =MAX(L7:L37) -> 0 | ... R39: =MAX(R7:R37) -> 0
A40: 최소 | B40: =MIN(B7:B37) -> 0 | C40: =MIN(C7:C37) -> 0 | D40: - | E40: =MIN(E7:E37) -> 0 | F40: =MIN(F7:F37) -> 0 | G40: =MIN(G7:G37) -> 0 | H40: =MIN(H7:H37) -> 0 | I40: =MIN(I7:I37) -> 0 | J40: =MIN(J7:J37) -> 0 | K40: =MIN(K7:K37) -> 0 | L40: =MIN(L7:L37) -> 0 | ... R40: =MIN(R7:R37) -> 0
A41: 설계 | B41: - | C41: - | D41: - | E41: - | F41: 150 | G41: (142.3) | H41: 159.7 | I41: 44.9 | J41: 6.5 | K41: 300000 | L41: - | M41: 4.4 | N41: (18.4) | O41: 2.6 | P41: 13.7 | Q41: 0.43 | R41: 3000
B42: =SUM(B7:B37) -> 0 | C42: =SUM(C7:C37) -> 0

Sheet 9월일별(순창)
A2: 순창공공하수처리시설 수질검사결과
A4: 2025년 9월 (시설용량 : 5100㎥/일) | R4: (단위 : ㎎/ℓ, 개/㎖, ㎥/일)
A5: 일자 | B5: 유입량 | C5: 방류량 | D5: 유 입 수 | L5: 방 류 수
D6: 수온 | E6: pH | F6: BOD | G6: TOC | H6: SS | I6: T-N | J6: T-P | K6: 대장균군수 | L6: pH | M6: BOD | N6: TOC | O6: SS | P6: T-N | Q6: T-P | R6: 대장균군수
A7: 1
A8: 2
A9: 3
A10: 4
A11: 5
A12: 6
A13: 7
A14: 8
A15: 9
A16: 10
A17: 11
A18: 12
... A36: 30
A38: 평균 | B38: =AVERAGE(B7:B37) -> #DIV/0! | C38: =AVERAGE(C7:C37) -> #DIV/0! | D38: - | E38: =AVERAGE(E7:E37) -> #DIV/0! | F38: =AVERAGE(F7:F37) -> #DIV/0! | G38: =AVERAGE(G7:G37) -> #DIV/0! | H38: =AVERAGE(H7:H37) -> #DIV/0! | I38: =AVERAGE(I7:I37) -> #DIV/0! | J38: =AVERAGE(J7:J37) -> #DIV/0! | K38: =AVERAGE(K7:K37) -> #DIV/0! | L38: =AVERAGE(L7:L37) -> #DIV/0! | ... R38: =AVERAGE(R7:R37) -> #DIV/0!
A39: 최대 | B39: =MAX(B7:B37) -> 0 | C39: =MAX(C7:C37) -> 0 | D39: - | E39: =MAX(E7:E37) -> 0 | F39: =MAX(F7:F37) -> 0 | G39: =MAX(G7:G37) -> 0 | H39: =MAX(H7:H37) -> 0 | I39: =MAX(I7:I37) -> 0 | J39: =MAX(J7:J37) -> 0 | K39: =MAX(K7:K37) -> 0 | L39: =MAX(L7:L37) -> 0 | ... R39: =MAX(R7:R37) -> 0
A40: 최소 | B40: =MIN(B7:B37) -> 0 | C40: =MIN(C7:C37) -> 0 | D40: - | E40: =MIN(E7:E37) -> 0 | F40: =MIN(F7:F37) -> 0 | G40: =MIN(G7:G37) -> 0 | H40: =MIN(H7:H37) -> 0 | I40: =MIN(I7:I37) -> 0 | J40: =MIN(J7:J37) -> 0 | K40: =MIN(K7:K37) -> 0 | L40: =MIN(L7:L37) -> 0 | ... R40: =MIN(R7:R37) -> 0
A41: 설계 | B41: - | C41: - | D41: - | E41: - | F41: 150 | G41: (142.3) | H41: 159.7 | I41: 44.9 | J41: 6.5 | K41: 300000 | L41: - | M41: 4.4 | N41: (18.4) | O41: 2.6 | P41: 13.7 | Q41: 0.43 | R41: 3000
B42: =SUM(B7:B37) -> 0 | C42: =SUM(C7:C37) -> 0

Sheet 10월일별(순창)
A2: 순창공공하수처리시설 수질검사결과
A4: 2025년 10월 (시설용량 : 5100㎥/일) | R4: (단위 : ㎎/ℓ, 개/㎖, ㎥/일)
A5: 일자 | B5: 유입량 | C5: 방류량 | D5: 유 입 수 | L5: 방 류 수
D6: 수온 | E6: pH | F6: BOD | G6: TOC | H6: SS | I6: T-N | J6: T-P | K6: 대장균군수 | L6: pH | M6: BOD | N6: TOC | O6: SS | P6: T-N | Q6: T-P | R6: 대장균군수
A7: 1
A8: 2
A9: 3
A10: 4
A11: 5
A12: 6
A13: 7
A14: 8
A15: 9
A16: 10
A17: 11
A18: 12
... A37: 31
A38: 평균 | B38: =AVERAGE(B7:B37) -> #DIV/0! | C38: =AVERAGE(C7:C37) -> #DIV/0! | D38: - | E38: =AVERAGE(E7:E37) -> #DIV/0! | F38: =AVERAGE(F7:F37) -> #DIV/0! | G38: =AVERAGE(G7:G37) -> #DIV/0! | H38: =AVERAGE(H7:H37) -> #DIV/0! | I38: =AVERAGE(I7:I37) -> #DIV/0! | J38: =AVERAGE(J7:J37) -> #DIV/0! | K38: =AVERAGE(K7:K37) -> #DIV/0! | L38: =AVERAGE(L7:L37) -> #DIV/0! | ... R38: =AVERAGE(R7:R37) -> #DIV/0!
A39: 최대 | B39: =MAX(B7:B37) -> 0 | C39: =MAX(C7:C37) -> 0 | D39: - | E39: =MAX(E7:E37) -> 0 | F39: =MAX(F7:F37) -> 0 | G39: =MAX(G7:G37) -> 0 | H39: =MAX(H7:H37) -> 0 | I39: =MAX(I7:I37) -> 0 | J39: =MAX(J7:J37) -> 0 | K39: =MAX(K7:K37) -> 0 | L39: =MAX(L7:L37) -> 0 | ... R39: =MAX(R7:R37) -> 0
A40: 최소 | B40: =MIN(B7:B37) -> 0 | C40: =MIN(C7:C37) -> 0 | D40: - | E40: =MIN(E7:E37) -> 0 | F40: =MIN(F7:F37) -> 0 | G40: =MIN(G7:G37) -> 0 | H40: =MIN(H7:H37) -> 0 | I40: =MIN(I7:I37) -> 0 | J40: =MIN(J7:J37) -> 0 | K40: =MIN(K7:K37) -> 0 | L40: =MIN(L7:L37) -> 0 | ... R40: =MIN(R7:R37) -> 0
A41: 설계 | B41: - | C41: - | D41: - | E41: - | F41: 150 | G41: (142.3) | H41: 159.7 | I41: 44.9 | J41: 6.5 | K41: 300000 | L41: - | M41: 4.4 | N41: (18.4) | O41: 2.6 | P41: 13.7 | Q41: 0.43 | R41: 3000
B42: =SUM(B7:B37) -> 0 | C42: =SUM(C7:C37) -> 0

Sheet 11월일별(순창)
A2: 순창공공하수처리시설 수질검사결과
A4: 2025년 11월 (시설용량 : 5100㎥/일) | R4: (단위 : ㎎/ℓ, 개/㎖, ㎥/일)
A5: 일자 | B5: 유입량 | C5: 방류량 | D5: 유 입 수 | L5: 방 류 수
D6: 수온 | E6: pH | F6: BOD | G6: TOC | H6: SS | I6: T-N | J6: T-P | K6: 대장균군수 | L6: pH | M6: BOD | N6: TOC | O6: SS | P6: T-N | Q6: T-P | R6: 대장균군수
A7: 1
A8: 2
A9: 3
A10: 4
A11: 5
A12: 6
A13: 7
A14: 8
A15: 9
A16: 10
A17: 11
A18: 12
... A36: 30
A38: 평균 | B38: =AVERAGE(B7:B37) -> #DIV/0! | C38: =AVERAGE(C7:C37) -> #DIV/0! | D38: - | E38: =AVERAGE(E7:E37) -> #DIV/0! | F38: =AVERAGE(F7:F37) -> #DIV/0! | G38: =AVERAGE(G7:G37) -> #DIV/0! | H38: =AVERAGE(H7:H37) -> #DIV/0! | I38: =AVERAGE(I7:I37) -> #DIV/0! | J38: =AVERAGE(J7:J37) -> #DIV/0! | K38: =AVERAGE(K7:K37) -> #DIV/0! | L38: =AVERAGE(L7:L37) -> #DIV/0! | ... R38: =AVERAGE(R7:R37) -> #DIV/0!
A39: 최대 | B39: =MAX(B7:B37) -> 0 | C39: =MAX(C7:C37) -> 0 | D39: - | E39: =MAX(E7:E37) -> 0 | F39: =MAX(F7:F37) -> 0 | G39: =MAX(G7:G37) -> 0 | H39: =MAX(H7:H37) -> 0 | I39: =MAX(I7:I37) -> 0 | J39: =MAX(J7:J37) -> 0 | K39: =MAX(K7:K37) -> 0 | L39: =MAX(L7:L37) -> 0 | ... R39: =MAX(R7:R37) -> 0
A40: 최소 | B40: =MIN(B7:B37) -> 0 | C40: =MIN(C7:C37) -> 0 | D40: - | E40: =MIN(E7:E37) -> 0 | F40: =MIN(F7:F37) -> 0 | G40: =MIN(G7:G37) -> 0 | H40: =MIN(H7:H37) -> 0 | I40: =MIN(I7:I37) -> 0 | J40: =MIN(J7:J37) -> 0 | K40: =MIN(K7:K37) -> 0 | L40: =MIN(L7:L37) -> 0 | ... R40: =MIN(R7:R37) -> 0
A41: 설계 | B41: - | C41: - | D41: - | E41: - | F41: 150 | G41: (142.3) | H41: 159.7 | I41: 44.9 | J41: 6.5 | K41: 300000 | L41: - | M41: 4.4 | N41: (18.4) | O41: 2.6 | P41: 13.7 | Q41: 0.43 | R41: 3000
B42: =SUM(B7:B37) -> 0 | C42: =SUM(C7:C37) -> 0

Sheet 12월일별(순창)
A2: 순창공공하수처리시설 수질검사결과
A4: 2025년 12월 (시설용량 : 5100㎥/일) | R4: (단위 : ㎎/ℓ, 개/㎖, ㎥/일)
A5: 일자 | B5: 유입량 | C5: 방류량 | D5: 유 입 수 | L5: 방 류 수
D6: 수온 | E6: pH | F6: BOD | G6: TOC | H6: SS | I6: T-N | J6: T-P | K6: 대장균군수 | L6: pH | M6: BOD | N6: TOC | O6: SS | P6: T-N | Q6: T-P | R6: 대장균군수
A7: 1
A8: 2
A9: 3
A10: 4
A11: 5
A12: 6
A13: 7
A14: 8
A15: 9
A16: 10
A17: 11
A18: 12
... A37: 31
A38: 평균 | B38: =AVERAGE(B7:B37) -> #DIV/0! | C38: =AVERAGE(C7:C37) -> #DIV/0! | D38: - | E38: =AVERAGE(E7:E37) -> #DIV/0! | F38: =AVERAGE(F7:F37) -> #DIV/0! | G38: =AVERAGE(G7:G37) -> #DIV/0! | H38: =AVERAGE(H7:H37) -> #DIV/0! | I38: =AVERAGE(I7:I37) -> #DIV/0! | J38: =AVERAGE(J7:J37) -> #DIV/0! | K38: =AVERAGE(K7:K37) -> #DIV/0! | L38: =AVERAGE(L7:L37) -> #DIV/0! | ... R38: =AVERAGE(R7:R37) -> #DIV/0!
A39: 최대 | B39: =MAX(B7:B37) -> 0 | C39: =MAX(C7:C37) -> 0 | D39: - | E39: =MAX(E7:E37) -> 0 | F39: =MAX(F7:F37) -> 0 | G39: =MAX(G7:G37) -> 0 | H39: =MAX(H7:H37) -> 0 | I39: =MAX(I7:I37) -> 0 | J39: =MAX(J7:J37) -> 0 | K39: =MAX(K7:K37) -> 0 | L39: =MAX(L7:L37) -> 0 | ... R39: =MAX(R7:R37) -> 0
A40: 최소 | B40: =MIN(B7:B37) -> 0 | C40: =MIN(C7:C37) -> 0 | D40: - | E40: =MIN(E7:E37) -> 0 | F40: =MIN(F7:F37) -> 0 | G40: =MIN(G7:G37) -> 0 | H40: =MIN(H7:H37) -> 0 | I40: =MIN(I7:I37) -> 0 | J40: =MIN(J7:J37) -> 0 | K40: =MIN(K7:K37) -> 0 | L40: =MIN(L7:L37) -> 0 | ... R40: =MIN(R7:R37) -> 0
A41: 설계 | B41: - | C41: - | D41: - | E41: - | F41: 150 | G41: (142.3) | H41: 159.7 | I41: 44.9 | J41: 6.5 | K41: 300000 | L41: - | M41: 4.4 | N41: (18.4) | O41: 2.6 | P41: 13.7 | Q41: 0.43 | R41: 3000
B42: =SUM(B7:B37) -> 0 | C42: =SUM(C7:C37) -> 0

Sheet 월별취합
B1: 순창공공하수처리시설 수질검사 결과 (2025년)
B3: 시군명 (시설명) | C3: 시설 용량 (㎥/일) | D3: 월별 | E3: 구분 | F3: 유 입 수 (㎎/ℓ) | L3: 방 류 수 (㎎/ℓ) | R3: 유입량 (㎥/일) | S3: 방류량 (㎥/일)
F4: BOD | G4: TOC | H4: SS | I4: T-N | J4: T-P | K4: 대장균군수 (개/㎖) | L4: BOD | M4: TOC | N4: SS | O4: T-N | P4: T-P | Q4: 대장균군수 (개/㎖)
B6: 순창 하수 | C6: 5100 | D6: 계 | E6: 누계 | R6: =SUM(R10,R14,R18,R22,R26,R30,R34,R38,R42,R46,R50,R54) -> 535889 | S6: =SUM(S10,S14,S18,S22,S26,S30,S34,S38,S42,S46,S50,S54) -> 502794
E7: 평균 | F7: =AVERAGE(F11,F15,F19,F23,F27,F31,F35,F39,F43,F47,F51,F55) -> #DIV/0! | G7: =AVERAGE(G11,G15,G19,G23,G27,G31,G35,G39,G43,G47,G51,G55) -> #DIV/0! | H7: =AVERAGE(H11,H15,H19,H23,H27,H31,H35,H39,H43,H47,H51,H55) -> #DIV/0! | I7: =AVERAGE(I11,I15,I19,I23,I27,I31,I35,I39,I43,I47,I51,I55) -> #DIV/0! | J7: =AVERAGE(J11,J15,J19,J23,J27,J31,J35,J39,J43,J47,J51,J55) -> #DIV/0! | K7: =AVERAGE(K11,K15,K19,K23,K27,K31,K35,K39,K43,K47,K51,K55) -> #DIV/0! | L7: =AVERAGE(L11,L15,L19,L23,L27,L31,L35,L39,L43,L47,L51,L55) -> #DIV/0! | M7: =AVERAGE(M11,M15,M19,M23,M27,M31,M35,M39,M43,M47,M51,M55) -> #DIV/0! | ... S7: =AVERAGE(S11,S15,S19,S23,S27,S31,S35,S39,S43,S47,S51,S55) -> #DIV/0!
E8: 최대 | F8: =MAX(F12,F16,F20,F24,F28,F32,F36,F40,F44,F48,F52,F56) -> 285.6 | G8: =MAX(G12,G16,G20,G24,G28,G32,G36,G40,G44,G48,G52,G56) -> 213.447 | H8: =MAX(H12,H16,H20,H24,H28,H32,H36,H40,H44,H48,H52,H56) -> 300 | I8: =MAX(I12,I16,I20,I24,I28,I32,I36,I40,I44,I48,I52,I56) -> 81.12 | J8: =MAX(J12,J16,J20,J24,J28,J32,J36,J40,J44,J48,J52,J56) -> 8.7 | K8: =MAX(K12,K16,K20,K24,K28,K32,K36,K40,K44,K48,K52,K56) -> 280000 | L8: =MAX(L12,L16,L20,L24,L28,L32,L36,L40,L44,L48,L52,L56) -> 5.9 | M8: =MAX(M12,M16,M20,M24,M28,M32,M36,M40,M44,M48,M52,M56) -> 8.985 | ... S8: =MAX(S12,S16,S20,S24,S28,S32,S36,S40,S44,S48,S52,S56) -> 6025
E9: 최소 | F9: =MIN(F13,F17,F21,F25,F29,F33,F37,F41,F45,F49,F53,F57) -> 0 | G9: =MIN(G13,G17,G21,G25,G29,G33,G37,G41,G45,G49,G53,G57) -> 0 | H9: =MIN(H13,H17,H21,H25,H29,H33,H37,H41,H45,H49,H53,H57) -> 0 | I9: =MIN(I13,I17,I21,I25,I29,I33,I37,I41,I45,I49,I53,I57) -> 0 | J9: =MIN(J13,J17,J21,J25,J29,J33,J37,J41,J45,J49,J53,J57) -> 0 | K9: =MIN(K13,K17,K21,K25,K29,K33,K37,K41,K45,K49,K53,K57) -> 0 | L9: =MIN(L13,L17,L21,L25,L29,L33,L37,L41,L45,L49,L53,L57) -> 0 | M9: =MIN(M13,M17,M21,M25,M29,M33,M37,M41,M45,M49,M53,M57) -> 0 | ... P9: =MIN(P13,P17,P21,P25,P29,P33,P37,P41,P45,P49,P53,P57) -> 0 | Q9: 0 | R9: =MIN(R13,R17,R21,R25,R29,R33,R37,R41,R45,R49,R53,R57) -> 0 | S9: =MIN(S13,S17,S21,S25,S29,S33,S37,S41,S45,S49,S53,S57) -> 0
D10: 1월 | E10: 누계 | R10: ='1월일별(순창)'!B$42 -> 137821 | S10: ='1월일별(순창)'!C$42 -> 121318
E11: 평균 | F11: ='1월일별(순창)'!F$38 -> 251.59355 | G11: ='1월일별(순창)'!G$38 -> 94.658065 | H11: ='1월일별(순창)'!H$38 -> 237.09677 | I11: ='1월일별(순창)'!I$38 -> 56.893548 | J11: ='1월일별(순창)'!J$38 -> 5.828129 | K11: ='1월일별(순창)'!K$38 -> 60096.774 | L11: ='1월일별(순창)'!M$38 -> 5.2806452 | M11: ='1월일별(순창)'!N$38 -> 4.1322581 | N11: ='1월일별(순창)'!O$38 -> 6.1032258 | O11: ='1월일별(순창)'!P$38 -> 12.388548 | P11: ='1월일별(순창)'!Q$38 -> 0.11403226 | Q11: ='1월일별(순창)'!R$38 -> 20.290323 | R11: ='1월일별(순창)'!B$38 -> 4445.8387 | S11: ='1월일별(순창)'!C$38 -> 3913.4839
E12: 최대 | F12: ='1월일별(순창)'!F$39 -> 274.2 | G12: ='1월일별(순창)'!G$39 -> 131.7 | H12: ='1월일별(순창)'!H$39 -> 285 | I12: ='1월일별(순창)'!I$39 -> 58.68 | J12: ='1월일별(순창)'!J$39 -> 6.06 | K12: ='1월일별(순창)'!K$39 -> 280000 | L12: ='1월일별(순창)'!M$39 -> 5.9 | M12: ='1월일별(순창)'!N$39 -> 8.9 | N12: ='1월일별(순창)'!O$39 -> 6.4 | O12: ='1월일별(순창)'!P$39 -> 13.068 | P12: ='1월일별(순창)'!Q$39 -> 0.146 | Q12: ='1월일별(순창)'!R$39 -> 38 | R12: ='1월일별(순창)'!B$39 -> 5655 | S12: ='1월일별(순창)'!C$39 -> 4582
E13: 최소 | F13: ='1월일별(순창)'!F$40 -> 226.2 | G13: ='1월일별(순창)'!G$40 -> 66.6 | H13: ='1월일별(순창)'!H$40 -> 120 | I13: ='1월일별(순창)'!I$40 -> 53.34 | J13: ='1월일별(순창)'!J$40 -> 5.16 | K13: ='1월일별(순창)'!K$40 -> 13000 | L13: ='1월일별(순창)'!M$40 -> 4.8 | M13: ='1월일별(순창)'!N$40 -> 1 | N13: ='1월일별(순창)'!O$40 -> 5.7 | O13: ='1월일별(순창)'!P$40 -> 10.387 | P13: ='1월일별(순창)'!Q$40 -> 0.084 | Q13: ='1월일별(순창)'!R$40 -> 11 | R13: ='1월일별(순창)'!B$40 -> 3497 | S13: ='1월일별(순창)'!C$40 -> 2387
D14: 2월 | E14: 누계 | R14: ='2월일별(순창)'!B$42 -> 111786 | S14: ='2월일별(순창)'!C$42 -> 99623
E15: 평균 | F15: ='2월일별(순창)'!F$38 -> 170.35714 | G15: ='2월일별(순창)'!G$38 -> 78.621429 | H15: ='2월일별(순창)'!H$38 -> 279.64286 | I15: ='2월일별(순창)'!I$38 -> 64.656 | J15: ='2월일별(순창)'!J$38 -> 6.0527143 | K15: ='2월일별(순창)'!K$38 -> 45214.286 | L15: ='2월일별(순창)'!M$38 -> 4.6607143 | M15: ='2월일별(순창)'!N$38 -> 3.7607143 | N15: ='2월일별(순창)'!O$38 -> 5.8464286 | O15: ='2월일별(순창)'!P$38 -> 10.003286 | P15: ='2월일별(순창)'!Q$38 -> 0.067071429 | Q15: ='2월일별(순창)'!R$38 -> 22.892857 | R15: ='2월일별(순창)'!B$38 -> 3992.3571 | S15: ='2월일별(순창)'!C$38 -> 3557.9643
E16: 최대 | F16: ='2월일별(순창)'!F$39 -> 270 | G16: ='2월일별(순창)'!G$39 -> 120.5 | H16: ='2월일별(순창)'!H$39 -> 300 | I16: ='2월일별(순창)'!I$39 -> 69.984 | J16: ='2월일별(순창)'!J$39 -> 7.332 | K16: ='2월일별(순창)'!K$39 -> 140000 | L16: ='2월일별(순창)'!M$39 -> 5.8 | M16: ='2월일별(순창)'!N$39 -> 5.5 | N16: ='2월일별(순창)'!O$39 -> 6.3 | O16: ='2월일별(순창)'!P$39 -> 12.828 | P16: ='2월일별(순창)'!Q$39 -> 0.104 | Q16: ='2월일별(순창)'!R$39 -> 28 | R16: ='2월일별(순창)'!B$39 -> 4678 | S16: ='2월일별(순창)'!C$39 -> 4665
E17: 최소 | F17: ='2월일별(순창)'!F$40 -> 145.5 | G17: ='2월일별(순창)'!G$40 -> 55.6 | H17: ='2월일별(순창)'!H$40 -> 260 | I17: ='2월일별(순창)'!I$40 -> 55.8 | J17: ='2월일별(순창)'!J$40 -> 5.76 | K17: ='2월일별(순창)'!K$40 -> 32000 | L17: ='2월일별(순창)'!M$40 -> 4.2 | M17: ='2월일별(순창)'!N$40 -> 2.5 | N17: ='2월일별(순창)'!O$40 -> 4.9 | O17: ='2월일별(순창)'!P$40 -> 8.928 | P17: ='2월일별(순창)'!Q$40 -> 0.034 | Q17: ='2월일별(순창)'!R$40 -> 21 | R17: ='2월일별(순창)'!B$40 -> 3254 | S17: ='2월일별(순창)'!C$40 -> 2054
D18: 3월 | E18: 누계 | R18: ='3월일별(순창)'!B$42 -> 138175 | S18: ='3월일별(순창)'!C$42 -> 135664
E19: 평균 | F19: ='3월일별(순창)'!F$38 -> 149.86452 | G19: ='3월일별(순창)'!G$38 -> 76.506452 | H19: ='3월일별(순창)'!H$38 -> 277.74194 | I19: ='3월일별(순창)'!I$38 -> 66.072968 | J19: ='3월일별(순창)'!J$38 -> 6.0420968 | K19: ='3월일별(순창)'!K$38 -> 69064.516 | L19: ='3월일별(순창)'!M$38 -> 4.4322581 | M19: ='3월일별(순창)'!N$38 -> 3.5064516 | N19: ='3월일별(순창)'!O$38 -> 5.8612903 | O19: ='3월일별(순창)'!P$38 -> 8.8040968 | P19: ='3월일별(순창)'!Q$38 -> 0.079451613 | Q19: ='3월일별(순창)'!R$38 -> 23.645161 | R19: ='3월일별(순창)'!B$38 -> 4457.2581 | S19: ='3월일별(순창)'!C$38 -> 4376.2581
E20: 최대 | F20: ='3월일별(순창)'!F$39 -> 154.8 | G20: ='3월일별(순창)'!G$39 -> 114.2 | H20: ='3월일별(순창)'!H$39 -> 300 | I20: ='3월일별(순창)'!I$39 -> 80.832 | J20: ='3월일별(순창)'!J$39 -> 6.826 | K20: ='3월일별(순창)'!K$39 -> 210000 | L20: ='3월일별(순창)'!M$39 -> 4.8 | M20: ='3월일별(순창)'!N$39 -> 5.9 | N20: ='3월일별(순창)'!O$39 -> 6.3 | O20: ='3월일별(순창)'!P$39 -> 10.867 | P20: ='3월일별(순창)'!Q$39 -> 0.282 | Q20: ='3월일별(순창)'!R$39 -> 29 | R20: ='3월일별(순창)'!B$39 -> 5250 | S20: ='3월일별(순창)'!C$39 -> 5236
E21: 최소 | F21: ='3월일별(순창)'!F$40 -> 144.3 | G21: ='3월일별(순창)'!G$40 -> 49.8 | H21: ='3월일별(순창)'!H$40 -> 255 | I21: ='3월일별(순창)'!I$40 -> 54.18 | J21: ='3월일별(순창)'!J$40 -> 5.268 | K21: ='3월일별(순창)'!K$40 -> 44000 | L21: ='3월일별(순창)'!M$40 -> 4.1 | M21: ='3월일별(순창)'!N$40 -> 2 | N21: ='3월일별(순창)'!O$40 -> 5.5 | O21: ='3월일별(순창)'!P$40 -> 6.312 | P21: ='3월일별(순창)'!Q$40 -> 0.01 | Q21: ='3월일별(순창)'!R$40 -> 20 | R21: ='3월일별(순창)'!B$40 -> 3664 | S21: ='3월일별(순창)'!C$40 -> 3525
D22: 4월 | E22: 누계 | R22: ='4월일별(순창)'!B$42 -> 148107 | S22: ='4월일별(순창)'!C$42 -> 146189
E23: 평균 | F23: ='4월일별(순창)'!F$38 -> 246.79 | G23: ='4월일별(순창)'!G$38 -> 129.79023 | H23: ='4월일별(순창)'!H$38 -> 262.16667 | I23: ='4월일별(순창)'!I$38 -> 64.1968 | J23: ='4월일별(순창)'!J$38 -> 6.6232 | K23: ='4월일별(순창)'!K$38 -> 82400 | L23: ='4월일별(순창)'!M$38 -> 3.3266667 | M23: ='4월일별(순창)'!N$38 -> 4.2074467 | N23: ='4월일별(순창)'!O$38 -> 4.4766667 | O23: ='4월일별(순창)'!P$38 -> 7.2162 | P23: ='4월일별(순창)'!Q$38 -> 0.16106667 | Q23: ='4월일별(순창)'!R$38 -> 23.4 | R23: ='4월일별(순창)'!B$38 -> 4936.9 | S23: ='4월일별(순창)'!C$38 -> 4872.9667
E24: 최대 | F24: ='4월일별(순창)'!F$39 -> 285.6 | G24: ='4월일별(순창)'!G$39 -> 213.447 | H24: ='4월일별(순창)'!H$39 -> 285 | I24: ='4월일별(순창)'!I$39 -> 81.12 | J24: ='4월일별(순창)'!J$39 -> 8.7 | K24: ='4월일별(순창)'!K$39 -> 100000 | L24: ='4월일별(순창)'!M$39 -> 4.7 | M24: ='4월일별(순창)'!N$39 -> 8.985 | N24: ='4월일별(순창)'!O$39 -> 5.9 | O24: ='4월일별(순창)'!P$39 -> 9.35 | P24: ='4월일별(순창)'!Q$39 -> 0.295 | Q24: ='4월일별(순창)'!R$39 -> 29 | R24: ='4월일별(순창)'!B$39 -> 6109 | S24: ='4월일별(순창)'!C$39 -> 6025
E25: 최소 | F25: ='4월일별(순창)'!F$40 -> 173.4 | G25: ='4월일별(순창)'!G$40 -> 76.09 | H25: ='4월일별(순창)'!H$40 -> 235 | I25: ='4월일별(순창)'!I$40 -> 46.02 | J25: ='4월일별(순창)'!J$40 -> 4.836 | K25: ='4월일별(순창)'!K$40 -> 65000 | L25: ='4월일별(순창)'!M$40 -> 2.5 | M25: ='4월일별(순창)'!N$40 -> 1.999 | N25: ='4월일별(순창)'!O$40 -> 3.3 | O25: ='4월일별(순창)'!P$40 -> 5.142 | P25: ='4월일별(순창)'!Q$40 -> 0.02 | Q25: ='4월일별(순창)'!R$40 -> 17 | R25: ='4월일별(순창)'!B$40 -> 3748 | S25: ='4월일별(순창)'!C$40 -> 3740
D26: 5월 | E26: 누계 | R26: ='5월일별(순창)'!B$42 -> 0 | S26: ='5월일별(순창)'!C$42 -> 0
E27: 평균 | F27: ='5월일별(순창)'!F$38 -> #DIV/0! | G27: ='5월일별(순창)'!G$38 -> #DIV/0! | H27: ='5월일별(순창)'!H$38 -> #DIV/0! | I27: ='5월일별(순창)'!I$38 -> #DIV/0! | J27: ='5월일별(순창)'!J$38 -> #DIV/0! | K27: ='5월일별(순창)'!K$38 -> #DIV/0! | L27: ='5월일별(순창)'!M$38 -> #DIV/0! | M27: ='5월일별(순창)'!N$38 -> #DIV/0! | N27: ='5월일별(순창)'!O$38 -> #DIV/0! | O27: ='5월일별(순창)'!P$38 -> #DIV/0! | P27: ='5월일별(순창)'!Q$38 -> #DIV/0! | Q27: ='5월일별(순창)'!R$38 -> #DIV/0! | R27: ='5월일별(순창)'!B$38 -> #DIV/0! | S27: ='5월일별(순창)'!C$38 -> #DIV/0!
E28: 최대 | F28: ='5월일별(순창)'!F$39 -> 0 | G28: ='5월일별(순창)'!G$39 -> 0 | H28: ='5월일별(순창)'!H$39 -> 0 | I28: ='5월일별(순창)'!I$39 -> 0 | J28: ='5월일별(순창)'!J$39 -> 0 | K28: ='5월일별(순창)'!K$39 -> 0 | L28: ='5월일별(순창)'!M$39 -> 0 | M28: ='5월일별(순창)'!N$39 -> 0 | N28: ='5월일별(순창)'!O$39 -> 0 | O28: ='5월일별(순창)'!P$39 -> 0 | P28: ='5월일별(순창)'!Q$39 -> 0 | Q28: ='5월일별(순창)'!R$39 -> 0 | R28: ='5월일별(순창)'!B$39 -> 0 | S28: ='5월일별(순창)'!C$39 -> 0
E29: 최소 | F29: ='5월일별(순창)'!F$40 -> 0 | G29: ='5월일별(순창)'!G$40 -> 0 | H29: ='5월일별(순창)'!H$40 -> 0 | I29: ='5월일별(순창)'!I$40 -> 0 | J29: ='5월일별(순창)'!J$40 -> 0 | K29: ='5월일별(순창)'!K$40 -> 0 | L29: ='5월일별(순창)'!M$40 -> 0 | M29: ='5월일별(순창)'!N$40 -> 0 | N29: ='5월일별(순창)'!O$40 -> 0 | O29: ='5월일별(순창)'!P$40 -> 0 | P29: ='5월일별(순창)'!Q$40 -> 0 | Q29: ='5월일별(순창)'!R$40 -> 0 | R29: ='5월일별(순창)'!B$40 -> 0 | S29: ='5월일별(순창)'!C$40 -> 0
D30: 6월 | E30: 누계 | R30: ='6월일별(순창)'!B$42 -> 0 | S30: ='6월일별(순창)'!C$42 -> 0
E31: 평균 | F31: ='6월일별(순창)'!F$38 -> #DIV/0! | G31: ='6월일별(순창)'!G$38 -> #DIV/0! | H31: ='6월일별(순창)'!H$38 -> #DIV/0! | I31: ='6월일별(순창)'!I$38 -> #DIV/0! | J31: ='6월일별(순창)'!J$38 -> #DIV/0! | K31: ='6월일별(순창)'!K$38 -> #DIV/0! | L31: ='6월일별(순창)'!M$38 -> #DIV/0! | M31: ='6월일별(순창)'!N$38 -> #DIV/0! | N31: ='6월일별(순창)'!O$38 -> #DIV/0! | O31: ='6월일별(순창)'!P$38 -> #DIV/0! | P31: ='6월일별(순창)'!Q$38 -> #DIV/0! | Q31: ='6월일별(순창)'!R$38 -> #DIV/0! | R31: ='6월일별(순창)'!B$38 -> #DIV/0! | S31: ='6월일별(순창)'!C$38 -> #DIV/0!
E32: 최대 | F32: ='6월일별(순창)'!F$39 -> 0 | G32: ='6월일별(순창)'!G$39 -> 0 | H32: ='6월일별(순창)'!H$39 -> 0 | I32: ='6월일별(순창)'!I$39 -> 0 | J32: ='6월일별(순창)'!J$39 -> 0 | K32: ='6월일별(순창)'!K$39 -> 0 | L32: ='6월일별(순창)'!M$39 -> 0 | M32: ='6월일별(순창)'!N$39 -> 0 | N32: ='6월일별(순창)'!O$39 -> 0 | O32: ='6월일별(순창)'!P$39 -> 0 | P32: ='6월일별(순창)'!Q$39 -> 0 | Q32: ='6월일별(순창)'!R$39 -> 0 | R32: ='6월일별(순창)'!B$39 -> 0 | S32: ='6월일별(순창)'!C$39 -> 0
E33: 최소 | F33: ='6월일별(순창)'!F$40 -> 0 | G33: ='6월일별(순창)'!G$40 -> 0 | H33: ='6월일별(순창)'!H$40 -> 0 | I33: ='6월일별(순창)'!I$40 -> 0 | J33: ='6월일별(순창)'!J$40 -> 0 | K33: ='6월일별(순창)'!K$40 -> 0 | L33: ='6월일별(순창)'!M$40 -> 0 | M33: ='6월일별(순창)'!N$40 -> 0 | N33: ='6월일별(순창)'!O$40 -> 0 | O33: ='6월일별(순창)'!P$40 -> 0 | P33: ='6월일별(순창)'!Q$40 -> 0 | Q33: ='6월일별(순창)'!R$40 -> 0 | R33: ='6월일별(순창)'!B$40 -> 0 | S33: ='6월일별(순창)'!C$40 -> 0
D34: 7월 | E34: 누계 | R34: ='7월일별(순창)'!B$42 -> 0 | S34: ='7월일별(순창)'!C$42 -> 0
E35: 평균 | F35: ='7월일별(순창)'!F$38 -> #DIV/0! | G35: ='7월일별(순창)'!G$38 -> #DIV/0! | H35: ='7월일별(순창)'!H$38 -> #DIV/0! | I35: ='7월일별(순창)'!I$38 -> #DIV/0! | J35: ='7월일별(순창)'!J$38 -> #DIV/0! | K35: ='7월일별(순창)'!K$38 -> #DIV/0! | L35: ='7월일별(순창)'!M$38 -> #DIV/0! | M35: ='7월일별(순창)'!N$38 -> #DIV/0! | N35: ='7월일별(순창)'!O$38 -> #DIV/0! | O35: ='7월일별(순창)'!P$38 -> #DIV/0! | P35: ='7월일별(순창)'!Q$38 -> #DIV/0! | Q35: ='7월일별(순창)'!R$38 -> #DIV/0! | R35: ='7월일별(순창)'!B$38 -> #DIV/0! | S35: ='7월일별(순창)'!C$38 -> #DIV/0!
E36: 최대 | F36: ='7월일별(순창)'!F$39 -> 0 | G36: ='7월일별(순창)'!G$39 -> 0 | H36: ='7월일별(순창)'!H$39 -> 0 | I36: ='7월일별(순창)'!I$39 -> 0 | J36: ='7월일별(순창)'!J$39 -> 0 | K36: ='7월일별(순창)'!K$39 -> 0 | L36: ='7월일별(순창)'!M$39 -> 0 | M36: ='7월일별(순창)'!N$39 -> 0 | N36: ='7월일별(순창)'!O$39 -> 0 | O36: ='7월일별(순창)'!P$39 -> 0 | P36: ='7월일별(순창)'!Q$39 -> 0 | Q36: ='7월일별(순창)'!R$39 -> 0 | R36: ='7월일별(순창)'!B$39 -> 0 | S36: ='7월일별(순창)'!C$39 -> 0
E37: 최소 | F37: ='7월일별(순창)'!F$40 -> 0 | G37: ='7월일별(순창)'!G$40 -> 0 | H37: ='7월일별(순창)'!H$40 -> 0 | I37: ='7월일별(순창)'!I$40 -> 0 | J37: ='7월일별(순창)'!J$40 -> 0 | K37: ='7월일별(순창)'!K$40 -> 0 | L37: ='7월일별(순창)'!M$40 -> 0 | M37: ='7월일별(순창)'!N$40 -> 0 | N37: ='7월일별(순창)'!O$40 -> 0 | O37: ='7월일별(순창)'!P$40 -> 0 | P37: ='7월일별(순창)'!Q$40 -> 0 | Q37: ='7월일별(순창)'!R$40 -> 0 | R37: ='7월일별(순창)'!B$40 -> 0 | S37: ='7월일별(순창)'!C$40 -> 0
D38: 8월 | E38: 누계 | R38: ='8월일별(순창)'!B$42 -> 0 | S38: ='8월일별(순창)'!C$42 -> 0
E39: 평균 | F39: ='8월일별(순창)'!F$38 -> #DIV/0! | G39: ='8월일별(순창)'!G$38 -> #DIV/0! | H39: ='8월일별(순창)'!H$38 -> #DIV/0! | I39: ='8월일별(순창)'!I$38 -> #DIV/0! | J39: ='8월일별(순창)'!J$38 -> #DIV/0! | K39: ='8월일별(순창)'!K$38 -> #DIV/0! | L39: ='8월일별(순창)'!M$38 -> #DIV/0! | M39: ='8월일별(순창)'!N$38 -> #DIV/0! | N39: ='8월일별(순창)'!O$38 -> #DIV/0! | O39: ='8월일별(순창)'!P$38 -> #DIV/0! | P39: ='8월일별(순창)'!Q$38 -> #DIV/0! | Q39: ='8월일별(순창)'!R$38 -> #DIV/0! | R39: ='8월일별(순창)'!B$38 -> #DIV/0! | S39: ='8월일별(순창)'!C$38 -> #DIV/0!
E40: 최대 | F40: ='8월일별(순창)'!F$39 -> 0 | G40: ='8월일별(순창)'!G$39 -> 0 | H40: ='8월일별(순창)'!H$39 -> 0 | I40: ='8월일별(순창)'!I$39 -> 0 | J40: ='8월일별(순창)'!J$39 -> 0 | K40: ='8월일별(순창)'!K$39 -> 0 | L40: ='8월일별(순창)'!M$39 -> 0 | M40: ='8월일별(순창)'!N$39 -> 0 | N40: ='8월일별(순창)'!O$39 -> 0 | O40: ='8월일별(순창)'!P$39 -> 0 | P40: ='8월일별(순창)'!Q$39 -> 0 | Q40: ='8월일별(순창)'!R$39 -> 0 | R40: ='8월일별(순창)'!B$39 -> 0 | S40: ='8월일별(순창)'!C$39 -> 0
E41: 최소 | F41: ='8월일별(순창)'!F$40 -> 0 | G41: ='8월일별(순창)'!G$40 -> 0 | H41: ='8월일별(순창)'!H$40 -> 0 | I41: ='8월일별(순창)'!I$40 -> 0 | J41: ='8월일별(순창)'!J$40 -> 0 | K41: ='8월일별(순창)'!K$40 -> 0 | L41: ='8월일별(순창)'!M$40 -> 0 | M41: ='8월일별(순창)'!N$40 -> 0 | N41: ='8월일별(순창)'!O$40 -> 0 | O41: ='8월일별(순창)'!P$40 -> 0 | P41: ='8월일별(순창)'!Q$40 -> 0 | Q41: ='8월일별(순창)'!R$40 -> 0 | R41: ='8월일별(순창)'!B$40 -> 0 | S41: ='8월일별(순창)'!C$40 -> 0
D42: 9월 | E42: 누계 | R42: ='9월일별(순창)'!B42 -> 0 | S42: ='9월일별(순창)'!C42 -> 0
E43: 평균 | F43: ='9월일별(순창)'!F38 -> #DIV/0! | G43: ='9월일별(순창)'!G38 -> #DIV/0! | H43: ='9월일별(순창)'!H38 -> #DIV/0! | I43: ='9월일별(순창)'!I38 -> #DIV/0! | J43: ='9월일별(순창)'!J38 -> #DIV/0! | K43: ='9월일별(순창)'!K38 -> #DIV/0! | L43: ='9월일별(순창)'!M38 -> #DIV/0! | M43: ='9월일별(순창)'!N38 -> #DIV/0! | N43: ='9월일별(순창)'!O38 -> #DIV/0! | O43: ='9월일별(순창)'!P38 -> #DIV/0! | P43: ='9월일별(순창)'!Q38 -> #DIV/0! | Q43: ='9월일별(순창)'!R38 -> #DIV/0! | R43: ='9월일별(순창)'!B38 -> #DIV/0! | S43: ='9월일별(순창)'!C38 -> #DIV/0!
E44: 최대 | F44: ='9월일별(순창)'!F39 -> 0 | G44: ='9월일별(순창)'!G39 -> 0 | H44: ='9월일별(순창)'!H39 -> 0 | I44: ='9월일별(순창)'!I39 -> 0 | J44: ='9월일별(순창)'!J39 -> 0 | K44: ='9월일별(순창)'!K39 -> 0 | L44: ='9월일별(순창)'!M39 -> 0 | M44: ='9월일별(순창)'!N39 -> 0 | N44: ='9월일별(순창)'!O39 -> 0 | O44: ='9월일별(순창)'!P39 -> 0 | P44: ='9월일별(순창)'!Q39 -> 0 | Q44: ='9월일별(순창)'!R39 -> 0 | R44: ='9월일별(순창)'!B39 -> 0 | S44: ='9월일별(순창)'!C39 -> 0
E45: 최소 | F45: ='9월일별(순창)'!F40 -> 0 | G45: ='9월일별(순창)'!G40 -> 0 | H45: ='9월일별(순창)'!H40 -> 0 | I45: ='9월일별(순창)'!I40 -> 0 | J45: ='9월일별(순창)'!J40 -> 0 | K45: ='9월일별(순창)'!K40 -> 0 | L45: ='9월일별(순창)'!M40 -> 0 | M45: ='9월일별(순창)'!N40 -> 0 | N45: ='9월일별(순창)'!O40 -> 0 | O45: ='9월일별(순창)'!P40 -> 0 | P45: ='9월일별(순창)'!Q40 -> 0 | Q45: ='9월일별(순창)'!R40 -> 0 | R45: ='9월일별(순창)'!B40 -> 0 | S45: ='9월일별(순창)'!C40 -> 0
D46: 10월 | E46: 누계 | R46: ='10월일별(순창)'!B$42 -> 0 | S46: ='10월일별(순창)'!C$42 -> 0
E47: 평균 | F47: ='10월일별(순창)'!F$38 -> #DIV/0! | G47: ='10월일별(순창)'!G$38 -> #DIV/0! | H47: ='10월일별(순창)'!H$38 -> #DIV/0! | I47: ='10월일별(순창)'!I$38 -> #DIV/0! | J47: ='10월일별(순창)'!J$38 -> #DIV/0! | K47: ='10월일별(순창)'!K$38 -> #DIV/0! | L47: ='10월일별(순창)'!M$38 -> #DIV/0! | M47: ='10월일별(순창)'!N$38 -> #DIV/0! | N47: ='10월일별(순창)'!O$38 -> #DIV/0! | O47: ='10월일별(순창)'!P$38 -> #DIV/0! | P47: ='10월일별(순창)'!Q$38 -> #DIV/0! | Q47: ='10월일별(순창)'!R$38 -> #DIV/0! | R47: ='10월일별(순창)'!B$38 -> #DIV/0! | S47: ='10월일별(순창)'!C$38 -> #DIV/0!
E48: 최대 | F48: ='10월일별(순창)'!F$39 -> 0 | G48: ='10월일별(순창)'!G$39 -> 0 | H48: ='10월일별(순창)'!H$39 -> 0 | I48: ='10월일별(순창)'!I$39 -> 0 | J48: ='10월일별(순창)'!J$39 -> 0 | K48: ='10월일별(순창)'!K$39 -> 0 | L48: ='10월일별(순창)'!M$39 -> 0 | M48: ='10월일별(순창)'!N$39 -> 0 | N48: ='10월일별(순창)'!O$39 -> 0 | O48: ='10월일별(순창)'!P$39 -> 0 | P48: ='10월일별(순창)'!Q$39 -> 0 | Q48: ='10월일별(순창)'!R$39 -> 0 | R48: ='10월일별(순창)'!B$39 -> 0 | S48: ='10월일별(순창)'!C$39 -> 0
E49: 최소 | F49: ='10월일별(순창)'!F$40 -> 0 | G49: ='10월일별(순창)'!G$40 -> 0 | H49: ='10월일별(순창)'!H$40 -> 0 | I49: ='10월일별(순창)'!I$40 -> 0 | J49: ='10월일별(순창)'!J$40 -> 0 | K49: ='10월일별(순창)'!K$40 -> 0 | L49: ='10월일별(순창)'!M$40 -> 0 | M49: ='10월일별(순창)'!N$40 -> 0 | N49: ='10월일별(순창)'!O$40 -> 0 | O49: ='10월일별(순창)'!P$40 -> 0 | P49: ='10월일별(순창)'!Q$40 -> 0 | Q49: ='10월일별(순창)'!R$40 -> 0 | R49: ='10월일별(순창)'!B$40 -> 0 | S49: ='10월일별(순창)'!C$40 -> 0
D50: 11월 | E50: 누계 | R50: ='11월일별(순창)'!B$42 -> 0 | S50: ='11월일별(순창)'!C$42 -> 0
E51: 평균 | F51: ='11월일별(순창)'!F$38 -> #DIV/0! | G51: ='11월일별(순창)'!G$38 -> #DIV/0! | H51: ='11월일별(순창)'!H$38 -> #DIV/0! | I51: ='11월일별(순창)'!I$38 -> #DIV/0! | J51: ='11월일별(순창)'!J$38 -> #DIV/0! | K51: ='11월일별(순창)'!K$38 -> #DIV/0! | L51: ='11월일별(순창)'!M$38 -> #DIV/0! | M51: ='11월일별(순창)'!N$38 -> #DIV/0! | N51: ='11월일별(순창)'!O$38 -> #DIV/0! | O51: ='11월일별(순창)'!P$38 -> #DIV/0! | P51: ='11월일별(순창)'!Q$38 -> #DIV/0! | Q51: ='11월일별(순창)'!R$38 -> #DIV/0! | R51: ='11월일별(순창)'!B$38 -> #DIV/0! | S51: ='11월일별(순창)'!C$38 -> #DIV/0!
E52: 최대 | F52: ='11월일별(순창)'!F$39 -> 0 | G52: ='11월일별(순창)'!G$39 -> 0 | H52: ='11월일별(순창)'!H$39 -> 0 | I52: ='11월일별(순창)'!I$39 -> 0 | J52: ='11월일별(순창)'!J$39 -> 0 | K52: ='11월일별(순창)'!K$39 -> 0 | L52: ='11월일별(순창)'!M$39 -> 0 | M52: ='11월일별(순창)'!N$39 -> 0 | N52: ='11월일별(순창)'!O$39 -> 0 | O52: ='11월일별(순창)'!P$39 -> 0 | P52: ='11월일별(순창)'!Q$39 -> 0 | Q52: ='11월일별(순창)'!R$39 -> 0 | R52: ='11월일별(순창)'!B$39 -> 0 | S52: ='11월일별(순창)'!C$39 -> 0
E53: 최소 | F53: ='11월일별(순창)'!F$40 -> 0 | G53: ='11월일별(순창)'!G$40 -> 0 | H53: ='11월일별(순창)'!H$40 -> 0 | I53: ='11월일별(순창)'!I$40 -> 0 | J53: ='11월일별(순창)'!J$40 -> 0 | K53: ='11월일별(순창)'!K$40 -> 0 | L53: ='11월일별(순창)'!M$40 -> 0 | M53: ='11월일별(순창)'!N$40 -> 0 | N53: ='11월일별(순창)'!O$40 -> 0 | O53: ='11월일별(순창)'!P$40 -> 0 | P53: ='11월일별(순창)'!Q$40 -> 0 | Q53: ='11월일별(순창)'!R$40 -> 0 | R53: ='11월일별(순창)'!B$40 -> 0 | S53: ='11월일별(순창)'!C$40 -> 0
D54: 12월 | E54: 누계 | R54: ='12월일별(순창)'!B$42 -> 0 | S54: ='12월일별(순창)'!C$42 -> 0
E55: 평균 | F55: ='12월일별(순창)'!F$38 -> #DIV/0! | G55: ='12월일별(순창)'!G$38 -> #DIV/0! | H55: ='12월일별(순창)'!H$38 -> #DIV/0! | I55: ='12월일별(순창)'!I$38 -> #DIV/0! | J55: ='12월일별(순창)'!J$38 -> #DIV/0! | K55: ='12월일별(순창)'!K$38 -> #DIV/0! | L55: ='12월일별(순창)'!M$38 -> #DIV/0! | M55: ='12월일별(순창)'!N$38 -> #DIV/0! | N55: ='12월일별(순창)'!O$38 -> #DIV/0! | O55: ='12월일별(순창)'!P$38 -> #DIV/0! | P55: ='12월일별(순창)'!Q$38 -> #DIV/0! | Q55: ='12월일별(순창)'!R$38 -> #DIV/0! | R55: ='12월일별(순창)'!B$38 -> #DIV/0! | S55: ='12월일별(순창)'!C$38 -> #DIV/0!
E56: 최대 | F56: ='12월일별(순창)'!F$39 -> 0 | G56: ='12월일별(순창)'!G$39 -> 0 | H56: ='12월일별(순창)'!H$39 -> 0 | I56: ='12월일별(순창)'!I$39 -> 0 | J56: ='12월일별(순창)'!J$39 -> 0 | K56: ='12월일별(순창)'!K$39 -> 0 | L56: ='12월일별(순창)'!M$39 -> 0 | M56: ='12월일별(순창)'!N$39 -> 0 | N56: ='12월일별(순창)'!O$39 -> 0 | O56: ='12월일별(순창)'!P$39 -> 0 | P56: ='12월일별(순창)'!Q$39 -> 0 | Q56: ='12월일별(순창)'!R$39 -> 0 | R56: ='12월일별(순창)'!B$39 -> 0 | S56: ='12월일별(순창)'!C$39 -> 0
E57: 최소 | F57: ='12월일별(순창)'!F$40 -> 0 | G57: ='12월일별(순창)'!G$40 -> 0 | H57: ='12월일별(순창)'!H$40 -> 0 | I57: ='12월일별(순창)'!I$40 -> 0 | J57: ='12월일별(순창)'!J$40 -> 0 | K57: ='12월일별(순창)'!K$40 -> 0 | L57: ='12월일별(순창)'!M$40 -> 0 | M57: ='12월일별(순창)'!N$40 -> 0 | N57: ='12월일별(순창)'!O$40 -> 0 | O57: ='12월일별(순창)'!P$40 -> 0 | P57: ='12월일별(순창)'!Q$40 -> 0 | Q57: ='12월일별(순창)'!R$40 -> 0 | R57: ='12월일별(순창)'!B$40 -> 0 | S57: ='12월일별(순창)'!C$40 -> 0
