Workbook
Name Document_array: {"Book1"}
Name 기본급테이블: #REF!
Name 사원테이블: #REF!
Name 수당테이블: #REF!
Name 직책테이블: #REF!

Sheet (붙임1)집계표 
A2: '24. 12월 가축통계 집계표
A4: 읍면동 | B4: 한육우 | D4: 젖 소 | F4: 돼 지 | H4: 닭 | J4: 오리 | L4: 읍면동 | M4: 염소(산양) | O4: 면양 | Q4: 사 슴 | S4: 토끼 | U4: 개 | W4: 지렁이 | Y4: 읍면동 | Z4: 칠면조 | AB4: 거 위 | AD4: 메추리 | AF4: 꿀 벌 | AH4: 읍면동 | AI4: 관상조 | AK4: 타조 | AM4: 오소리 | AO4: 꿩 | AQ4: 기러기
B5: 호 수 | C5: 두 수 | D5: 호 수 | E5: 두 수 | F5: 호 수 | G5: 두 수 | H5: 호 수 | I5: 수 수 | J5: 호수 | K5: 수수 | M5: 호 수 | N5: 두 수 | O5: 호수 | P5: 두수 | Q5: 호수 | R5: 두 수 | S5: 호 수 | T5: 두 수 | U5: 호 수 | V5: 두 수 | W5: 호 수 | X5: 두 수 | Z5: 호수 | AA5: 수수 | AB5: 호수 | AC5: 수수 | AD5: 호수 | AE5: 수수 | AF5: 호수 | AG5: 군수 | AI5: 호수 | AJ5: 수수 | AK5: 호수 | AL5: 수수 | AM5: 호수 | AN5: 수수 | AO5: 호수 | AP5: 수수 | AQ5: 호수 | AR5: 수수
A6: 계 | B6: =SUM(B7:B20) -> 642 | C6: =SUM(C7:C20) -> 27200 | D6: =SUM(D7:D20) -> 12 | E6: =SUM(E7:E20) -> 713 | F6: =SUM(F7:F20) -> 18 | G6: =SUM(G7:G20) -> 30820 | H6: =SUM(H7:H20) -> 38 | I6: =SUM(I7:I20) -> 2255226 | ... K6: =SUM(K7:K20) -> 91600 | L6: 계 | M6: =SUM(M7:M20) -> 101 | N6: =SUM(N7:N20) -> 14226 | O6: =SUM(O7:O20) -> 0 | P6: =SUM(P7:P20) -> 0 | Q6: =SUM(Q7:Q20) -> 3 | R6: =SUM(R7:R20) -> 88 | S6: =SUM(S7:S20) -> 4 | T6: =SUM(T7:T20) -> 21 | ... X6: =SUM(X7:X20) -> 4200 | Y6: 계 | Z6: =SUM(Z7:Z20) -> 1 | AA6: =SUM(AA7:AA20) -> 1 | AB6: =SUM(AB7:AB20) -> 0 | AC6: =SUM(AC7:AC20) -> 0 | AD6: =SUM(AD7:AD20) -> 0 | AE6: =SUM(AE7:AE20) -> 0 | AF6: =SUM(AF7:AF20) -> 162 | AG6: =SUM(AG7:AG20) -> 13413 | AH6: 계 | AI6: =SUM(AI7:AI20) -> 0 | AJ6: =SUM(AJ7:AJ20) -> 0 | AK6: =SUM(AK7:AK20) -> 1 | AL6: =SUM(AL7:AL20) -> 2 | AM6: =SUM(AM7:AM20) -> 0 | AN6: =SUM(AN7:AN20) -> 0 | AO6: =SUM(AO7:AO20) -> 0 | AP6: =SUM(AP7:AP20) -> 0 | ... AR6: =SUM(AR7:AR20) -> 13
A7: 순창읍 | B7: ='(붙임2)24년12월농가수'!B7 -> 27 | C7: ='(붙임3)24년12월 마리수'!B6 -> 739 | D7: ='(붙임2)24년12월농가수'!O7 -> 0 | E7: ='(붙임3)24년12월 마리수'!O6 -> 0 | F7: ='(붙임2)24년12월농가수'!AB7 -> 0 | G7: ='(붙임3)24년12월 마리수'!AB6 -> 0 | H7: ='(붙임2)24년12월농가수'!AS7 -> 3 | I7: ='(붙임3)24년12월 마리수'!AW6 -> 142500 | J7: ='(붙임2)24년12월농가수'!BI7 -> 1 | K7: ='(붙임3)24년12월 마리수'!BR6 -> 25000 | L7: 순창읍 | M7: ='(붙임2)24년12월농가수'!BZ7 -> 7 | N7: ='(붙임3)24년12월 마리수'!CL6 -> 84 | O7: ='(붙임2)24년12월농가수'!CM7 -> 0 | P7: ='(붙임3)24년12월 마리수'!CY6 -> 0 | Q7: ='(붙임2)24년12월농가수'!CZ7 -> 0 | R7: ='(붙임3)24년12월 마리수'!DL6 -> 0 | S7: ='(붙임2)24년12월농가수'!DS7 -> 0 | T7: ='(붙임3)24년12월 마리수'!DV6 -> 0 | U7: =COUNTIF('개(종별, 목적, 성별 , 마리수)'!$C$8:$C$64,L7) -> 9 | V7: ='(붙임3)24년12월 마리수'!EN6 -> 19 | W7: ='(붙임2)24년12월농가수'!CZ27 -> 0 | X7: ='(붙임2)24년12월농가수'!DI27 -> 0 | Y7: 순창읍 | Z7: ='(붙임2)24년12월농가수'!EK7 -> 0 | AA7: ='(붙임2)24년12월농가수'!ES7 -> 0 | AB7: ='(붙임2)24년12월농가수'!FB7 -> 0 | AC7: ='(붙임2)24년12월농가수'!FJ7 -> 0 | AD7: ='(붙임2)24년12월농가수'!B27 -> 0 | AE7: ='(붙임3)24년12월 마리수'!B26 -> 0 | AF7: ='(붙임2)24년12월농가수'!O27 -> 16 | AG7: ='(붙임3)24년12월 마리수'!P26 -> 1236 | AH7: 순창읍 | AI7: ='(붙임2)24년12월농가수'!AB27 -> 0 | AJ7: ='(붙임2)24년12월농가수'!AJ27 -> 0 | AK7: ='(붙임2)24년12월농가수'!BI27 -> 0 | AL7: ='(붙임2)24년12월농가수'!BQ27 -> 0 | AM7: ='(붙임2)24년12월농가수'!BZ27 -> 0 | AN7: ='(붙임3)24년12월 마리수'!CL26 -> 0 | AO7: ='(붙임2)24년12월농가수'!CM27 -> 0 | AP7: ='(붙임3)24년12월 마리수'!CY26 -> 0 | AQ7: ='(붙임2)24년12월농가수'!DS27 -> 0 | AR7: ='(붙임3)24년12월 마리수'!DL26 -> 0
A8: 인계면 | B8: ='(붙임2)24년12월농가수'!B8 -> 42 | C8: ='(붙임3)24년12월 마리수'!B7 -> 2248 | D8: ='(붙임2)24년12월농가수'!O8 -> 0 | E8: ='(붙임3)24년12월 마리수'!O7 -> 0 | F8: ='(붙임2)24년12월농가수'!AB8 -> 6 | G8: ='(붙임3)24년12월 마리수'!AB7 -> 11734 | H8: ='(붙임2)24년12월농가수'!AS8 -> 2 | I8: ='(붙임3)24년12월 마리수'!AW7 -> 62050 | J8: ='(붙임2)24년12월농가수'!BI8 -> 1 | K8: ='(붙임3)24년12월 마리수'!BR7 -> 21000 | L8: 인계면 | M8: ='(붙임2)24년12월농가수'!BZ8 -> 4 | N8: ='(붙임3)24년12월 마리수'!CL7 -> 489 | O8: ='(붙임2)24년12월농가수'!CM8 -> 0 | P8: ='(붙임3)24년12월 마리수'!CY7 -> 0 | Q8: ='(붙임2)24년12월농가수'!CZ8 -> 2 | R8: ='(붙임3)24년12월 마리수'!DL7 -> 54 | S8: ='(붙임2)24년12월농가수'!DS8 -> 0 | T8: ='(붙임3)24년12월 마리수'!DV7 -> 0 | U8: =COUNTIF('개(종별, 목적, 성별 , 마리수)'!$C$8:$C$64,L8) -> 4 | V8: ='(붙임3)24년12월 마리수'!EN7 -> 39 | W8: ='(붙임2)24년12월농가수'!CZ28 -> 1 | X8: ='(붙임2)24년12월농가수'!DI28 -> 1000 | Y8: 인계면 | Z8: ='(붙임2)24년12월농가수'!EK8 -> 0 | AA8: ='(붙임2)24년12월농가수'!ES8 -> 0 | AB8: ='(붙임2)24년12월농가수'!FB8 -> 0 | AC8: ='(붙임2)24년12월농가수'!FJ8 -> 0 | AD8: ='(붙임2)24년12월농가수'!B28 -> 0 | AE8: ='(붙임3)24년12월 마리수'!B27 -> 0 | AF8: ='(붙임2)24년12월농가수'!O28 -> 13 | AG8: ='(붙임3)24년12월 마리수'!P27 -> 938 | AH8: 인계면 | AI8: ='(붙임2)24년12월농가수'!AB28 -> 0 | AJ8: ='(붙임2)24년12월농가수'!AJ28 -> 0 | AK8: ='(붙임2)24년12월농가수'!BI28 -> 0 | AL8: ='(붙임2)24년12월농가수'!BQ28 -> 0 | AM8: ='(붙임2)24년12월농가수'!BZ28 -> 0 | AN8: ='(붙임3)24년12월 마리수'!CL27 -> 0 | AO8: ='(붙임2)24년12월농가수'!CM28 -> 0 | AP8: ='(붙임3)24년12월 마리수'!CY27 -> 0 | AQ8: ='(붙임2)24년12월농가수'!DS28 -> 0 | AR8: ='(붙임3)24년12월 마리수'!DL27 -> 0
A9: 동계면 | B9: ='(붙임2)24년12월농가수'!B9 -> 50 | C9: ='(붙임3)24년12월 마리수'!B8 -> 1470 | D9: ='(붙임2)24년12월농가수'!O9 -> 2 | E9: ='(붙임3)24년12월 마리수'!O8 -> 146 | F9: ='(붙임2)24년12월농가수'!AB9 -> 2 | G9: ='(붙임3)24년12월 마리수'!AB8 -> 2644 | H9: ='(붙임2)24년12월농가수'!AS9 -> 10 | I9: ='(붙임3)24년12월 마리수'!AW8 -> 703931 | J9: ='(붙임2)24년12월농가수'!BI9 -> 3 | K9: ='(붙임3)24년12월 마리수'!BR8 -> 34600 | L9: 동계면 | M9: ='(붙임2)24년12월농가수'!BZ9 -> 1 | N9: ='(붙임3)24년12월 마리수'!CL8 -> 60 | O9: ='(붙임2)24년12월농가수'!CM9 -> 0 | P9: ='(붙임3)24년12월 마리수'!CY8 -> 0 | Q9: ='(붙임2)24년12월농가수'!CZ9 -> 0 | R9: ='(붙임3)24년12월 마리수'!DL8 -> 0 | S9: ='(붙임2)24년12월농가수'!DS9 -> 0 | T9: ='(붙임3)24년12월 마리수'!DV8 -> 0 | U9: =COUNTIF('개(종별, 목적, 성별 , 마리수)'!$C$8:$C$64,L9) -> 3 | V9: ='(붙임3)24년12월 마리수'!EN8 -> 175 | W9: ='(붙임2)24년12월농가수'!CZ29 -> 0 | X9: ='(붙임2)24년12월농가수'!DI29 -> 0 | Y9: 동계면 | Z9: ='(붙임2)24년12월농가수'!EK9 -> 0 | AA9: ='(붙임2)24년12월농가수'!ES9 -> 0 | AB9: ='(붙임2)24년12월농가수'!FB9 -> 0 | AC9: ='(붙임2)24년12월농가수'!FJ9 -> 0 | AD9: ='(붙임2)24년12월농가수'!B29 -> 0 | AE9: ='(붙임3)24년12월 마리수'!B28 -> 0 | AF9: ='(붙임2)24년12월농가수'!O29 -> 17 | AG9: ='(붙임3)24년12월 마리수'!P28 -> 2594 | AH9: 동계면 | AI9: ='(붙임2)24년12월농가수'!AB29 -> 0 | AJ9: ='(붙임2)24년12월농가수'!AJ29 -> 0 | AK9: ='(붙임2)24년12월농가수'!BI29 -> 0 | AL9: ='(붙임2)24년12월농가수'!BQ29 -> 0 | AM9: ='(붙임2)24년12월농가수'!BZ29 -> 0 | AN9: ='(붙임3)24년12월 마리수'!CL28 -> 0 | AO9: ='(붙임2)24년12월농가수'!CM29 -> 0 | AP9: ='(붙임3)24년12월 마리수'!CY28 -> 0 | AQ9: ='(붙임2)24년12월농가수'!DS29 -> 0 | AR9: ='(붙임3)24년12월 마리수'!DL28 -> 0
A10: 적성면 | B10: ='(붙임2)24년12월농가수'!B10 -> 21 | C10: ='(붙임3)24년12월 마리수'!B9 -> 618 | D10: ='(붙임2)24년12월농가수'!O10 -> 2 | E10: ='(붙임3)24년12월 마리수'!O9 -> 236 | F10: ='(붙임2)24년12월농가수'!AB10 -> 2 | G10: ='(붙임3)24년12월 마리수'!AB9 -> 113 | H10: ='(붙임2)24년12월농가수'!AS10 -> 7 | I10: ='(붙임3)24년12월 마리수'!AW9 -> 222200 | J10: ='(붙임2)24년12월농가수'!BI10 -> 0 | K10: ='(붙임3)24년12월 마리수'!BR9 -> 0 | L10: 적성면 | M10: ='(붙임2)24년12월농가수'!BZ10 -> 1 | N10: ='(붙임3)24년12월 마리수'!CL9 -> 25 | O10: ='(붙임2)24년12월농가수'!CM10 -> 0 | P10: ='(붙임3)24년12월 마리수'!CY9 -> 0 | Q10: ='(붙임2)24년12월농가수'!CZ10 -> 0 | R10: ='(붙임3)24년12월 마리수'!DL9 -> 0 | S10: ='(붙임2)24년12월농가수'!DS10 -> 0 | T10: ='(붙임3)24년12월 마리수'!DV9 -> 0 | U10: =COUNTIF('개(종별, 목적, 성별 , 마리수)'!$C$8:$C$64,L10) -> 2 | V10: ='(붙임3)24년12월 마리수'!EN9 -> 32 | W10: ='(붙임2)24년12월농가수'!CZ30 -> 0 | X10: ='(붙임2)24년12월농가수'!DI30 -> 0 | Y10: 적성면 | Z10: ='(붙임2)24년12월농가수'!EK10 -> 0 | AA10: ='(붙임2)24년12월농가수'!ES10 -> 0 | AB10: ='(붙임2)24년12월농가수'!FB10 -> 0 | AC10: ='(붙임2)24년12월농가수'!FJ10 -> 0 | AD10: ='(붙임2)24년12월농가수'!B30 -> 0 | AE10: ='(붙임3)24년12월 마리수'!B29 -> 0 | AF10: ='(붙임2)24년12월농가수'!O30 -> 10 | AG10: ='(붙임3)24년12월 마리수'!P29 -> 989 | AH10: 적성면 | AI10: ='(붙임2)24년12월농가수'!AB30 -> 0 | AJ10: ='(붙임2)24년12월농가수'!AJ30 -> 0 | AK10: ='(붙임2)24년12월농가수'!BI30 -> 0 | AL10: ='(붙임2)24년12월농가수'!BQ30 -> 0 | AM10: ='(붙임2)24년12월농가수'!BZ30 -> 0 | AN10: ='(붙임3)24년12월 마리수'!CL29 -> 0 | AO10: ='(붙임2)24년12월농가수'!CM30 -> 0 | AP10: ='(붙임3)24년12월 마리수'!CY29 -> 0 | AQ10: ='(붙임2)24년12월농가수'!DS30 -> 0 | AR10: ='(붙임3)24년12월 마리수'!DL29 -> 0
A11: 유등면 | B11: ='(붙임2)24년12월농가수'!B11 -> 35 | C11: ='(붙임3)24년12월 마리수'!B10 -> 1838 | D11: ='(붙임2)24년12월농가수'!O11 -> 0 | E11: ='(붙임3)24년12월 마리수'!O10 -> 0 | F11: ='(붙임2)24년12월농가수'!AB11 -> 2 | G11: ='(붙임3)24년12월 마리수'!AB10 -> 5443 | H11: ='(붙임2)24년12월농가수'!AS11 -> 4 | I11: ='(붙임3)24년12월 마리수'!AW10 -> 363900 | J11: ='(붙임2)24년12월농가수'!BI11 -> 0 | K11: ='(붙임3)24년12월 마리수'!BR10 -> 0 | L11: 유등면 | M11: ='(붙임2)24년12월농가수'!BZ11 -> 6 | N11: ='(붙임3)24년12월 마리수'!CL10 -> 508 | O11: ='(붙임2)24년12월농가수'!CM11 -> 0 | P11: ='(붙임3)24년12월 마리수'!CY10 -> 0 | Q11: ='(붙임2)24년12월농가수'!CZ11 -> 0 | R11: ='(붙임3)24년12월 마리수'!DL10 -> 0 | S11: ='(붙임2)24년12월농가수'!DS11 -> 0 | T11: ='(붙임3)24년12월 마리수'!DV10 -> 0 | U11: =COUNTIF('개(종별, 목적, 성별 , 마리수)'!$C$8:$C$64,L11) -> 1 | V11: ='(붙임3)24년12월 마리수'!EN10 -> 16 | W11: ='(붙임2)24년12월농가수'!CZ31 -> 0 | X11: ='(붙임2)24년12월농가수'!DI31 -> 0 | Y11: 유등면 | Z11: ='(붙임2)24년12월농가수'!EK11 -> 0 | AA11: ='(붙임2)24년12월농가수'!ES11 -> 0 | AB11: ='(붙임2)24년12월농가수'!FB11 -> 0 | AC11: ='(붙임2)24년12월농가수'!FJ11 -> 0 | AD11: ='(붙임2)24년12월농가수'!B31 -> 0 | AE11: ='(붙임3)24년12월 마리수'!B30 -> 0 | AF11: ='(붙임2)24년12월농가수'!O31 -> 2 | AG11: ='(붙임3)24년12월 마리수'!P30 -> 197 | AH11: 유등면 | AI11: ='(붙임2)24년12월농가수'!AB31 -> 0 | AJ11: ='(붙임2)24년12월농가수'!AJ31 -> 0 | AK11: ='(붙임2)24년12월농가수'!BI31 -> 0 | AL11: ='(붙임2)24년12월농가수'!BQ31 -> 0 | AM11: ='(붙임2)24년12월농가수'!BZ31 -> 0 | AN11: ='(붙임3)24년12월 마리수'!CL30 -> 0 | AO11: ='(붙임2)24년12월농가수'!CM31 -> 0 | AP11: ='(붙임3)24년12월 마리수'!CY30 -> 0 | AQ11: ='(붙임2)24년12월농가수'!DS31 -> 0 | AR11: ='(붙임3)24년12월 마리수'!DL30 -> 0
A12: 풍산면 | B12: ='(붙임2)24년12월농가수'!B12 -> 56 | C12: ='(붙임3)24년12월 마리수'!B11 -> 2418 | D12: ='(붙임2)24년12월농가수'!O12 -> 5 | E12: ='(붙임3)24년12월 마리수'!O11 -> 230 | F12: ='(붙임2)24년12월농가수'!AB12 -> 2 | G12: ='(붙임3)24년12월 마리수'!AB11 -> 4109 | H12: ='(붙임2)24년12월농가수'!AS12 -> 2 | I12: ='(붙임3)24년12월 마리수'!AW11 -> 173400 | J12: ='(붙임2)24년12월농가수'!BI12 -> 0 | K12: ='(붙임3)24년12월 마리수'!BR11 -> 0 | L12: 풍산면 | M12: ='(붙임2)24년12월농가수'!BZ12 -> 9 | N12: ='(붙임3)24년12월 마리수'!CL11 -> 2296 | O12: ='(붙임2)24년12월농가수'!CM12 -> 0 | P12: ='(붙임3)24년12월 마리수'!CY11 -> 0 | Q12: ='(붙임2)24년12월농가수'!CZ12 -> 0 | R12: ='(붙임3)24년12월 마리수'!DL11 -> 0 | S12: ='(붙임2)24년12월농가수'!DS12 -> 0 | T12: ='(붙임3)24년12월 마리수'!DV11 -> 0 | U12: =COUNTIF('개(종별, 목적, 성별 , 마리수)'!$C$8:$C$64,L12) -> 4 | V12: ='(붙임3)24년12월 마리수'!EN11 -> 32 | W12: ='(붙임2)24년12월농가수'!CZ32 -> 0 | X12: ='(붙임2)24년12월농가수'!DI32 -> 0 | Y12: 풍산면 | Z12: ='(붙임2)24년12월농가수'!EK12 -> 0 | AA12: ='(붙임2)24년12월농가수'!ES12 -> 0 | AB12: ='(붙임2)24년12월농가수'!FB12 -> 0 | AC12: ='(붙임2)24년12월농가수'!FJ12 -> 0 | AD12: ='(붙임2)24년12월농가수'!B32 -> 0 | AE12: ='(붙임3)24년12월 마리수'!B31 -> 0 | AF12: ='(붙임2)24년12월농가수'!O32 -> 13 | AG12: ='(붙임3)24년12월 마리수'!P31 -> 1213 | AH12: 풍산면 | AI12: ='(붙임2)24년12월농가수'!AB32 -> 0 | AJ12: ='(붙임2)24년12월농가수'!AJ32 -> 0 | AK12: ='(붙임2)24년12월농가수'!BI32 -> 0 | AL12: ='(붙임2)24년12월농가수'!BQ32 -> 0 | AM12: ='(붙임2)24년12월농가수'!BZ32 -> 0 | AN12: ='(붙임3)24년12월 마리수'!CL31 -> 0 | AO12: ='(붙임2)24년12월농가수'!CM32 -> 0 | AP12: ='(붙임3)24년12월 마리수'!CY31 -> 0 | AQ12: ='(붙임2)24년12월농가수'!DS32 -> 0 | AR12: ='(붙임3)24년12월 마리수'!DL31 -> 0
A13: 금과면 | B13: ='(붙임2)24년12월농가수'!B13 -> 35 | C13: ='(붙임3)24년12월 마리수'!B12 -> 1604 | D13: ='(붙임2)24년12월농가수'!O13 -> 2 | E13: ='(붙임3)24년12월 마리수'!O12 -> 98 | F13: ='(붙임2)24년12월농가수'!AB13 -> 0 | G13: ='(붙임3)24년12월 마리수'!AB12 -> 0 | H13: ='(붙임2)24년12월농가수'!AS13 -> 5 | I13: ='(붙임3)24년12월 마리수'!AW12 -> 234445 | J13: ='(붙임2)24년12월농가수'!BI13 -> 0 | K13: ='(붙임3)24년12월 마리수'!BR12 -> 0 | L13: 금과면 | M13: ='(붙임2)24년12월농가수'!BZ13 -> 10 | N13: ='(붙임3)24년12월 마리수'!CL12 -> 618 | O13: ='(붙임2)24년12월농가수'!CM13 -> 0 | P13: ='(붙임3)24년12월 마리수'!CY12 -> 0 | Q13: ='(붙임2)24년12월농가수'!CZ13 -> 0 | R13: ='(붙임3)24년12월 마리수'!DL12 -> 0 | S13: ='(붙임2)24년12월농가수'!DS13 -> 0 | T13: ='(붙임3)24년12월 마리수'!DV12 -> 0 | U13: =COUNTIF('개(종별, 목적, 성별 , 마리수)'!$C$8:$C$64,L13) -> 2 | V13: ='(붙임3)24년12월 마리수'!EN12 -> 3 | W13: ='(붙임2)24년12월농가수'!CZ33 -> 0 | X13: ='(붙임2)24년12월농가수'!DI33 -> 0 | Y13: 금과면 | Z13: ='(붙임2)24년12월농가수'!EK13 -> 0 | AA13: ='(붙임2)24년12월농가수'!ES13 -> 0 | AB13: ='(붙임2)24년12월농가수'!FB13 -> 0 | AC13: ='(붙임2)24년12월농가수'!FJ13 -> 0 | AD13: ='(붙임2)24년12월농가수'!B33 -> 0 | AE13: ='(붙임3)24년12월 마리수'!B32 -> 0 | AF13: ='(붙임2)24년12월농가수'!O33 -> 19 | AG13: ='(붙임3)24년12월 마리수'!P32 -> 1585 | AH13: 금과면 | AI13: ='(붙임2)24년12월농가수'!AB33 -> 0 | AJ13: ='(붙임2)24년12월농가수'!AJ33 -> 0 | AK13: ='(붙임2)24년12월농가수'!BI33 -> 0 | AL13: ='(붙임2)24년12월농가수'!BQ33 -> 0 | AM13: ='(붙임2)24년12월농가수'!BZ33 -> 0 | AN13: ='(붙임3)24년12월 마리수'!CL32 -> 0 | AO13: ='(붙임2)24년12월농가수'!CM33 -> 0 | AP13: ='(붙임3)24년12월 마리수'!CY32 -> 0 | AQ13: ='(붙임2)24년12월농가수'!DS33 -> 0 | AR13: ='(붙임3)24년12월 마리수'!DL32 -> 0
A14: 팔덕면 | B14: ='(붙임2)24년12월농가수'!B14 -> 64 | C14: ='(붙임3)24년12월 마리수'!B13 -> 2209 | D14: ='(붙임2)24년12월농가수'!O14 -> 1 | E14: ='(붙임3)24년12월 마리수'!O13 -> 3 | F14: ='(붙임2)24년12월농가수'!AB14 -> 1 | G14: ='(붙임3)24년12월 마리수'!AB13 -> 533 | H14: ='(붙임2)24년12월농가수'!AS14 -> 3 | I14: ='(붙임3)24년12월 마리수'!AW13 -> 139000 | J14: ='(붙임2)24년12월농가수'!BI14 -> 1 | K14: ='(붙임3)24년12월 마리수'!BR13 -> 11000 | L14: 팔덕면 | M14: ='(붙임2)24년12월농가수'!BZ14 -> 11 | N14: ='(붙임3)24년12월 마리수'!CL13 -> 3410 | O14: ='(붙임2)24년12월농가수'!CM14 -> 0 | P14: ='(붙임3)24년12월 마리수'!CY13 -> 0 | Q14: ='(붙임2)24년12월농가수'!CZ14 -> 1 | R14: ='(붙임3)24년12월 마리수'!DL13 -> 34 | S14: ='(붙임2)24년12월농가수'!DS14 -> 0 | T14: ='(붙임3)24년12월 마리수'!DV13 -> 0 | U14: =COUNTIF('개(종별, 목적, 성별 , 마리수)'!$C$8:$C$64,L14) -> 4 | V14: ='(붙임3)24년12월 마리수'!EN13 -> 13 | W14: ='(붙임2)24년12월농가수'!CZ34 -> 0 | X14: ='(붙임2)24년12월농가수'!DI34 -> 0 | Y14: 팔덕면 | Z14: ='(붙임2)24년12월농가수'!EK14 -> 0 | AA14: ='(붙임2)24년12월농가수'!ES14 -> 0 | AB14: ='(붙임2)24년12월농가수'!FB14 -> 0 | AC14: ='(붙임2)24년12월농가수'!FJ14 -> 0 | AD14: ='(붙임2)24년12월농가수'!B34 -> 0 | AE14: ='(붙임3)24년12월 마리수'!B33 -> 0 | AF14: ='(붙임2)24년12월농가수'!O34 -> 8 | AG14: ='(붙임3)24년12월 마리수'!P33 -> 598 | AH14: 팔덕면 | AI14: ='(붙임2)24년12월농가수'!AB34 -> 0 | AJ14: ='(붙임2)24년12월농가수'!AJ34 -> 0 | AK14: ='(붙임2)24년12월농가수'!BI34 -> 0 | AL14: ='(붙임2)24년12월농가수'!BQ34 -> 0 | AM14: ='(붙임2)24년12월농가수'!BZ34 -> 0 | AN14: ='(붙임3)24년12월 마리수'!CL33 -> 0 | AO14: ='(붙임2)24년12월농가수'!CM34 -> 0 | AP14: ='(붙임3)24년12월 마리수'!CY33 -> 0 | AQ14: ='(붙임2)24년12월농가수'!DS34 -> 0 | AR14: ='(붙임3)24년12월 마리수'!DL33 -> 0
A15: 복흥면 | B15: ='(붙임2)24년12월농가수'!B15 -> 91 | C15: ='(붙임3)24년12월 마리수'!B14 -> 4694 | D15: ='(붙임2)24년12월농가수'!O15 -> 0 | E15: ='(붙임3)24년12월 마리수'!O14 -> 0 | F15: ='(붙임2)24년12월농가수'!AB15 -> 0 | G15: ='(붙임3)24년12월 마리수'!AB14 -> 0 | H15: ='(붙임2)24년12월농가수'!AS15 -> 0 | I15: ='(붙임3)24년12월 마리수'!AW14 -> 0 | J15: ='(붙임2)24년12월농가수'!BI15 -> 0 | K15: ='(붙임3)24년12월 마리수'!BR14 -> 0 | L15: 복흥면 | M15: ='(붙임2)24년12월농가수'!BZ15 -> 7 | N15: ='(붙임3)24년12월 마리수'!CL14 -> 1587 | O15: ='(붙임2)24년12월농가수'!CM15 -> 0 | P15: ='(붙임3)24년12월 마리수'!CY14 -> 0 | Q15: ='(붙임2)24년12월농가수'!CZ15 -> 0 | R15: ='(붙임3)24년12월 마리수'!DL14 -> 0 | S15: ='(붙임2)24년12월농가수'!DS15 -> 0 | T15: ='(붙임3)24년12월 마리수'!DV14 -> 0 | U15: =COUNTIF('개(종별, 목적, 성별 , 마리수)'!$C$8:$C$64,L15) -> 6 | V15: ='(붙임3)24년12월 마리수'!EN14 -> 50 | W15: ='(붙임2)24년12월농가수'!CZ35 -> 1 | X15: ='(붙임2)24년12월농가수'!DI35 -> 3200 | Y15: 복흥면 | Z15: ='(붙임2)24년12월농가수'!EK15 -> 0 | AA15: ='(붙임2)24년12월농가수'!ES15 -> 0 | AB15: ='(붙임2)24년12월농가수'!FB15 -> 0 | AC15: ='(붙임2)24년12월농가수'!FJ15 -> 0 | AD15: ='(붙임2)24년12월농가수'!B35 -> 0 | AE15: ='(붙임3)24년12월 마리수'!B34 -> 0 | AF15: ='(붙임2)24년12월농가수'!O35 -> 10 | AG15: ='(붙임3)24년12월 마리수'!P34 -> 650 | AH15: 복흥면 | AI15: ='(붙임2)24년12월농가수'!AB35 -> 0 | AJ15: ='(붙임2)24년12월농가수'!AJ35 -> 0 | AK15: ='(붙임2)24년12월농가수'!BI35 -> 0 | AL15: ='(붙임2)24년12월농가수'!BQ35 -> 0 | AM15: ='(붙임2)24년12월농가수'!BZ35 -> 0 | AN15: ='(붙임3)24년12월 마리수'!CL34 -> 0 | AO15: ='(붙임2)24년12월농가수'!CM35 -> 0 | AP15: ='(붙임3)24년12월 마리수'!CY34 -> 0 | AQ15: ='(붙임2)24년12월농가수'!DS35 -> 0 | AR15: ='(붙임3)24년12월 마리수'!DL34 -> 0
A16: 쌍치면 | B16: ='(붙임2)24년12월농가수'!B16 -> 33 | C16: ='(붙임3)24년12월 마리수'!B15 -> 1013 | D16: ='(붙임2)24년12월농가수'!O16 -> 0 | E16: ='(붙임3)24년12월 마리수'!O15 -> 0 | F16: ='(붙임2)24년12월농가수'!AB16 -> 1 | G16: ='(붙임3)24년12월 마리수'!AB15 -> 1664 | H16: ='(붙임2)24년12월농가수'!AS16 -> 1 | I16: ='(붙임3)24년12월 마리수'!AW15 -> 117500 | J16: ='(붙임2)24년12월농가수'!BI16 -> 0 | K16: ='(붙임3)24년12월 마리수'!BR15 -> 0 | L16: 쌍치면 | M16: ='(붙임2)24년12월농가수'!BZ16 -> 13 | N16: ='(붙임3)24년12월 마리수'!CL15 -> 103 | O16: ='(붙임2)24년12월농가수'!CM16 -> 0 | P16: ='(붙임3)24년12월 마리수'!CY15 -> 0 | Q16: ='(붙임2)24년12월농가수'!CZ16 -> 0 | R16: ='(붙임3)24년12월 마리수'!DL15 -> 0 | S16: ='(붙임2)24년12월농가수'!DS16 -> 4 | T16: ='(붙임3)24년12월 마리수'!DV15 -> 21 | U16: =COUNTIF('개(종별, 목적, 성별 , 마리수)'!$C$8:$C$64,L16) -> 12 | V16: ='(붙임3)24년12월 마리수'!EN15 -> 1775 | W16: ='(붙임2)24년12월농가수'!CZ36 -> 0 | X16: ='(붙임2)24년12월농가수'!DI36 -> 0 | Y16: 쌍치면 | Z16: ='(붙임2)24년12월농가수'!EK16 -> 0 | AA16: ='(붙임2)24년12월농가수'!ES16 -> 0 | AB16: ='(붙임2)24년12월농가수'!FB16 -> 0 | AC16: ='(붙임2)24년12월농가수'!FJ16 -> 0 | AD16: ='(붙임2)24년12월농가수'!B36 -> 0 | AE16: ='(붙임3)24년12월 마리수'!B35 -> 0 | AF16: ='(붙임2)24년12월농가수'!O36 -> 31 | AG16: ='(붙임3)24년12월 마리수'!P35 -> 1842 | AH16: 쌍치면 | AI16: ='(붙임2)24년12월농가수'!AB36 -> 0 | AJ16: ='(붙임2)24년12월농가수'!AJ36 -> 0 | AK16: ='(붙임2)24년12월농가수'!BI36 -> 0 | AL16: ='(붙임2)24년12월농가수'!BQ36 -> 0 | AM16: ='(붙임2)24년12월농가수'!BZ36 -> 0 | AN16: ='(붙임3)24년12월 마리수'!CL35 -> 0 | AO16: ='(붙임2)24년12월농가수'!CM36 -> 0 | AP16: ='(붙임3)24년12월 마리수'!CY35 -> 0 | AQ16: ='(붙임2)24년12월농가수'!DS36 -> 0 | AR16: ='(붙임3)24년12월 마리수'!DL35 -> 0
A17: 구림면 | B17: ='(붙임2)24년12월농가수'!B17 -> 188 | C17: ='(붙임3)24년12월 마리수'!B16 -> 8349 | D17: ='(붙임2)24년12월농가수'!O17 -> 0 | E17: ='(붙임3)24년12월 마리수'!O16 -> 0 | F17: ='(붙임2)24년12월농가수'!AB17 -> 2 | G17: ='(붙임3)24년12월 마리수'!AB16 -> 4580 | H17: ='(붙임2)24년12월농가수'!AS17 -> 1 | I17: ='(붙임3)24년12월 마리수'!AW16 -> 96300 | J17: ='(붙임2)24년12월농가수'!BI17 -> 0 | K17: ='(붙임3)24년12월 마리수'!BR16 -> 0 | L17: 구림면 | M17: ='(붙임2)24년12월농가수'!BZ17 -> 32 | N17: ='(붙임3)24년12월 마리수'!CL16 -> 5046 | O17: ='(붙임2)24년12월농가수'!CM17 -> 0 | P17: ='(붙임3)24년12월 마리수'!CY16 -> 0 | Q17: ='(붙임2)24년12월농가수'!CZ17 -> 0 | R17: ='(붙임3)24년12월 마리수'!DL16 -> 0 | S17: ='(붙임2)24년12월농가수'!DS17 -> 0 | T17: ='(붙임3)24년12월 마리수'!DV16 -> 0 | U17: =COUNTIF('개(종별, 목적, 성별 , 마리수)'!$C$8:$C$64,L17) -> 10 | V17: ='(붙임3)24년12월 마리수'!EN16 -> 96 | W17: ='(붙임2)24년12월농가수'!CZ37 -> 0 | X17: ='(붙임2)24년12월농가수'!DI37 -> 0 | Y17: 구림면 | Z17: ='(붙임2)24년12월농가수'!EK17 -> 1 | AA17: ='(붙임2)24년12월농가수'!ES17 -> 1 | AB17: ='(붙임2)24년12월농가수'!FB17 -> 0 | AC17: ='(붙임2)24년12월농가수'!FJ17 -> 0 | AD17: ='(붙임2)24년12월농가수'!B37 -> 0 | AE17: ='(붙임3)24년12월 마리수'!B36 -> 0 | AF17: ='(붙임2)24년12월농가수'!O37 -> 23 | AG17: ='(붙임3)24년12월 마리수'!P36 -> 1571 | AH17: 구림면 | AI17: ='(붙임2)24년12월농가수'!AB37 -> 0 | AJ17: ='(붙임2)24년12월농가수'!AJ37 -> 0 | AK17: ='(붙임2)24년12월농가수'!BI37 -> 1 | AL17: ='(붙임4)23년12월 성별마리수'!EX16 -> 2 | AM17: ='(붙임2)24년12월농가수'!BZ37 -> 0 | AN17: ='(붙임3)24년12월 마리수'!CL36 -> 0 | AO17: ='(붙임2)24년12월농가수'!CM37 -> 0 | AP17: ='(붙임3)24년12월 마리수'!CY36 -> 0 | AQ17: ='(붙임2)24년12월농가수'!DS37 -> 2 | AR17: ='(붙임3)24년12월 마리수'!DL36 -> 13
B18: ='(붙임2)24년12월농가수'!B18 -> 0 | C18: ='(붙임3)24년12월 마리수'!B17 -> 0 | D18: ='(붙임2)24년12월농가수'!O18 -> 0 | E18: ='(붙임3)24년12월 마리수'!O17 -> 0 | F18: ='(붙임2)24년12월농가수'!AB18 -> 0 | G18: ='(붙임3)24년12월 마리수'!AB17 -> 0 | H18: ='(붙임2)24년12월농가수'!AS18 -> 0 | I18: ='(붙임3)24년12월 마리수'!AW17 -> 0 | J18: ='(붙임2)24년12월농가수'!BI18 -> 0 | K18: ='(붙임3)24년12월 마리수'!BR17 -> 0 | M18: ='(붙임2)24년12월농가수'!BZ18 -> 0 | N18: ='(붙임3)24년12월 마리수'!CL17 -> 0 | O18: ='(붙임2)24년12월농가수'!CM18 -> 0 | P18: ='(붙임3)24년12월 마리수'!CY17 -> 0 | Q18: ='(붙임2)24년12월농가수'!CZ18 -> 0 | R18: ='(붙임3)24년12월 마리수'!DL17 -> 0 | S18: ='(붙임2)24년12월농가수'!DS18 -> 0 | T18: ='(붙임3)24년12월 마리수'!DV17 -> 0 | W18: ='(붙임2)24년12월농가수'!CZ38 -> 0 | X18: ='(붙임2)24년12월농가수'!DI38 -> 0 | Z18: ='(붙임2)24년12월농가수'!EK18 -> 0 | AA18: ='(붙임2)24년12월농가수'!ES18 -> 0 | AB18: ='(붙임2)24년12월농가수'!FB18 -> 0 | AC18: ='(붙임2)24년12월농가수'!FJ18 -> 0 | AD18: ='(붙임2)24년12월농가수'!B38 -> 0 | AE18: ='(붙임3)24년12월 마리수'!B37 -> 0 | AF18: ='(붙임2)24년12월농가수'!O38 -> 0 | AG18: ='(붙임3)24년12월 마리수'!P37 -> 0 | AI18: ='(붙임2)24년12월농가수'!AB38 -> 0 | AJ18: ='(붙임2)24년12월농가수'!AJ38 -> 0 | AK18: ='(붙임2)24년12월농가수'!BI38 -> 0 | AL18: ='(붙임2)24년12월농가수'!BQ38 -> 0 | AM18: ='(붙임2)24년12월농가수'!BZ38 -> 0 | AN18: ='(붙임3)24년12월 마리수'!CL37 -> 0 | AO18: ='(붙임2)24년12월농가수'!CM38 -> 0 | AP18: ='(붙임3)24년12월 마리수'!CY37 -> 0 | AQ18: ='(붙임2)24년12월농가수'!DS38 -> 0 | AR18: ='(붙임3)24년12월 마리수'!DL37 -> 0
B19: ='(붙임2)24년12월농가수'!B19 -> 0 | C19: ='(붙임3)24년12월 마리수'!B18 -> 0 | D19: ='(붙임2)24년12월농가수'!O19 -> 0 | E19: ='(붙임3)24년12월 마리수'!O18 -> 0 | F19: ='(붙임2)24년12월농가수'!AB19 -> 0 | G19: ='(붙임3)24년12월 마리수'!AB18 -> 0 | H19: ='(붙임2)24년12월농가수'!AS19 -> 0 | I19: ='(붙임3)24년12월 마리수'!AW18 -> 0 | J19: ='(붙임2)24년12월농가수'!BI19 -> 0 | K19: ='(붙임3)24년12월 마리수'!BR18 -> 0 | M19: ='(붙임2)24년12월농가수'!BZ19 -> 0 | N19: ='(붙임3)24년12월 마리수'!CL18 -> 0 | O19: ='(붙임2)24년12월농가수'!CM19 -> 0 | P19: ='(붙임3)24년12월 마리수'!CY18 -> 0 | Q19: ='(붙임2)24년12월농가수'!CZ19 -> 0 | R19: ='(붙임3)24년12월 마리수'!DL18 -> 0 | S19: ='(붙임2)24년12월농가수'!DS19 -> 0 | T19: ='(붙임3)24년12월 마리수'!DV18 -> 0 | W19: ='(붙임2)24년12월농가수'!CZ39 -> 0 | X19: ='(붙임2)24년12월농가수'!DI39 -> 0 | Z19: ='(붙임2)24년12월농가수'!EK19 -> 0 | AA19: ='(붙임2)24년12월농가수'!ES19 -> 0 | AB19: ='(붙임2)24년12월농가수'!FB19 -> 0 | AC19: ='(붙임2)24년12월농가수'!FJ19 -> 0 | AD19: ='(붙임2)24년12월농가수'!B39 -> 0 | AE19: ='(붙임3)24년12월 마리수'!B38 -> 0 | AF19: ='(붙임2)24년12월농가수'!O39 -> 0 | AG19: ='(붙임3)24년12월 마리수'!P38 -> 0 | AI19: ='(붙임2)24년12월농가수'!AB39 -> 0 | AJ19: ='(붙임2)24년12월농가수'!AJ39 -> 0 | AK19: ='(붙임2)24년12월농가수'!BI39 -> 0 | AL19: ='(붙임2)24년12월농가수'!BQ39 -> 0 | AM19: ='(붙임2)24년12월농가수'!BZ39 -> 0 | AN19: ='(붙임3)24년12월 마리수'!CL38 -> 0 | AO19: ='(붙임2)24년12월농가수'!CM39 -> 0 | AP19: ='(붙임3)24년12월 마리수'!CY38 -> 0 | AQ19: ='(붙임2)24년12월농가수'!DS39 -> 0 | AR19: ='(붙임3)24년12월 마리수'!DL38 -> 0
B20: ='(붙임2)24년12월농가수'!B20 -> 0 | C20: ='(붙임3)24년12월 마리수'!B19 -> 0 | D20: ='(붙임2)24년12월농가수'!O20 -> 0 | E20: ='(붙임3)24년12월 마리수'!O19 -> 0 | F20: ='(붙임2)24년12월농가수'!AB20 -> 0 | G20: ='(붙임3)24년12월 마리수'!AB19 -> 0 | H20: ='(붙임2)24년12월농가수'!AS20 -> 0 | I20: ='(붙임3)24년12월 마리수'!AW19 -> 0 | J20: ='(붙임2)24년12월농가수'!BI20 -> 0 | K20: ='(붙임3)24년12월 마리수'!BR19 -> 0 | M20: ='(붙임2)24년12월농가수'!BZ20 -> 0 | N20: ='(붙임3)24년12월 마리수'!CL19 -> 0 | O20: ='(붙임2)24년12월농가수'!CM20 -> 0 | P20: ='(붙임3)24년12월 마리수'!CY19 -> 0 | Q20: ='(붙임2)24년12월농가수'!CZ20 -> 0 | R20: ='(붙임3)24년12월 마리수'!DL19 -> 0 | S20: ='(붙임2)24년12월농가수'!DS20 -> 0 | T20: ='(붙임3)24년12월 마리수'!DV19 -> 0 | W20: ='(붙임2)24년12월농가수'!CZ40 -> 0 | X20: ='(붙임2)24년12월농가수'!DI40 -> 0 | Z20: ='(붙임2)24년12월농가수'!EK20 -> 0 | AA20: ='(붙임2)24년12월농가수'!ES20 -> 0 | AB20: ='(붙임2)24년12월농가수'!FB20 -> 0 | AC20: ='(붙임2)24년12월농가수'!FJ20 -> 0 | AD20: ='(붙임2)24년12월농가수'!B40 -> 0 | AE20: ='(붙임3)24년12월 마리수'!B39 -> 0 | AF20: ='(붙임2)24년12월농가수'!O40 -> 0 | AG20: ='(붙임3)24년12월 마리수'!P39 -> 0 | AI20: ='(붙임2)24년12월농가수'!AB40 -> 0 | AJ20: ='(붙임2)24년12월농가수'!AJ40 -> 0 | AK20: ='(붙임2)24년12월농가수'!BI40 -> 0 | AL20: ='(붙임2)24년12월농가수'!BQ40 -> 0 | AM20: ='(붙임2)24년12월농가수'!BZ40 -> 0 | AN20: ='(붙임3)24년12월 마리수'!CL39 -> 0 | AO20: ='(붙임2)24년12월농가수'!CM40 -> 0 | AP20: ='(붙임3)24년12월 마리수'!CY39 -> 0 | AQ20: ='(붙임2)24년12월농가수'!DS40 -> 0 | AR20: ='(붙임3)24년12월 마리수'!DL39 -> 0
B21: * 젖소 수컷은 한육우에 포함 * 젖소에는 착유우 및 건유우 포함

Sheet (붙임2)24년12월농가수
A1: 1. 한 우 | N1: 2. 젖 소 | AA1: 3. 돼 지 | AR1: 4. 닭 | BH1: 5. 오 리 | BY1: 6. 염 소(산 양) | CL1: 7. 면 양 | CY1: 8. 사 슴 | DR1: 9. 토 끼 | EJ1: 12. 칠면조 | FA1: 13. 거 위
A3: 1 - 1 한육우 사육규모별 농가수 | N3: 2 - 1 젖소 사육규모별 농가수 | AA3: 3 - 1 돼지 사육규모별 농가수 | AR3: 4 - 1 닭 사육규모별 농가수 | BH3: 5 - 1 오리 사육규모별 농가수 | BY3: 6 - 1 염소 사육규모별 농가수 | CL3: 7 - 1 면양 사육규모별 농가수 | CY3: 8 - 1 사슴 사육규모별 가구수 | DR3: 9 - 1 토끼 사육규모별 가구수 | EJ3: 12 - 1 칠면조 규모별 사육가구수 및 마리수 | FA3: 13 - 1 거위 규모별 사육가구수 및 마리수
CY4: 구분 | CZ4: 사 육 가 구 수 | EJ4: 구분 | EK4: 사육가구수 | ES4: 사육마리수 | FA4: 구분 | FB4: 사육가구수 | FJ4: 사육마리수
A5: 구분 | B5: 계 | C5: 1~9 | D5: 10~19 | E5: 20~29 | F5: 30~39 | G5: 40~49 | H5: 50~99 | I5: 100~199 | J5: 200 ~299 | K5: 300 ~ 399 | L5: 400 ~ 499 | M5: 500두 이 상 | N5: 구분 | O5: 계 | P5: 1~9 | Q5: 10~19 | R5: 20~29 | S5: 30~39 | T5: 40~49 | U5: 50~99 | V5: 100~199 | W5: 200 ~299 | X5: 300 ~ 399 | Y5: 400 ~ 499 | Z5: 500두 이 상 | AA5: 구분 | AB5: 계 | AC5: 1~4 | AD5: 5~9 | AE5: 10~19 | AF5: 20~29 | AG5: 30~49 | AH5: 50~99 | AI5: 100 ~299 | AJ5: 300 ~499 | AK5: 500 ~ 999 | AL5: 1,000 ~ 1,999 | AM5: 2,000 ~2,999 | AN5: 3,000 ~ 4,999 | AO5: 5,000 ~ 9,999 | AP5: 10,000 두이상 | AQ5: 비고 | AR5: 구분 | AS5: 계 | AT5: 1~ 259 | AU5: 260~ 499 | AV5: 500 ~999 | AW5: 1,000 ~1,999 | AX5: 2,000 ~2,999 | AY5: 3,000 ~4,999 | AZ5: 5,000 ~9,999 | BA5: 10,000 ~19,999 | BB5: 20,000 ~29,999 | BC5: 30,000 ~39,999 | BD5: 40,000 ~49,999 | BE5: 50,000 ~99,999 | BF5: 100,000 ~199,999 | BG5: 200,000 수이상 | BH5: 구분 | BI5: 계 | BJ5: 1~ 39 | BK5: 40 ~99 | BL5: 100 ~199 | BM5: 200 ~499 | BN5: 500 ~999 | BO5: 1,000 ~1,499 | BP5: 1,500 ~1,999 | BQ5: 2,000 ~2,999 | BR5: 3,000~ 4,999 | BS5: 5,000~ 9,999 | BT5: 10,000~ 29,999 | BU5: 30,000~ 49,999 | BV5: 50,000수 이상 | BW5: 비 고 | BY5: 구분 | BZ5: 계 | CA5: 1~4 | CB5: 5~9 | CC5: 10~19 | CD5: 20~29 | CE5: 30~49 | CF5: 50~99 | CG5: 100 ~299 | CH5: 300 ~499 | CI5: 500 ~ 999 | CJ5: 1,000 두 이상 | CK5: 비 고 | CL5: 구분 | CM5: 계 | CN5: 1~4 | CO5: 5~9 | CP5: 10~19 | CQ5: 20~29 | CR5: 30~49 | CS5: 50~99 | CT5: 100 ~299 | CU5: 300 ~499 | CV5: 500 ~ 999 | CW5: 1,000두 이 상 | CX5: 비 고 | CZ5: 계 | DA5: 1~9 | DB5: 10~49 | DC5: 50 ~ 99 | DD5: 100 ~199 | DE5: 200 ~299 | DF5: 300 ~499 | DG5: 500두 이상 | DR5: 구분 | DS5: 계 | DT5: 1~9 | DU5: 10~19 | DV5: 20 ~39 | DW5: 40 ~49 | DX5: 50 ~99 | DY5: 100 ~199 | DZ5: 200 ~299 | EA5: 300 ~ 399 | EB5: 400 ~499 | EC5: 500 ~999 | ED5: 1,000 ~1,999 | EE5: 2000두 이 상 | EF5: 비 고 | EK5: 계 | EL5: 1~9 | EM5: 10~49 | EN5: 50 ~99 | EO5: 100 ~199 | EP5: 200 ~299 | EQ5: 300 ~499 | ER5: 500수 이 상 | ES5: 계 | ET5: 1~9 | EU5: 10~49 | EV5: 50 ~99 | EW5: 100 ~199 | EX5: 200 ~299 | EY5: 300 ~499 | EZ5: 500수 이 상 | FB5: 계 | FC5: 1~9 | FD5: 10~49 | FE5: 50 ~99 | FF5: 100 ~199 | FG5: 200 ~299 | FH5: 300 ~499 | FI5: 500수 이 상 | FJ5: 계 | FK5: 1~9 | FL5: 10~49 | FM5: 50 ~99 | FN5: 100 ~199 | FO5: 200 ~299 | FP5: 300 ~499 | FQ5: 500수 이 상
A6: 계 | B6: =SUM(B7:B20) -> 642 | C6: =SUM(C7:C20) -> 173 | D6: =SUM(D7:D20) -> 106 | E6: =SUM(E7:E20) -> 74 | F6: =SUM(F7:F20) -> 62 | G6: =SUM(G7:G20) -> 35 | H6: =SUM(H7:H20) -> 129 | I6: =SUM(I7:I20) -> 54 | ... M6: =SUM(M7:M20) -> 2 | N6: 계 | O6: =SUM(O7:O20) -> 12 | P6: =SUM(P7:P20) -> 3 | Q6: =SUM(Q7:Q20) -> 0 | R6: =SUM(R7:R20) -> 0 | S6: =SUM(S7:S20) -> 1 | T6: =SUM(T7:T20) -> 0 | U6: =SUM(U7:U20) -> 7 | V6: =SUM(V7:V20) -> 1 | ... Z6: =SUM(Z7:Z20) -> 0 | AA6: 계 | AB6: =SUM(AB7:AB20) -> 18 | AC6: =SUM(AC7:AC20) -> 1 | AD6: =SUM(AD7:AD20) -> 0 | AE6: =SUM(AE7:AE20) -> 1 | AF6: =SUM(AF7:AF20) -> 0 | AG6: =SUM(AG7:AG20) -> 0 | AH6: =SUM(AH7:AH20) -> 0 | AI6: =SUM(AI7:AI20) -> 2 | ... AP6: =SUM(AP7:AP20) -> 0 | AR6: 계 | AS6: =SUM(AS7:AS20) -> 38 | AT6: =SUM(AT7:AT20) -> 2 | AU6: =SUM(AU7:AU20) -> 0 | AV6: =SUM(AV7:AV20) -> 0 | AW6: =SUM(AW7:AW20) -> 0 | AX6: =SUM(AX7:AX20) -> 0 | AY6: =SUM(AY7:AY20) -> 0 | AZ6: =SUM(AZ7:AZ20) -> 1 | ... BG6: =SUM(BG7:BG20) -> 1 | BH6: 계 | BI6: =SUM(BI7:BI20) -> 6 | BJ6: =SUM(BJ7:BJ20) -> 0 | BK6: =SUM(BK7:BK20) -> 0 | BL6: =SUM(BL7:BL20) -> 0 | BM6: =SUM(BM7:BM20) -> 0 | BN6: =SUM(BN7:BN20) -> 0 | BO6: =SUM(BO7:BO20) -> 0 | BP6: =SUM(BP7:BP20) -> 0 | ... BV6: =SUM(BV7:BV20) -> 0 | BY6: 계 | BZ6: =SUM(BZ7:BZ20) -> 101 | CA6: =SUM(CA7:CA20) -> 11 | CB6: =SUM(CB7:CB20) -> 22 | CC6: =SUM(CC7:CC20) -> 10 | CD6: =SUM(CD7:CD20) -> 4 | CE6: =SUM(CE7:CE20) -> 9 | CF6: =SUM(CF7:CF20) -> 12 | CG6: =SUM(CG7:CG20) -> 11 | ... CJ6: =SUM(CJ7:CJ20) -> 2 | CL6: 계 | CM6: =SUM(CM7:CM20) -> 0 | CN6: =SUM(CN7:CN20) -> 0 | CO6: =SUM(CO7:CO20) -> 0 | CP6: =SUM(CP7:CP20) -> 0 | CQ6: =SUM(CQ7:CQ20) -> 0 | CR6: =SUM(CR7:CR20) -> 0 | CS6: =SUM(CS7:CS20) -> 0 | CT6: =SUM(CT7:CT20) -> 0 | ... CW6: =SUM(CW7:CW20) -> 0 | CY6: 계 | CZ6: =SUM(CZ7:CZ20) -> 3 | DA6: =SUM(DA7:DA20) -> 0 | DB6: =SUM(DB7:DB20) -> 3 | DC6: =SUM(DC7:DC20) -> 0 | DD6: =SUM(DD7:DD20) -> 0 | DE6: =SUM(DE7:DE20) -> 0 | DF6: =SUM(DF7:DF20) -> 0 | DG6: =SUM(DG7:DG20) -> 0 | DR6: 계 | DS6: =SUM(DT6:EE6) -> 4 | DT6: =SUM(DT7:DT20) -> 3 | DU6: =SUM(DU7:DU20) -> 1 | DV6: =SUM(DV7:DV20) -> 0 | DW6: =SUM(DW7:DW20) -> 0 | DX6: =SUM(DX7:DX20) -> 0 | DY6: =SUM(DY7:DY20) -> 0 | DZ6: =SUM(DZ7:DZ20) -> 0 | EA6: =SUM(EA7:EA20) -> 0 | ... EE6: =SUM(EE7:EE20) -> 0 | EJ6: 계 | EK6: =SUM(EK7:EK20) -> 1 | EL6: =SUM(EL7:EL20) -> 1 | EM6: =SUM(EM7:EM20) -> 0 | EN6: =SUM(EN7:EN20) -> 0 | EO6: =SUM(EO7:EO20) -> 0 | EP6: =SUM(EP7:EP20) -> 0 | EQ6: =SUM(EQ7:EQ20) -> 0 | ER6: =SUM(ER7:ER20) -> 0 | ... EZ6: =SUM(EZ7:EZ20) -> 0 | FA6: 계 | FB6: =SUM(FB7:FB20) -> 0 | FC6: =SUM(FC7:FC20) -> 0 | FD6: =SUM(FD7:FD20) -> 0 | FE6: =SUM(FE7:FE20) -> 0 | FF6: =SUM(FF7:FF20) -> 0 | FG6: =SUM(FG7:FG20) -> 0 | FH6: =SUM(FH7:FH20) -> 0 | FI6: =SUM(FI7:FI20) -> 0 | ... FQ6: =SUM(FQ7:FQ20) -> 0
A7: 순창읍 | B7: =SUM(C7:M7) -> 27 | C7: 10 | D7: 5 | E7: 2 | F7: 3 | G7: 1 | H7: 5 | I7: 1 | N7: 순창읍 | O7: =SUM(P7:Z7) -> 0 | AA7: 순창읍 | AB7: =SUM(AC7:AP7) -> 0 | AR7: 순창읍 | AS7: =SUM(AT7:BG7) -> 3 | BA7: 1 | BD7: 1 | BE7: 1 | BH7: 순창읍 | BI7: =SUM(BJ7:BV7) -> 1 | BT7: 1 | BY7: 순창읍 | BZ7: =SUM(CA7:CJ7) -> 7 | CA7: 1 | CB7: 5 | CE7: 1 | CL7: 순창읍 | CM7: =SUM(CN7:CX7) -> 0 | CY7: 순창읍 | CZ7: =SUM(DA7:DH7) -> 0 | DR7: 순창읍 | DS7: =SUM(DT7:EE7) -> 0 | EJ7: 순창읍 | EK7: =SUM(EL7+EM7+EN7+EO7+EP7+EQ7+ER7) -> 0 | ES7: =SUM(ET7+EU7+EV7+EW7+EX7+EY7+EZ7) -> 0 | FA7: 순창읍 | FB7: =SUM(FC7+FD7+FE7+FF7+FG7+FH7+FI7) -> 0 | FJ7: =SUM(FK7+FL7+FM7+FN7+FO7+FP7+FQ7) -> 0
A8: 인계면 | B8: =SUM(C8:M8) -> 42 | C8: 8 | D8: 5 | E8: 4 | F8: 7 | G8: 1 | H8: 12 | I8: 4 | M8: 1 | N8: 인계면 | O8: =SUM(P8:Z8) -> 0 | AA8: 인계면 | AB8: =SUM(AC8:AP8) -> 6 | AI8: 1 | AL8: 1 | AM8: 3 | AN8: 1 | AR8: 인계면 | AS8: =SUM(AT8:BG8) -> 2 | AT8: 1 | BE8: 1 | BH8: 인계면 | BI8: =SUM(BJ8:BV8) -> 1 | BT8: 1 | BY8: 인계면 | BZ8: =SUM(CA8:CJ8) -> 4 | CB8: 1 | CE8: 1 | CF8: 1 | CH8: 1 | CL8: 인계면 | CM8: =SUM(CN8:CX8) -> 0 | CY8: 인계면 | CZ8: =SUM(DA8:DH8) -> 2 | DB8: 2 | DR8: 인계면 | DS8: =SUM(DT8:EE8) -> 0 | EJ8: 인계면 | EK8: =SUM(EL8+EM8+EN8+EO8+EP8+EQ8+ER8) -> 0 | ES8: =SUM(ET8+EU8+EV8+EW8+EX8+EY8+EZ8) -> 0 | FA8: 인계면 | FB8: =SUM(FC8+FD8+FE8+FF8+FG8+FH8+FI8) -> 0 | FJ8: =SUM(FK8+FL8+FM8+FN8+FO8+FP8+FQ8) -> 0
A9: 동계면 | B9: =SUM(C9:M9) -> 50 | C9: 16 | D9: 7 | E9: 7 | F9: 9 | G9: 1 | H9: 8 | I9: 2 | N9: 동계면 | O9: =SUM(P9:Z9) -> 2 | U9: 2 | AA9: 동계면 | AB9: =SUM(AC9:AP9) -> 2 | AK9: 1 | AM9: 1 | AR9: 동계면 | AS9: =SUM(AT9:BG9) -> 10 | BA9: 5 | BB9: 2 | BD9: 1 | BE9: 1 | BG9: 1 | BH9: 동계면 | BI9: =SUM(BJ9:BV9) -> 3 | BS9: 1 | BT9: 2 | BY9: 동계면 | BZ9: =SUM(CA9:CJ9) -> 1 | CE9: 1 | CL9: 동계면 | CM9: =SUM(CN9:CX9) -> 0 | CY9: 동계면 | CZ9: =SUM(DA9:DH9) -> 0 | DR9: 동계면 | DS9: =SUM(DT9:EE9) -> 0 | EJ9: 동계면 | EK9: =SUM(EL9+EM9+EN9+EO9+EP9+EQ9+ER9) -> 0 | ES9: =SUM(ET9+EU9+EV9+EW9+EX9+EY9+EZ9) -> 0 | FA9: 동계면 | FB9: =SUM(FC9+FD9+FE9+FF9+FG9+FH9+FI9) -> 0 | FJ9: =SUM(FK9+FL9+FM9+FN9+FO9+FP9+FQ9) -> 0
A10: 적성면 | B10: =SUM(C10:M10) -> 21 | C10: 7 | D10: 6 | F10: 2 | G10: 2 | H10: 3 | I10: 1 | N10: 적성면 | O10: =SUM(P10:Z10) -> 2 | U10: 1 | V10: 1 | AA10: 적성면 | AB10: =SUM(AC10:AP10) -> 2 | AC10: 1 | AI10: 1 | AR10: 적성면 | AS10: =SUM(AT10:BG10) -> 7 | AT10: 1 | AZ10: 1 | BB10: 2 | BC10: 1 | BE10: 2 | BH10: 적성면 | BI10: =SUM(BJ10:BV10) -> 0 | BY10: 적성면 | BZ10: =SUM(CA10:CJ10) -> 1 | CD10: 1 | CL10: 적성면 | CM10: =SUM(CN10:CX10) -> 0 | CY10: 적성면 | CZ10: =SUM(DA10:DH10) -> 0 | DR10: 적성면 | DS10: =SUM(DT10:EE10) -> 0 | EJ10: 적성면 | EK10: =SUM(EL10+EM10+EN10+EO10+EP10+EQ10+ER10) -> 0 | ES10: =SUM(ET10+EU10+EV10+EW10+EX10+EY10+EZ10) -> 0 | FA10: 적성면 | FB10: =SUM(FC10+FD10+FE10+FF10+FG10+FH10+FI10) -> 0 | FJ10: =SUM(FK10+FL10+FM10+FN10+FO10+FP10+FQ10) -> 0
A11: 유등면 | B11: =SUM(C11:M11) -> 35 | C11: 8 | D11: 4 | E11: 7 | G11: 1 | H11: 11 | I11: 3 | J11: 1 | N11: 유등면 | O11: =SUM(P11:Z11) -> 0 | AA11: 유등면 | AB11: =SUM(AC11:AP11) -> 2 | AE11: 1 | AO11: 1 | AR11: 유등면 | AS11: =SUM(AT11:BG11) -> 4 | BE11: 2 | BF11: 2 | BH11: 유등면 | BI11: =SUM(BJ11:BV11) -> 0 | BY11: 유등면 | BZ11: =SUM(CA11:CJ11) -> 6 | CB11: 1 | CC11: 1 | CE11: 3 | CH11: 1 | CL11: 유등면 | CM11: =SUM(CN11:CX11) -> 0 | CY11: 유등면 | CZ11: =SUM(DA11:DH11) -> 0 | DR11: 유등면 | DS11: =SUM(DT11:EE11) -> 0 | EJ11: 유등면 | EK11: =SUM(EL11+EM11+EN11+EO11+EP11+EQ11+ER11) -> 0 | ES11: =SUM(ET11+EU11+EV11+EW11+EX11+EY11+EZ11) -> 0 | FA11: 유등면 | FB11: =SUM(FC11+FD11+FE11+FF11+FG11+FH11+FI11) -> 0 | FJ11: =SUM(FK11+FL11+FM11+FN11+FO11+FP11+FQ11) -> 0
A12: 풍산면 | B12: =SUM(C12:M12) -> 56 | C12: 15 | D12: 4 | E12: 8 | F12: 11 | G12: 2 | H12: 10 | I12: 6 | N12: 풍산면 | O12: =SUM(P12:Z12) -> 5 | P12: 2 | U12: 3 | AA12: 풍산면 | AB12: =SUM(AC12:AP12) -> 2 | AK12: 1 | AN12: 1 | AR12: 풍산면 | AS12: =SUM(AT12:BG12) -> 2 | BE12: 2 | BH12: 풍산면 | BI12: =SUM(BJ12:BV12) -> 0 | BY12: 풍산면 | BZ12: =SUM(CA12:CJ12) -> 9 | CC12: 4 | CH12: 4 | CI12: 1 | CL12: 풍산면 | CM12: =SUM(CN12:CX12) -> 0 | CY12: 풍산면 | CZ12: =SUM(DA12:DH12) -> 0 | DR12: 풍산면 | DS12: =SUM(DT12:EE12) -> 0 | EJ12: 풍산면 | EK12: =SUM(EL12+EM12+EN12+EO12+EP12+EQ12+ER12) -> 0 | ES12: =SUM(ET12+EU12+EV12+EW12+EX12+EY12+EZ12) -> 0 | FA12: 풍산면 | FB12: =SUM(FC12+FD12+FE12+FF12+FG12+FH12+FI12) -> 0 | FJ12: =SUM(FK12+FL12+FM12+FN12+FO12+FP12+FQ12) -> 0
A13: 금과면 | B13: =SUM(C13:M13) -> 35 | C13: 9 | D13: 5 | E13: 6 | F13: 2 | G13: 1 | H13: 6 | I13: 5 | L13: 1 | N13: 금과면 | O13: =SUM(P13:Z13) -> 2 | S13: 1 | U13: 1 | AA13: 금과면 | AB13: =SUM(AC13:AP13) -> 0 | AR13: 금과면 | AS13: =SUM(AT13:BG13) -> 5 | BC13: 3 | BE13: 2 | BH13: 금과면 | BI13: =SUM(BJ13:BV13) -> 0 | BY13: 금과면 | BZ13: =SUM(CA13:CJ13) -> 10 | CB13: 5 | CC13: 2 | CD13: 1 | CF13: 2 | CL13: 금과면 | CM13: =SUM(CN13:CX13) -> 0 | CY13: 금과면 | CZ13: =SUM(DA13:DH13) -> 0 | DR13: 금과면 | DS13: =SUM(DT13:EE13) -> 0 | EJ13: 금과면 | EK13: =SUM(EL13+EM13+EN13+EO13+EP13+EQ13+ER13) -> 0 | ES13: =SUM(ET13+EU13+EV13+EW13+EX13+EY13+EZ13) -> 0 | FA13: 금과면 | FB13: =SUM(FC13+FD13+FE13+FF13+FG13+FH13+FI13) -> 0 | FJ13: =SUM(FK13+FL13+FM13+FN13+FO13+FP13+FQ13) -> 0
A14: 팔덕면 | B14: =SUM(C14:M14) -> 64 | C14: 24 | D14: 18 | E14: 5 | F14: 4 | G14: 3 | H14: 5 | I14: 3 | J14: 2 | N14: 팔덕면 | O14: =SUM(P14:Z14) -> 1 | P14: 1 | AA14: 팔덕면 | AB14: =SUM(AC14:AP14) -> 1 | AJ14: 1 | AR14: 팔덕면 | AS14: =SUM(AT14:BG14) -> 3 | BC14: 1 | BD14: 1 | BE14: 1 | BH14: 팔덕면 | BI14: =SUM(BJ14:BV14) -> 1 | BT14: 1 | BY14: 팔덕면 | BZ14: =SUM(CA14:CJ14) -> 11 | CF14: 1 | CG14: 4 | CH14: 5 | CJ14: 1 | CL14: 팔덕면 | CM14: =SUM(CN14:CX14) -> 0 | CY14: 팔덕면 | CZ14: =SUM(DA14:DH14) -> 1 | DB14: 1 | DR14: 팔덕면 | DS14: =SUM(DT14:EE14) -> 0 | EJ14: 팔덕면 | EK14: =SUM(EL14+EM14+EN14+EO14+EP14+EQ14+ER14) -> 0 | ES14: =SUM(ET14+EU14+EV14+EW14+EX14+EY14+EZ14) -> 0 | FA14: 팔덕면 | FB14: =SUM(FC14+FD14+FE14+FF14+FG14+FH14+FI14) -> 0 | FJ14: =SUM(FK14+FL14+FM14+FN14+FO14+FP14+FQ14) -> 0
A15: 복흥면 | B15: =SUM(C15:M15) -> 91 | C15: 19 | D15: 12 | E15: 7 | F15: 7 | G15: 8 | H15: 26 | I15: 11 | J15: 1 | N15: 복흥면 | O15: =SUM(P15:Z15) -> 0 | AA15: 복흥면 | AB15: =SUM(AC15:AP15) -> 0 | AR15: 복흥면 | AS15: =SUM(AT15:BG15) -> 0 | BH15: 복흥면 | BI15: =SUM(BJ15:BV15) -> 0 | BY15: 복흥면 | BZ15: =SUM(CA15:CJ15) -> 7 | CA15: 1 | CF15: 1 | CG15: 3 | CH15: 1 | CI15: 1 | CL15: 복흥면 | CM15: =SUM(CN15:CX15) -> 0 | CY15: 복흥면 | CZ15: =SUM(DA15:DH15) -> 0 | DR15: 복흥면 | DS15: =SUM(DT15:EE15) -> 0 | EJ15: 복흥면 | EK15: =SUM(EL15+EM15+EN15+EO15+EP15+EQ15+ER15) -> 0 | ES15: =SUM(ET15+EU15+EV15+EW15+EX15+EY15+EZ15) -> 0 | FA15: 복흥면 | FB15: =SUM(FC15+FD15+FE15+FF15+FG15+FH15+FI15) -> 0 | FJ15: =SUM(FK15+FL15+FM15+FN15+FO15+FP15+FQ15) -> 0
A16: 쌍치면 | B16: =SUM(C16:M16) -> 33 | C16: 10 | D16: 6 | E16: 4 | F16: 2 | G16: 3 | H16: 7 | I16: 1 | N16: 쌍치면 | O16: =SUM(P16:Z16) -> 0 | AA16: 쌍치면 | AB16: =SUM(AC16:AP16) -> 1 | AL16: 1 | AR16: 쌍치면 | AS16: =SUM(AT16:BG16) -> 1 | BA16: 1 | BH16: 쌍치면 | BI16: =SUM(BJ16:BV16) -> 0 | BY16: 쌍치면 | BZ16: =SUM(CA16:CJ16) -> 13 | CA16: 4 | CB16: 6 | CC16: 1 | CD16: 2 | CL16: 쌍치면 | CM16: =SUM(CN16:CX16) -> 0 | CY16: 쌍치면 | CZ16: =SUM(DA16:DH16) -> 0 | DR16: 쌍치면 | DS16: =SUM(DT16:EE16) -> 4 | DT16: 3 | DU16: 1 | EJ16: 쌍치면 | EK16: =SUM(EL16+EM16+EN16+EO16+EP16+EQ16+ER16) -> 0 | ES16: =SUM(ET16+EU16+EV16+EW16+EX16+EY16+EZ16) -> 0 | FA16: 쌍치면 | FB16: =SUM(FC16+FD16+FE16+FF16+FG16+FH16+FI16) -> 0 | FJ16: =SUM(FK16+FL16+FM16+FN16+FO16+FP16+FQ16) -> 0
A17: 구림면 | B17: =SUM(C17:M17) -> 188 | C17: 47 | D17: 34 | E17: 24 | F17: 15 | G17: 12 | H17: 36 | I17: 17 | J17: 2 | M17: 1 | N17: 구림면 | O17: =SUM(P17:Z17) -> 0 | AA17: 구림면 | AB17: =SUM(AC17:AP17) -> 2 | AK17: 1 | AN17: 1 | AR17: 구림면 | AS17: =SUM(AT17:BG17) -> 1 | BE17: 1 | BH17: 구림면 | BI17: =SUM(BJ17:BV17) -> 0 | BY17: 구림면 | BZ17: =SUM(CA17:CJ17) -> 32 | CA17: 5 | CB17: 4 | CC17: 2 | CE17: 3 | CF17: 7 | CG17: 4 | CH17: 6 | CJ17: 1 | CL17: 구림면 | CM17: =SUM(CN17:CX17) -> 0 | CY17: 구림면 | CZ17: =SUM(DA17:DH17) -> 0 | DR17: 구림면 | DS17: =SUM(DT17:EE17) -> 0 | EJ17: 구림면 | EK17: =SUM(EL17+EM17+EN17+EO17+EP17+EQ17+ER17) -> 1 | EL17: 1 | ES17: =SUM(ET17+EU17+EV17+EW17+EX17+EY17+EZ17) -> 1 | ET17: 1 | FA17: 구림면 | FB17: =SUM(FC17+FD17+FE17+FF17+FG17+FH17+FI17) -> 0 | FJ17: =SUM(FK17+FL17+FM17+FN17+FO17+FP17+FQ17) -> 0
B18: =SUM(C18:M18) -> 0 | O18: =SUM(P18:Z18) -> 0 | AB18: =SUM(AC18:AP18) -> 0 | AS18: =SUM(AT18:BG18) -> 0 | BI18: =SUM(BJ18:BV18) -> 0 | BZ18: =SUM(CA18:CJ18) -> 0 | CM18: =SUM(CN18:CX18) -> 0 | CZ18: =SUM(DA18:DH18) -> 0 | DS18: =SUM(DT18:EE18) -> 0 | EK18: =SUM(EL18+EM18+EN18+EO18+EP18+EQ18+ER18) -> 0 | ES18: =SUM(ET18+EU18+EV18+EW18+EX18+EY18+EZ18) -> 0 | FB18: =SUM(FC18+FD18+FE18+FF18+FG18+FH18+FI18) -> 0 | FJ18: =SUM(FK18+FL18+FM18+FN18+FO18+FP18+FQ18) -> 0
B19: =SUM(C19:M19) -> 0 | O19: =SUM(P19:Z19) -> 0 | AB19: =SUM(AC19:AP19) -> 0 | AS19: =SUM(AT19:BG19) -> 0 | BI19: =SUM(BJ19:BV19) -> 0 | BZ19: =SUM(CA19:CJ19) -> 0 | CM19: =SUM(CN19:CX19) -> 0 | CZ19: =SUM(DA19:DH19) -> 0 | DS19: =SUM(DT19:EE19) -> 0 | EK19: =SUM(EL19+EM19+EN19+EO19+EP19+EQ19+ER19) -> 0 | ES19: =SUM(ET19+EU19+EV19+EW19+EX19+EY19+EZ19) -> 0 | FB19: =SUM(FC19+FD19+FE19+FF19+FG19+FH19+FI19) -> 0 | FJ19: =SUM(FK19+FL19+FM19+FN19+FO19+FP19+FQ19) -> 0
B20: =SUM(C20:M20) -> 0 | O20: =SUM(P20:Z20) -> 0 | AB20: =SUM(AC20:AP20) -> 0 | AS20: =SUM(AT20:BG20) -> 0 | BI20: =SUM(BJ20:BV20) -> 0 | BZ20: =SUM(CA20:CJ20) -> 0 | CM20: =SUM(CN20:CX20) -> 0 | CZ20: =SUM(DA20:DH20) -> 0 | DS20: =SUM(DT20:EE20) -> 0 | EK20: =SUM(EL20+EM20+EN20+EO20+EP20+EQ20+ER20) -> 0 | ES20: =SUM(ET20+EU20+EV20+EW20+EX20+EY20+EZ20) -> 0 | FB20: =SUM(FC20+FD20+FE20+FF20+FG20+FH20+FI20) -> 0 | FJ20: =SUM(FK20+FL20+FM20+FN20+FO20+FP20+FQ20) -> 0
A21: 14. 메추리 | N21: 15. 꿀 벌 | AA21: 16. 관상조 | BH21: 17. 타조 | BY21: 18. 오소리 | CL21: 19. 꿩 | CY21: 20. 지렁이 | DR21: 21. 기러기
A23: 14 - 1 메추리 사육규모별 농가수 | N23: 15 - 1 꿀벌 사육규모별 농가수 | AA23: 16 - 1 관상조 사육규모별 가구수 및 마리수 | BH23: 17 - 1 타조 사육규모별 농가수 | BY23: 18 - 1 오소리 사육규모별 농가수 | CL23: 19 - 1 꿩 사육규모별 농가수 | CY23: 20-1 지렁이 사육규모별 농가수 및 마리수 | DR23: 21-1 기러기 사육규모별 농가수 및 마리수
AA24: 구분 | AB24: 사 육 가 구 수 | AJ24: 사 육 마 리 수 | BH24: 구분 | BI24: 사 육 가 구 수 | BQ24: 사 육 마 리 수 | CY24: 구분 | CZ24: 사 육 가 구 수 | DF24: 비고 | DI24: 면 적(㎡) | DO24: 비고 | DR24: 구분 | DS24: 사 육 가 구 수
A25: 구분 | B25: 계 | C25: 1~99 | D25: 100~499 | E25: 500~999 | F25: 1,000 ~9,999 | G25: 10,000 ~19,999 | H25: 20,000 ~29,999 | I25: 30,000 ~39,999 | J25: 40,000 ~49,999 | K25: 50,000 ~99,999 | L25: 100,000 이상 | M25: 비 고 | N25: 구분 | O25: 계 | P25: 1~9 | Q25: 10~49 | S25: 50~99 | T25: 100 ~199 | U25: 200 ~299 | V25: 300 ~499 | W25: 500 ~999 | X25: 1,000군 이상 | Y25: 비고 | AB25: 계 | AC25: 1-99 | AD25: 100 ~499 | AE25: 500 ~999 | AF25: 1,000 ~1,999 | AG25: 2,000 ~2,999 | AH25: 3,000 ~4,999 | AI25: 5,000 이상 | AJ25: 계 | AK25: 1~99 | AL25: 100 ~499 | AM25: 500 ~999 | AN25: 1,000 ~1,999 | AO25: 2,000 ~2,999 | AP25: 3,000 ~4,999 | AQ25: 5,000 이상 | BI25: 계 | BJ25: 1~9 | BK25: 10~49 | BL25: 50 ~99 | BM25: 100 ~199 | BN25: 200 ~299 | BO25: 300 ~499 | BP25: 500두 이상 | BQ25: 계 | BR25: 1~9 | BS25: 10~49 | BT25: 50 ~99 | BU25: 100 ~199 | BV25: 200 ~299 | BW25: 300 ~499 | BX25: 500두 이상 | BY25: 구분 | BZ25: 계 | CA25: 1~9 | CB25: 10~19 | CC25: 20~29 | CD25: 30~49 | CE25: 50~99 | CF25: 100 ~299 | CG25: 300 ~499 | CH25: 500 ~ 999 | CI25: 1,000 두 이상 | CJ25: 비 고 | CL25: 구분 | CM25: 계 | CN25: 1~99 | CO25: 100 ~ 199 | CP25: 200 ~ 499 | CQ25: 500 - 999 | CR25: 1,000 - 2,999 | CS25: 3,000 - 4,999 | CT25: 5,000 ~9,999 | CU25: 10,000 이상 | CV25: 비 고 | CZ25: 계 | DA25: 1~599 | DB25: 600 ~999 | DC25: 1,000 ~1,999 | DD25: 2,000 ~2,999 | DE25: 3,000 이상 | DI25: 계 | DJ25: 1~599 | DK25: 600 ~999 | DL25: 1,000 ~1,999 | DM25: 2,000 ~2,999 | DN25: 3,000 이상 | DS25: 계 | DT25: 1~9 | DU25: 10~49 | DV25: 50 ~99 | DW25: 100 ~199 | DX25: 200 ~299 | DY25: 300 ~499 | DZ25: 500 이상 | EA25: 비고
A26: 계 | B26: =SUM(B27:B40) -> 0 | C26: =SUM(C27:C40) -> 0 | D26: =SUM(D27:D40) -> 0 | E26: =SUM(E27:E40) -> 0 | F26: =SUM(F27:F40) -> 0 | G26: =SUM(G27:G40) -> 0 | H26: =SUM(H27:H40) -> 0 | I26: =SUM(I27:I40) -> 0 | ... L26: =SUM(L27:L40) -> 0 | N26: 계 | O26: =SUM(O27:O40) -> 162 | P26: =SUM(P27:P40) -> 4 | Q26: =SUM(Q27:R40) -> 67 | S26: =SUM(S27:S40) -> 43 | T26: =SUM(T27:T40) -> 26 | U26: =SUM(U27:U40) -> 19 | V26: =SUM(V27:V40) -> 3 | W26: =SUM(W27:W40) -> 0 | X26: =SUM(X27:X40) -> 0 | AA26: 계 | AB26: =SUM(AB27:AB40) -> 0 | AC26: =SUM(AC27:AC40) -> 0 | AD26: =SUM(AD27:AD40) -> 0 | AE26: =SUM(AE27:AE40) -> 0 | AF26: =SUM(AF27:AF40) -> 0 | AG26: =SUM(AG27:AG40) -> 0 | AH26: =SUM(AH27:AH40) -> 0 | AI26: =SUM(AI27:AI40) -> 0 | ... AQ26: =SUM(AQ27:AQ40) -> 0 | BH26: 계 | BI26: =SUM(BJ26:BP26) -> 1 | BJ26: =SUM(BJ27:BJ40) -> 1 | BK26: =SUM(BK27:BK40) -> 0 | BL26: =SUM(BL27:BL40) -> 0 | BM26: =SUM(BM27:BM40) -> 0 | BN26: =SUM(BN27:BN40) -> 0 | BO26: =SUM(BO27:BO40) -> 0 | BP26: =SUM(BP27:BP40) -> 0 | BQ26: =SUM(BR26:BX26) -> 2 | BR26: =SUM(BR27:BR40) -> 2 | BS26: =SUM(BS27:BS40) -> 0 | BT26: =SUM(BT27:BT40) -> 0 | BU26: =SUM(BU27:BU40) -> 0 | BV26: =SUM(BV27:BV40) -> 0 | BW26: =SUM(BW27:BW40) -> 0 | BX26: =SUM(BX27:BX40) -> 0 | BY26: 계 | BZ26: =SUM(BZ27:BZ40) -> 0 | CA26: =SUM(CA27:CA40) -> 0 | CB26: =SUM(CB27:CB40) -> 0 | CC26: =SUM(CC27:CC40) -> 0 | CD26: =SUM(CD27:CD40) -> 0 | CE26: =SUM(CE27:CE40) -> 0 | CF26: =SUM(CF27:CF40) -> 0 | CG26: =SUM(CG27:CG40) -> 0 | ... CJ26: =SUM(CJ27:CJ40) -> 0 | CL26: 계 | CM26: =SUM(CM27:CM40) -> 0 | CN26: =SUM(CN27:CN40) -> 0 | CO26: =SUM(CO27:CO40) -> 0 | CP26: =SUM(CP27:CP40) -> 0 | CQ26: =SUM(CQ27:CQ40) -> 0 | CR26: =SUM(CR27:CR40) -> 0 | CS26: =SUM(CS27:CS40) -> 0 | CT26: =SUM(CT27:CT40) -> 0 | CU26: =SUM(CU27:CU40) -> 0 | CZ26: =SUM(CZ27:CZ40) -> 2 | DA26: =SUM(DA27:DA40) -> 0 | DB26: =SUM(DB27:DB40) -> 0 | DC26: =SUM(DC27:DC40) -> 0 | DD26: =SUM(DD27:DD40) -> 0 | DE26: =SUM(DE27:DE40) -> 2 | DI26: =SUM(DI27:DI40) -> 4200 | DJ26: =SUM(DJ27:DJ40) -> 0 | DK26: =SUM(DK27:DK40) -> 0 | DL26: =SUM(DL27:DL40) -> 1000 | DM26: =SUM(DM27:DM40) -> 0 | DN26: =SUM(DN27:DN40) -> 3200 | DS26: =SUM(DS27:DS40) -> 2 | DT26: =SUM(DT27:DT40) -> 2 | DU26: =SUM(DU27:DU40) -> 0 | DV26: =SUM(DV27:DV40) -> 0 | DW26: =SUM(DW27:DW40) -> 0 | DX26: =SUM(DX27:DX40) -> 0 | DY26: =SUM(DY27:DY40) -> 0 | DZ26: =SUM(DZ27:DZ40) -> 0
A27: 순창읍 | B27: =SUM(C27:M27) -> 0 | N27: 순창읍 | O27: =SUM(P27:X27) -> 16 | Q27: 8 | S27: 5 | T27: 2 | V27: 1 | AA27: 순창읍 | AB27: =SUM(AC27:AI27) -> 0 | AJ27: =SUM(AK27:AQ27) -> 0 | BH27: 순창읍 | BI27: =SUM(BJ27:BP27) -> 0 | BQ27: =SUM(BR27:BX27) -> 0 | BY27: 순창읍 | BZ27: =SUM(CA27:CI27) -> 0 | CL27: 순창읍 | CM27: =SUM(CN27:CU27) -> 0 | CY27: 순창읍 | CZ27: =SUM(DA27:DE27) -> 0 | DI27: =SUM(DJ27:DN27) -> 0 | DR27: 순창읍 | DS27: =SUM(DT27:DZ27) -> 0
A28: 인계면 | B28: =SUM(C28:M28) -> 0 | N28: 인계면 | O28: =SUM(P28:X28) -> 13 | Q28: 6 | S28: 4 | T28: 1 | U28: 2 | AA28: 인계면 | AB28: =SUM(AC28:AI28) -> 0 | AJ28: =SUM(AK28:AQ28) -> 0 | BH28: 인계면 | BI28: =SUM(BJ28:BP28) -> 0 | BQ28: =SUM(BR28:BX28) -> 0 | BY28: 인계면 | BZ28: =SUM(CA28:CI28) -> 0 | CL28: 인계면 | CM28: =SUM(CN28:CU28) -> 0 | CY28: 인계면 | CZ28: =SUM(DA28:DE28) -> 1 | DE28: 1 | DI28: =SUM(DJ28:DN28) -> 1000 | DL28: 1000 | DR28: 인계면 | DS28: =SUM(DT28:DZ28) -> 0
A29: 동계면 | B29: =SUM(C29:M29) -> 0 | N29: 동계면 | O29: =SUM(P29:X29) -> 17 | Q29: 3 | S29: 3 | T29: 3 | U29: 7 | V29: 1 | AA29: 동계면 | AB29: =SUM(AC29:AI29) -> 0 | AJ29: =SUM(AK29:AQ29) -> 0 | BH29: 동계면 | BI29: =SUM(BJ29:BP29) -> 0 | BQ29: =SUM(BR29:BX29) -> 0 | BY29: 동계면 | BZ29: =SUM(CA29:CI29) -> 0 | CL29: 동계면 | CM29: =SUM(CN29:CU29) -> 0 | CY29: 동계면 | CZ29: =SUM(DA29:DE29) -> 0 | DI29: =SUM(DJ29:DN29) -> 0 | DR29: 동계면 | DS29: =SUM(DT29:DZ29) -> 0
A30: 적성면 | B30: =SUM(C30:M30) -> 0 | N30: 적성면 | O30: =SUM(P30:X30) -> 10 | Q30: 3 | S30: 4 | U30: 3 | AA30: 적성면 | AB30: =SUM(AC30:AI30) -> 0 | AJ30: =SUM(AK30:AQ30) -> 0 | BH30: 적성면 | BI30: =SUM(BJ30:BP30) -> 0 | BQ30: =SUM(BR30:BX30) -> 0 | BY30: 적성면 | BZ30: =SUM(CA30:CI30) -> 0 | CL30: 적성면 | CM30: =SUM(CN30:CU30) -> 0 | CY30: 적성면 | CZ30: =SUM(DA30:DE30) -> 0 | DI30: =SUM(DJ30:DN30) -> 0 | DR30: 적성면 | DS30: =SUM(DT30:DZ30) -> 0
A31: 유등면 | B31: =SUM(C31:M31) -> 0 | N31: 유등면 | O31: =SUM(P31:X31) -> 2 | Q31: 1 | T31: 1 | AA31: 유등면 | AB31: =SUM(AC31:AI31) -> 0 | AJ31: =SUM(AK31:AQ31) -> 0 | BH31: 유등면 | BI31: =SUM(BJ31:BP31) -> 0 | BQ31: =SUM(BR31:BX31) -> 0 | BY31: 유등면 | BZ31: =SUM(CA31:CI31) -> 0 | CL31: 유등면 | CM31: =SUM(CN31:CU31) -> 0 | CY31: 유등면 | CZ31: =SUM(DA31:DE31) -> 0 | DI31: =SUM(DJ31:DN31) -> 0 | DR31: 유등면 | DS31: =SUM(DT31:DZ31) -> 0
A32: 풍산면 | B32: =SUM(C32:M32) -> 0 | N32: 풍산면 | O32: =SUM(P32:X32) -> 13 | Q32: 6 | S32: 3 | T32: 2 | U32: 1 | V32: 1 | AA32: 풍산면 | AB32: =SUM(AC32:AI32) -> 0 | AJ32: =SUM(AK32:AQ32) -> 0 | BH32: 풍산면 | BI32: =SUM(BJ32:BP32) -> 0 | BQ32: =SUM(BR32:BX32) -> 0 | BY32: 풍산면 | BZ32: =SUM(CA32:CI32) -> 0 | CL32: 풍산면 | CM32: =SUM(CN32:CU32) -> 0 | CY32: 풍산면 | CZ32: =SUM(DA32:DE32) -> 0 | DI32: =SUM(DJ32:DN32) -> 0 | DR32: 풍산면 | DS32: =SUM(DT32:DZ32) -> 0
A33: 금과면 | B33: =SUM(C33:M33) -> 0 | N33: 금과면 | O33: =SUM(P33:X33) -> 19 | Q33: 8 | S33: 3 | T33: 7 | U33: 1 | AA33: 금과면 | AB33: =SUM(AC33:AI33) -> 0 | AJ33: =SUM(AK33:AQ33) -> 0 | BH33: 금과면 | BI33: =SUM(BJ33:BP33) -> 0 | BQ33: =SUM(BR33:BX33) -> 0 | BY33: 금과면 | BZ33: =SUM(CA33:CI33) -> 0 | CL33: 금과면 | CM33: =SUM(CN33:CU33) -> 0 | CY33: 금과면 | CZ33: =SUM(DA33:DE33) -> 0 | DI33: =SUM(DJ33:DN33) -> 0 | DR33: 금과면 | DS33: =SUM(DT33:DZ33) -> 0
A34: 팔덕면 | B34: =SUM(C34:M34) -> 0 | N34: 팔덕면 | O34: =SUM(P34:X34) -> 8 | Q34: 2 | S34: 4 | T34: 1 | U34: 1 | AA34: 팔덕면 | AB34: =SUM(AC34:AI34) -> 0 | AJ34: =SUM(AK34:AQ34) -> 0 | BH34: 팔덕면 | BI34: =SUM(BJ34:BP34) -> 0 | BQ34: =SUM(BR34:BX34) -> 0 | BY34: 팔덕면 | BZ34: =SUM(CA34:CI34) -> 0 | CL34: 팔덕면 | CM34: =SUM(CN34:CU34) -> 0 | CY34: 팔덕면 | CZ34: =SUM(DA34:DE34) -> 0 | DI34: =SUM(DJ34:DN34) -> 0 | DR34: 팔덕면 | DS34: =SUM(DT34:DZ34) -> 0
A35: 복흥면 | B35: =SUM(C35:M35) -> 0 | N35: 복흥면 | O35: =SUM(P35:X35) -> 10 | Q35: 6 | S35: 2 | T35: 1 | U35: 1 | AA35: 복흥면 | AB35: =SUM(AC35:AI35) -> 0 | AJ35: =SUM(AK35:AQ35) -> 0 | BH35: 복흥면 | BI35: =SUM(BJ35:BP35) -> 0 | BQ35: =SUM(BR35:BX35) -> 0 | BY35: 복흥면 | BZ35: =SUM(CA35:CI35) -> 0 | CL35: 복흥면 | CM35: =SUM(CN35:CU35) -> 0 | CY35: 복흥면 | CZ35: =SUM(DA35:DE35) -> 1 | DE35: 1 | DI35: =SUM(DJ35:DN35) -> 3200 | DN35: 3200 | DR35: 복흥면 | DS35: =SUM(DT35:DZ35) -> 0
A36: 쌍치면 | B36: =SUM(C36:M36) -> 0 | N36: 쌍치면 | O36: =SUM(P36:X36) -> 31 | P36: 3 | Q36: 14 | S36: 8 | T36: 5 | U36: 1 | AA36: 쌍치면 | AB36: =SUM(AC36:AI36) -> 0 | AJ36: =SUM(AK36:AQ36) -> 0 | BH36: 쌍치면 | BI36: =SUM(BJ36:BP36) -> 0 | BQ36: =SUM(BR36:BX36) -> 0 | BY36: 쌍치면 | BZ36: =SUM(CA36:CI36) -> 0 | CL36: 쌍치면 | CM36: =SUM(CN36:CU36) -> 0 | CY36: 쌍치면 | CZ36: =SUM(DA36:DE36) -> 0 | DI36: =SUM(DJ36:DN36) -> 0 | DR36: 쌍치면 | DS36: =SUM(DT36:DZ36) -> 0
A37: 구림면 | B37: =SUM(C37:M37) -> 0 | N37: 구림면 | O37: =SUM(P37:X37) -> 23 | P37: 1 | Q37: 10 | S37: 7 | T37: 3 | U37: 2 | AA37: 구림면 | AB37: =SUM(AC37:AI37) -> 0 | AJ37: =SUM(AK37:AQ37) -> 0 | BH37: 구림면 | BI37: =SUM(BJ37:BP37) -> 1 | BJ37: 1 | BQ37: =SUM(BR37:BX37) -> 2 | BR37: 2 | BY37: 구림면 | BZ37: =SUM(CA37:CI37) -> 0 | CL37: 구림면 | CM37: =SUM(CN37:CU37) -> 0 | CY37: 구림면 | CZ37: =SUM(DA37:DE37) -> 0 | DI37: =SUM(DJ37:DN37) -> 0 | DR37: 구림면 | DS37: =SUM(DT37:DZ37) -> 2 | DT37: 2
B38: =SUM(C38:M38) -> 0 | O38: =SUM(P38:X38) -> 0 | AB38: =SUM(AC38:AI38) -> 0 | AJ38: =SUM(AK38:AQ38) -> 0 | BI38: =SUM(BJ38:BP38) -> 0 | BQ38: =SUM(BR38:BX38) -> 0 | BZ38: =SUM(CA38:CI38) -> 0 | CM38: =SUM(CN38:CU38) -> 0 | CZ38: =SUM(DA38:DE38) -> 0 | DI38: =SUM(DJ38:DN38) -> 0 | DS38: =SUM(DT38:DZ38) -> 0
B39: =SUM(C39:M39) -> 0 | O39: =SUM(P39:X39) -> 0 | AB39: =SUM(AC39:AI39) -> 0 | AJ39: =SUM(AK39:AQ39) -> 0 | BI39: =SUM(BJ39:BP39) -> 0 | BQ39: =SUM(BR39:BX39) -> 0 | BZ39: =SUM(CA39:CI39) -> 0 | CM39: =SUM(CN39:CU39) -> 0 | CZ39: =SUM(DA39:DE39) -> 0 | DI39: =SUM(DJ39:DN39) -> 0 | DS39: =SUM(DT39:DZ39) -> 0
B40: =SUM(C40:M40) -> 0 | O40: =SUM(P40:X40) -> 0 | AB40: =SUM(AC40:AI40) -> 0 | AJ40: =SUM(AK40:AQ40) -> 0 | BI40: =SUM(BJ40:BP40) -> 0 | BQ40: =SUM(BR40:BX40) -> 0 | BZ40: =SUM(CA40:CI40) -> 0 | CM40: =SUM(CN40:CU40) -> 0 | CZ40: =SUM(DA40:DE40) -> 0 | DI40: =SUM(DJ40:DN40) -> 0 | DS40: =SUM(DT40:DZ40) -> 0
N41: 15. 꿀 벌
N43: 15 - 1 - 2 꿀벌 사육규모별 군수
E45: https://kass.mafra.go.kr/ | N45: 구분 | O45: 계 | P45: 1~9 | Q45: 10~49 | S45: 50~99 | T45: 100 ~199 | U45: 200 ~299 | V45: 300 ~499 | W45: 500 ~999 | X45: 1,000군 이상 | Y45: 비고
E46: ka3556000008 | N46: 계 | O46: =SUM(O47:O60) -> 13413 | P46: =SUM(P47:P60) -> 22 | Q46: =SUM(Q47:R60) -> 1999 | S46: =SUM(S47:S60) -> 2756 | T46: =SUM(T47:T60) -> 3342 | U46: =SUM(U47:U60) -> 4244 | V46: =SUM(V47:V60) -> 1050 | W46: =SUM(W47:W60) -> 0 | X46: =SUM(X47:X60) -> 0
N47: 순창읍 | O47: =SUM(P47:X47) -> 1236 | P47: 0 | Q47: 298 | S47: 368 | T47: 220 | U47: 0 | V47: 350
N48: 인계면 | O48: =SUM(P48:X48) -> 938 | Q48: 198 | S48: 220 | T48: 100 | U48: 420
N49: 동계면 | O49: =SUM(P49:X49) -> 2594 | Q49: 74 | S49: 220 | T49: 320 | U49: 1580 | V49: 400
N50: 적성면 | O50: =SUM(P50:X50) -> 989 | Q50: 113 | S50: 226 | U50: 650
N51: 유등면 | O51: =SUM(P51:X51) -> 197 | Q51: 47 | T51: 150
N52: 풍산면 | O52: =SUM(P52:X52) -> 1213 | Q52: 196 | S52: 217 | T52: 300 | U52: 200 | V52: 300
N53: 금과면 | O53: =SUM(P53:X53) -> 1585 | Q53: 248 | S53: 192 | T53: 915 | U53: 230
N54: 팔덕면 | O54: =SUM(P54:X54) -> 598 | Q54: 53 | S54: 151 | T54: 180 | U54: 214
N55: 복흥면 | O55: =SUM(P55:X55) -> 650 | Q55: 170 | S55: 130 | T55: 150 | U55: 200
N56: 쌍치면 | O56: =SUM(P56:X56) -> 1842 | P56: 21 | Q56: 399 | S56: 552 | T56: 620 | U56: 250
N57: 구림면 | O57: =SUM(P57:X57) -> 1571 | P57: 1 | Q57: 203 | S57: 480 | T57: 387 | U57: 500
O58: =SUM(P58:X58) -> 0
O59: =SUM(P59:X59) -> 0
O60: =SUM(P60:X60) -> 0

Sheet (붙임3)24년12월 마리수
A1: 1-2 한육우 사육규모별 마리수 | N1: 2 - 2 젖소 사육규모별 마리수 | EM1: 10 - 2 개 연령별 성별 마리수 | EW1: 10 - 2 - 1 개 종별 사육목적별 마리수 | FG1: 12-2 칠면조 연령별 성별 마리수 | FX1: 13 - 2 거위 연령별 성별 마리수
AA2: 3 - 2 돼지 사육규모별 마리수 | AV2: 4 - 2 닭 사육규모별 수수 | BQ2: 5 - 2 오리 사육규모별 수수 | CK2: 6 - 2 염소(산양) 사육규모별 마리수 | CX2: 7 - 2 면양 사육규모별 마리수 | DK2: 8 - 2 사슴 사육규모별 마리수 | DU2: 9 - 2 토끼 사육규모별 마리수 | EM2: 구분 | EN2: 연 령 별 성 별 마 리 수 | EW2: 구분 | EX2: 종 별 마 리 수 | FB2: 사육목적별 마리수 | FG2: 구분 | FH2: 연 령 별 성 별 마 리 수 | FT2: 비 고 | FX2: 구분 | FY2: 연 령 별 성 별 마 리 수 | GK2: 비 고
EN3: 합 계 | EQ3: 18개월 미만 | ET3: 18개월 이상 | EX3: 계 | EY3: 애완종 | EZ3: 진돗개 | FA3: 기타 | FB3: 계 | FC3: 반려(애완) | FD3: 특수목적 (방범,경비,안내등) | FE3: 기타 | FF3: 비고 | FH3: 합 계 | FK3: 6개월 미만 | FN3: 6 ~ 12개월 미만 | FQ3: 12개월 이상 | FY3: 합 계 | GB3: 6개월 미만 | GE3: 6 ~ 12개월 미만 | GH3: 12개월 이상
A4: 구분 | B4: 계 | C4: 1~9 | D4: 10~19 | E4: 20~29 | F4: 30~39 | G4: 40~49 | H4: 50~99 | I4: 100~199 | J4: 200~299 | K4: 300~399 | L4: 400~499 | M4: 500두 이 상 | N4: 구분 | O4: 계 | P4: 1~9 | Q4: 10~19 | R4: 20~29 | S4: 30~39 | T4: 40~49 | U4: 50~99 | V4: 100~199 | W4: 200 ~ 299 | X4: 300 ~ 399 | Y4: 400 ~ 499 | Z4: 500두 이 상 | AA4: 구분 | AB4: 계 | AC4: 1~4 | AD4: 5~9 | AE4: 10~19 | AG4: 20~29 | AI4: 30~49 | AJ4: 50~99 | AK4: 100 ~299 | AL4: 300 ~499 | AM4: 500 ~ 999 | AO4: 1,000 ~ 1,999 | AQ4: 2,000 ~2,999 | AS4: 3,000 ~ 4,999 | AT4: 5,000 ~ 9,999 | AU4: 10,000두 이상 | AV4: 구분 | AW4: 계 | AX4: 1~ 259 | AY4: 260~ 499 | AZ4: 500 ~999 | BB4: 1,000 ~1,999 | BD4: 2,000 ~2,999 | BE4: 3,000 ~4,999 | BF4: 5,000 ~9,999 | BG4: 10,000 ~19,999 | BH4: 20,000 ~29,999 | BI4: 30,000 ~39,999 | BK4: 40,000 ~49,999 | BM4: 50,000 ~99,999 | BO4: 십만수~ 199,999 | BP4: 2십만수 이 상 | BQ4: 구분 | BR4: 계 | BS4: 1 ~39 | BT4: 40 ~99 | BU4: 100 ~199 | BW4: 200 ~499 | BY4: 500 ~ 999 | BZ4: 1,000 ~1,499 | CA4: 1,500 ~1,999 | CB4: 2,000 ~2,999 | CC4: 3,000~ 4,999 | CE4: 5,000~ 9,999 | CG4: 10,000~ 29,999 | CI4: 30,000~49,999 | CJ4: 50,000수이상 | CK4: 구분 | CL4: 계 | CM4: 1~4 | CN4: 5~9 | CO4: 10~19 | CP4: 20~29 | CQ4: 30~49 | CR4: 50~99 | CS4: 100 ~299 | CT4: 300 ~499 | CU4: 500 ~ 999 | CV4: 1,000 두 이상 | CW4: 비 고 | CX4: 구분 | CY4: 계 | CZ4: 1~4 | DA4: 5~9 | DB4: 10~19 | DC4: 20~29 | DD4: 30~49 | DE4: 50~99 | DF4: 100 ~299 | DG4: 300 ~499 | DH4: 500 ~ 999 | DI4: 1,000두 이상 | DJ4: 비 고 | DK4: 구분 | DL4: 계 | DM4: 1~9 | DN4: 10~49 | DO4: 50~99 | DP4: 100~199 | DQ4: 200~299 | DR4: 300~499 | DS4: 500이상 | DT4: 비고 | DU4: 구분 | DV4: 계 | DW4: 1~9 | DX4: 10~19 | DY4: 20 ~39 | DZ4: 40 ~49 | EA4: 50 ~99 | EB4: 100 ~199 | EC4: 200 ~299 | ED4: 300 ~ 399 | EE4: 400 ~499 | EF4: 500 ~999 | EG4: 1,000 ~1,999 | EH4: 2000 두 이상 | EI4: 비 고 | EN4: 계 | EO4: 암 | EP4: 수 | EQ4: 소 계 | ER4: 암 | ES4: 수 | ET4: 소 계 | EU4: 암 | EV4: 수 | FH4: 계 | FI4: 암 | FJ4: 수 | FK4: 소 계 | FL4: 암 | FM4: 수 | FN4: 소 계 | FO4: 암 | FP4: 수 | FQ4: 소 계 | FR4: 암 | FS4: 수 | FY4: 계 | FZ4: 암 | GA4: 수 | GB4: 소 계 | GC4: 암 | GD4: 수 | GE4: 소 계 | GF4: 암 | GG4: 수 | GH4: 소 계 | GI4: 암 | GJ4: 수
A5: 계 | B5: =SUM(B6:B19) -> 27200 | C5: =SUM(C6:C19) -> 784 | D5: =SUM(D6:D19) -> 1366 | E5: =SUM(E6:E19) -> 1929 | F5: =SUM(F6:F19) -> 2129 | G5: =SUM(G6:G19) -> 1591 | H5: =SUM(H6:H19) -> 9393 | I5: =SUM(I6:I19) -> 7330 | ... M5: =SUM(M6:M19) -> 702 | N5: 계 | O5: =SUM(O6:O19) -> 713 | P5: =SUM(P6:P19) -> 10 | Q5: =SUM(Q6:Q19) -> 0 | R5: =SUM(R6:R19) -> 0 | S5: =SUM(S6:S19) -> 61 | T5: =SUM(T6:T19) -> 0 | U5: =SUM(U6:U19) -> 520 | V5: =SUM(V6:V19) -> 122 | ... Z5: =SUM(Z6:Z19) -> 0 | AA5: 계 | AB5: =SUM(AB6:AB19) -> 30820 | AC5: =SUM(AC6:AC19) -> 3 | AD5: =SUM(AD6:AD19) -> 0 | AE5: =SUM(AE6:AE19) -> 14 | AF5: =SUM(AF6:AF19) -> 0 | AG5: =SUM(AG6:AG19) -> 0 | AH5: =SUM(AH6:AH19) -> 0 | AI5: =SUM(AI6:AI19) -> 0 | ... AU5: =SUM(AU6:AU19) -> 0 | AV5: 계 | AW5: =SUM(AW6:AW19) -> 2255226 | AX5: =SUM(AX6:AX19) -> 70 | AY5: =SUM(AY6:AY19) -> 0 | AZ5: =SUM(AZ6:BA19) -> 0 | BB5: =SUM(BB6:BC19) -> 0 | BD5: =SUM(BD6:BD19) -> 0 | BE5: =SUM(BE6:BE19) -> 0 | BF5: =SUM(BF6:BF19) -> 6280 | BG5: =SUM(BG6:BG19) -> 207580 | BH5: =SUM(BH6:BH19) -> 99831 | BI5: =SUM(BI6:BI19) -> 153112 | BK5: =SUM(BK6:BK19) -> 130000 | BM5: =SUM(BM6:BM19) -> 790053 | BO5: =SUM(BO6:BO19) -> 388300 | BP5: =SUM(BP6:BP19) -> 480000 | BQ5: 계 | BR5: =SUM(BR6:BR19) -> 91600 | BS5: =SUM(BS6:BS19) -> 0 | BT5: =SUM(BT6:BT19) -> 0 | BU5: =SUM(BU6:BU19) -> 0 | BV5: =SUM(BV6:BV19) -> 0 | BW5: =SUM(BW6:BW19) -> 0 | BX5: =SUM(BX6:BX19) -> 0 | BY5: =SUM(BY6:BY19) -> 0 | ... CJ5: =SUM(CJ6:CJ19) -> 0 | CK5: 계 | CL5: =SUM(CL6:CL19) -> 14226 | CM5: =SUM(CM6:CM19) -> 26 | CN5: =SUM(CN6:CN19) -> 145 | CO5: =SUM(CO6:CO19) -> 123 | CP5: =SUM(CP6:CP19) -> 85 | CQ5: =SUM(CQ6:CQ19) -> 300 | CR5: =SUM(CR6:CR19) -> 841 | CS5: =SUM(CS6:CS19) -> 2346 | ... CV5: =SUM(CV6:CV19) -> 2300 | CX5: 계 | CY5: =SUM(CY6:CY19) -> 0 | CZ5: =SUM(CZ6:CZ19) -> 0 | DA5: =SUM(DA6:DA19) -> 0 | DB5: =SUM(DB6:DB19) -> 0 | DC5: =SUM(DC6:DC19) -> 0 | DD5: =SUM(DD6:DD19) -> 0 | DE5: =SUM(DE6:DE19) -> 0 | DF5: =SUM(DF6:DF19) -> 0 | ... DI5: =SUM(DI6:DI19) -> 0 | DK5: 계 | DL5: =SUM(DL6:DL19) -> 88 | DM5: =SUM(DM6:DM19) -> 0 | DN5: =SUM(DN6:DN19) -> 88 | DO5: =SUM(DO6:DO19) -> 0 | DP5: =SUM(DP6:DP19) -> 0 | DQ5: =SUM(DQ6:DQ19) -> 0 | DR5: =SUM(DR6:DR19) -> 0 | DS5: =SUM(DS6:DS19) -> 0 | DU5: 계 | DV5: =SUM(DV6:DV19) -> 21 | DW5: =SUM(DW6:DW19) -> 6 | DX5: =SUM(DX6:DX19) -> 15 | DY5: =SUM(DY6:DY19) -> 0 | DZ5: =SUM(DZ6:DZ19) -> 0 | EA5: =SUM(EA6:EA19) -> 0 | EB5: =SUM(EB6:EB19) -> 0 | EC5: =SUM(EC6:EC19) -> 0 | ... EH5: =SUM(EH6:EH19) -> 0 | EM5: 계 | EN5: =SUM(EQ5+ET5) -> 2250 | EO5: =SUM(ER5+EU5) -> 1255 | EP5: =SUM(ES5+EV5) -> 995 | EQ5: =SUM(ER5+ES5) -> 276 | ER5: =SUM(ER6:ER19) -> 148 | ES5: =SUM(ES6:ES19) -> 128 | ET5: =SUM(EU5+EV5) -> 1974 | EU5: =SUM(EU6:EU19) -> 1107 | EV5: =SUM(EV6:EV19) -> 867 | EW5: 계 | EX5: =SUM(EY5+EZ5+FA5) -> 2250 | EY5: =SUM(EY6:EY19) -> 152 | EZ5: =SUM(EZ6:EZ19) -> 214 | FA5: =SUM(FA6:FA19) -> 1884 | FB5: =SUM(FC5+FD5+FE5) -> 2250 | FC5: =SUM(FC6:FC19) -> 0 | FD5: =SUM(FD6:FD19) -> 427 | FE5: =SUM(FE6:FE19) -> 1823 | FG5: 계 | FH5: =SUM(FK5+FN5+FQ5) -> 1 | FI5: =SUM(FL5+FO5+FR5) -> 0 | FJ5: =SUM(FM5+FP5+FS5) -> 1 | FK5: =SUM(FL5+FM5) -> 0 | FL5: =SUM(FL6:FL19) -> 0 | FM5: =SUM(FM6:FM19) -> 0 | FN5: =SUM(FO5+FP5) -> 0 | FO5: =SUM(FO6:FO19) -> 0 | FP5: =SUM(FP6:FP19) -> 0 | FQ5: =SUM(FR5+FS5) -> 1 | FR5: =SUM(FR6:FR19) -> 0 | FS5: =SUM(FS6:FS19) -> 1 | FX5: 계 | FY5: =SUM(GB5+GE5+GH5) -> 0 | FZ5: =SUM(GC5+GF5+GI5) -> 0 | GA5: =SUM(GD5+GG5+GJ5) -> 0 | GB5: =SUM(GC5+GD5) -> 0 | GC5: =SUM(GC6:GC19) -> 0 | GD5: =SUM(GD6:GD19) -> 0 | GE5: =SUM(GF5+GG5) -> 0 | GF5: =SUM(GF6:GF19) -> 0 | GG5: =SUM(GG6:GG19) -> 0 | GH5: =SUM(GI5+GJ5) -> 0 | GI5: =SUM(GI6:GI19) -> 0 | GJ5: =SUM(GJ6:GJ19) -> 0
A6: 순창읍 | B6: =SUM(C6:M6) -> 739 | C6: 51 | D6: 75 | E6: 51 | F6: 98 | G6: 46 | H6: 318 | I6: 100 | N6: 순창읍 | O6: =SUM(P6:Z6) -> 0 | AA6: 순창읍 | AB6: =SUM(AC6:AU6) -> 0 | AV6: 순창읍 | AW6: =SUM(AX6:BP6) -> 142500 | BG6: 18000 | BK6: 46000 | BM6: 78500 | BQ6: 순창읍 | BR6: =SUM(BS6:CJ6) -> 25000 | CG6: 25000 | CK6: 순창읍 | CL6: =SUM(CM6:CW6) -> 84 | CM6: 9 | CN6: 35 | CQ6: 40 | CX6: 순창읍 | CY6: =SUM(CZ6:DJ6) -> 0 | DK6: 순창읍 | DL6: =SUM(DM6:DT6) -> 0 | DU6: 순창읍 | DV6: =SUM(DW6:EH6) -> 0 | EM6: 순창읍 | EN6: =SUM(EQ6+ET6) -> 19 | EO6: =SUM(ER6+EU6) -> 15 | EP6: =SUM(ES6+EV6) -> 4 | EQ6: =SUM(ER6+ES6) -> 7 | ER6: 6 | ES6: 1 | ET6: =SUM(EU6+EV6) -> 12 | EU6: 9 | EV6: 3 | EW6: 순창읍 | EX6: =SUM(EY6+EZ6+FA6) -> 19 | EY6: 3 | EZ6: 7 | FA6: 9 | FB6: =SUM(FC6+FD6+FE6) -> 19 | FC6: 0 | FD6: 19 | FE6: 0 | FG6: 순창읍 | FH6: =SUM(FK6+FN6+FQ6) -> 0 | FI6: =SUM(FL6+FO6+FR6) -> 0 | FJ6: =SUM(FM6+FP6+FS6) -> 0 | FK6: =SUM(FL6+FM6) -> 0 | FN6: =SUM(FO6+FP6) -> 0 | FQ6: =SUM(FR6+FS6) -> 0 | FX6: 순창읍 | FY6: =SUM(GB6+GE6+GH6) -> 0 | FZ6: =SUM(GC6+GF6+GI6) -> 0 | GA6: =SUM(GD6+GG6+GJ6) -> 0 | GB6: =SUM(GC6+GD6) -> 0 | GE6: =SUM(GF6+GG6) -> 0 | GH6: =SUM(GI6+GJ6) -> 0
A7: 인계면 | B7: =SUM(C7:M7) -> 2248 | C7: 44 | D7: 63 | E7: 89 | F7: 264 | G7: 48 | H7: 1020 | I7: 720 | N7: 인계면 | O7: =SUM(P7:Z7) -> 0 | AA7: 인계면 | AB7: =SUM(AC7:AU7) -> 11734 | AK7: 100 | AO7: 1000 | AQ7: 6900 | AS7: 3734 | AV7: 인계면 | AW7: =SUM(AX7:BP7) -> 62050 | AX7: 50 | BM7: 62000 | BQ7: 인계면 | BR7: =SUM(BS7:CJ7) -> 21000 | CG7: 21000 | CK7: 인계면 | CL7: =SUM(CM7:CW7) -> 489 | CN7: 9 | CQ7: 40 | CR7: 90 | CT7: 350 | CX7: 인계면 | CY7: =SUM(CZ7:DJ7) -> 0 | DK7: 인계면 | DL7: =SUM(DM7:DT7) -> 54 | DN7: 54 | DU7: 인계면 | DV7: =SUM(DW7:EH7) -> 0 | EM7: 인계면 | EN7: =SUM(EQ7+ET7) -> 39 | EO7: =SUM(ER7+EU7) -> 25 | EP7: =SUM(ES7+EV7) -> 14 | EQ7: =SUM(ER7+ES7) -> 3 | ER7: 2 | ES7: 1 | ET7: =SUM(EU7+EV7) -> 36 | EU7: 23 | EV7: 13 | EW7: 인계면 | EX7: =SUM(EY7+EZ7+FA7) -> 39 | EY7: 12 | EZ7: 11 | FA7: 16 | FB7: =SUM(FC7+FD7+FE7) -> 39 | FC7: 0 | FD7: 11 | FE7: 28 | FG7: 인계면 | FH7: =SUM(FK7+FN7+FQ7) -> 0 | FI7: =SUM(FL7+FO7+FR7) -> 0 | FJ7: =SUM(FM7+FP7+FS7) -> 0 | FK7: =SUM(FL7+FM7) -> 0 | FN7: =SUM(FO7+FP7) -> 0 | FQ7: =SUM(FR7+FS7) -> 0 | FX7: 인계면 | FY7: =SUM(GB7+GE7+GH7) -> 0 | FZ7: =SUM(GC7+GF7+GI7) -> 0 | GA7: =SUM(GD7+GG7+GJ7) -> 0 | GB7: =SUM(GC7+GD7) -> 0 | GE7: =SUM(GF7+GG7) -> 0 | GH7: =SUM(GI7+GJ7) -> 0
A8: 동계면 | B8: =SUM(C8:M8) -> 1470 | C8: 71 | D8: 100 | E8: 168 | F8: 322 | G8: 46 | H8: 533 | I8: 230 | N8: 동계면 | O8: =SUM(P8:Z8) -> 146 | U8: 146 | AA8: 동계면 | AB8: =SUM(AC8:AU8) -> 2644 | AM8: 523 | AQ8: 2121 | AV8: 동계면 | AW8: =SUM(AX8:BP8) -> 703931 | BG8: 72080 | BH8: 47931 | BK8: 44000 | BM8: 59920 | BP8: 480000 | BQ8: 동계면 | BR8: =SUM(BS8:CJ8) -> 34600 | CE8: 8500 | CG8: 26100 | CK8: 동계면 | CL8: =SUM(CM8:CW8) -> 60 | CR8: 60 | CX8: 동계면 | CY8: =SUM(CZ8:DJ8) -> 0 | DK8: 동계면 | DL8: =SUM(DM8:DT8) -> 0 | DU8: 동계면 | DV8: =SUM(DW8:EH8) -> 0 | EM8: 동계면 | EN8: =SUM(EQ8+ET8) -> 175 | EO8: =SUM(ER8+EU8) -> 132 | EP8: =SUM(ES8+EV8) -> 43 | EQ8: =SUM(ER8+ES8) -> 58 | ER8: 34 | ES8: 24 | ET8: =SUM(EU8+EV8) -> 117 | EU8: 98 | EV8: 19 | EW8: 동계면 | EX8: =SUM(EY8+EZ8+FA8) -> 175 | EY8: 7 | EZ8: 6 | FA8: 162 | FB8: =SUM(FC8+FD8+FE8) -> 175 | FC8: 0 | FD8: 25 | FE8: 150 | FG8: 동계면 | FH8: =SUM(FK8+FN8+FQ8) -> 0 | FI8: =SUM(FL8+FO8+FR8) -> 0 | FJ8: =SUM(FM8+FP8+FS8) -> 0 | FK8: =SUM(FL8+FM8) -> 0 | FN8: =SUM(FO8+FP8) -> 0 | FQ8: =SUM(FR8+FS8) -> 0 | FX8: 동계면 | FY8: =SUM(GB8+GE8+GH8) -> 0 | FZ8: =SUM(GC8+GF8+GI8) -> 0 | GA8: =SUM(GD8+GG8+GJ8) -> 0 | GB8: =SUM(GC8+GD8) -> 0 | GE8: =SUM(GF8+GG8) -> 0 | GH8: =SUM(GI8+GJ8) -> 0
A9: 적성면 | B9: =SUM(C9:M9) -> 618 | C9: 23 | D9: 77 | F9: 67 | G9: 87 | H9: 182 | I9: 182 | N9: 적성면 | O9: =SUM(P9:Z9) -> 236 | S9: 31 | U9: 83 | V9: 122 | AA9: 적성면 | AB9: =SUM(AC9:AU9) -> 113 | AC9: 3 | AK9: 110 | AV9: 적성면 | AW9: =SUM(AX9:BP9) -> 222200 | AX9: 20 | BF9: 6280 | BH9: 51900 | BI9: 30000 | BM9: 134000 | BQ9: 적성면 | BR9: =SUM(BS9:CJ9) -> 0 | CK9: 적성면 | CL9: =SUM(CM9:CW9) -> 25 | CP9: 25 | CX9: 적성면 | CY9: =SUM(CZ9:DJ9) -> 0 | DK9: 적성면 | DL9: =SUM(DM9:DT9) -> 0 | DU9: 적성면 | DV9: =SUM(DW9:EH9) -> 0 | EM9: 적성면 | EN9: =SUM(EQ9+ET9) -> 32 | EO9: =SUM(ER9+EU9) -> 15 | EP9: =SUM(ES9+EV9) -> 17 | EQ9: =SUM(ER9+ES9) -> 12 | ER9: 7 | ES9: 5 | ET9: =SUM(EU9+EV9) -> 20 | EU9: 8 | EV9: 12 | EW9: 적성면 | EX9: =SUM(EY9+EZ9+FA9) -> 32 | EY9: 8 | EZ9: 14 | FA9: 10 | FB9: =SUM(FC9+FD9+FE9) -> 32 | FC9: 0 | FD9: 32 | FE9: 0 | FG9: 적성면 | FH9: =SUM(FK9+FN9+FQ9) -> 0 | FI9: =SUM(FL9+FO9+FR9) -> 0 | FJ9: =SUM(FM9+FP9+FS9) -> 0 | FK9: =SUM(FL9+FM9) -> 0 | FN9: =SUM(FO9+FP9) -> 0 | FQ9: =SUM(FR9+FS9) -> 0 | FX9: 적성면 | FY9: =SUM(GB9+GE9+GH9) -> 0 | FZ9: =SUM(GC9+GF9+GI9) -> 0 | GA9: =SUM(GD9+GG9+GJ9) -> 0 | GB9: =SUM(GC9+GD9) -> 0 | GE9: =SUM(GF9+GG9) -> 0 | GH9: =SUM(GI9+GJ9) -> 0
A10: 유등면 | B10: =SUM(C10:M10) -> 1838 | C10: 49 | D10: 46 | E10: 180 | G10: 47 | H10: 782 | I10: 385 | J10: 349 | N10: 유등면 | O10: =SUM(P10:Z10) -> 0 | AA10: 유등면 | AB10: =SUM(AC10:AU10) -> 5443 | AE10: 14 | AT10: 5429 | AV10: 유등면 | AW10: =SUM(AX10:BP10) -> 363900 | BM10: 149000 | BO10: 214900 | BQ10: 유등면 | BR10: =SUM(BS10:CJ10) -> 0 | CK10: 유등면 | CL10: =SUM(CM10:CW10) -> 508 | CN10: 8 | CO10: 10 | CQ10: 90 | CT10: 400 | CX10: 유등면 | CY10: =SUM(CZ10:DJ10) -> 0 | DK10: 유등면 | DL10: =SUM(DM10:DT10) -> 0 | DU10: 유등면 | DV10: =SUM(DW10:EH10) -> 0 | EM10: 유등면 | EN10: =SUM(EQ10+ET10) -> 16 | EO10: =SUM(ER10+EU10) -> 7 | EP10: =SUM(ES10+EV10) -> 9 | EQ10: =SUM(ER10+ES10) -> 0 | ER10: 0 | ES10: 0 | ET10: =SUM(EU10+EV10) -> 16 | EU10: 7 | EV10: 9 | EW10: 유등면 | EX10: =SUM(EY10+EZ10+FA10) -> 16 | EY10: 16 | EZ10: 0 | FA10: 0 | FB10: =SUM(FC10+FD10+FE10) -> 16 | FC10: 0 | FD10: 16 | FE10: 0 | FG10: 유등면 | FH10: =SUM(FK10+FN10+FQ10) -> 0 | FI10: =SUM(FL10+FO10+FR10) -> 0 | FJ10: =SUM(FM10+FP10+FS10) -> 0 | FK10: =SUM(FL10+FM10) -> 0 | FN10: =SUM(FO10+FP10) -> 0 | FQ10: =SUM(FR10+FS10) -> 0 | FX10: 유등면 | FY10: =SUM(GB10+GE10+GH10) -> 0 | FZ10: =SUM(GC10+GF10+GI10) -> 0 | GA10: =SUM(GD10+GG10+GJ10) -> 0 | GB10: =SUM(GC10+GD10) -> 0 | GE10: =SUM(GF10+GG10) -> 0 | GH10: =SUM(GI10+GJ10) -> 0
A11: 풍산면 | B11: =SUM(C11:M11) -> 2418 | C11: 62 | D11: 48 | E11: 191 | F11: 387 | G11: 86 | H11: 725 | I11: 919 | N11: 풍산면 | O11: =SUM(P11:Z11) -> 230 | P11: 7 | U11: 223 | AA11: 풍산면 | AB11: =SUM(AC11:AU11) -> 4109 | AM11: 964 | AS11: 3145 | AV11: 풍산면 | AW11: =SUM(AX11:BP11) -> 173400 | BO11: 173400 | BQ11: 풍산면 | BR11: =SUM(BS11:CJ11) -> 0 | CK11: 풍산면 | CL11: =SUM(CM11:CW11) -> 2296 | CO11: 56 | CQ11: 40 | CR11: 50 | CT11: 1650 | CU11: 500 | CX11: 풍산면 | CY11: =SUM(CZ11:DJ11) -> 0 | DK11: 풍산면 | DL11: =SUM(DM11:DT11) -> 0 | DU11: 풍산면 | DV11: =SUM(DW11:EH11) -> 0 | EM11: 풍산면 | EN11: =SUM(EQ11+ET11) -> 32 | EO11: =SUM(ER11+EU11) -> 17 | EP11: =SUM(ES11+EV11) -> 15 | EQ11: =SUM(ER11+ES11) -> 1 | ER11: 0 | ES11: 1 | ET11: =SUM(EU11+EV11) -> 31 | EU11: 17 | EV11: 14 | EW11: 풍산면 | EX11: =SUM(EY11+EZ11+FA11) -> 32 | EY11: 1 | EZ11: 26 | FA11: 5 | FB11: =SUM(FC11+FD11+FE11) -> 32 | FC11: 0 | FD11: 32 | FE11: 0 | FG11: 풍산면 | FH11: =SUM(FK11+FN11+FQ11) -> 0 | FI11: =SUM(FL11+FO11+FR11) -> 0 | FJ11: =SUM(FM11+FP11+FS11) -> 0 | FK11: =SUM(FL11+FM11) -> 0 | FN11: =SUM(FO11+FP11) -> 0 | FQ11: =SUM(FR11+FS11) -> 0 | FX11: 풍산면 | FY11: =SUM(GB11+GE11+GH11) -> 0 | FZ11: =SUM(GC11+GF11+GI11) -> 0 | GA11: =SUM(GD11+GG11+GJ11) -> 0 | GB11: =SUM(GC11+GD11) -> 0 | GE11: =SUM(GF11+GG11) -> 0 | GH11: =SUM(GI11+GJ11) -> 0
A12: 금과면 | B12: =SUM(C12:M12) -> 1604 | C12: 45 | D12: 60 | E12: 144 | F12: 60 | G12: 44 | H12: 301 | I12: 540 | L12: 410 | N12: 금과면 | O12: =SUM(P12:Z12) -> 98 | S12: 30 | U12: 68 | AA12: 금과면 | AB12: =SUM(AC12:AU12) -> 0 | AV12: 금과면 | AW12: =SUM(AX12:BP12) -> 234445 | BI12: 91112 | BM12: 143333 | BQ12: 금과면 | BR12: =SUM(BS12:CJ12) -> 0 | CK12: 금과면 | CL12: =SUM(CM12:CW12) -> 618 | CN12: 26 | CO12: 22 | CP12: 20 | CR12: 100 | CT12: 450 | CX12: 금과면 | CY12: =SUM(CZ12:DJ12) -> 0 | DK12: 금과면 | DL12: =SUM(DM12:DT12) -> 0 | DU12: 금과면 | DV12: =SUM(DW12:EH12) -> 0 | EM12: 금과면 | EN12: =SUM(EQ12+ET12) -> 3 | EO12: =SUM(ER12+EU12) -> 0 | EP12: =SUM(ES12+EV12) -> 3 | EQ12: =SUM(ER12+ES12) -> 0 | ER12: 0 | ES12: 0 | ET12: =SUM(EU12+EV12) -> 3 | EU12: 0 | EV12: 3 | EW12: 금과면 | EX12: =SUM(EY12+EZ12+FA12) -> 3 | EY12: 1 | EZ12: 2 | FA12: 0 | FB12: =SUM(FC12+FD12+FE12) -> 3 | FC12: 0 | FD12: 3 | FE12: 0 | FG12: 금과면 | FH12: =SUM(FK12+FN12+FQ12) -> 0 | FI12: =SUM(FL12+FO12+FR12) -> 0 | FJ12: =SUM(FM12+FP12+FS12) -> 0 | FK12: =SUM(FL12+FM12) -> 0 | FN12: =SUM(FO12+FP12) -> 0 | FQ12: =SUM(FR12+FS12) -> 0 | FX12: 금과면 | FY12: =SUM(GB12+GE12+GH12) -> 0 | FZ12: =SUM(GC12+GF12+GI12) -> 0 | GA12: =SUM(GD12+GG12+GJ12) -> 0 | GB12: =SUM(GC12+GD12) -> 0 | GE12: =SUM(GF12+GG12) -> 0 | GH12: =SUM(GI12+GJ12) -> 0
A13: 팔덕면 | B13: =SUM(C13:M13) -> 2209 | C13: 92 | D13: 165 | E13: 235 | F13: 133 | G13: 145 | H13: 656 | I13: 311 | J13: 472 | N13: 팔덕면 | O13: =SUM(P13:Z13) -> 3 | P13: 3 | AA13: 팔덕면 | AB13: =SUM(AC13:AU13) -> 533 | AM13: 533 | AV13: 팔덕면 | AW13: =SUM(AX13:BP13) -> 139000 | BI13: 32000 | BK13: 40000 | BM13: 67000 | BQ13: 팔덕면 | BR13: =SUM(BS13:CJ13) -> 11000 | CG13: 11000 | CK13: 팔덕면 | CL13: =SUM(CM13:CW13) -> 3410 | CR13: 60 | CS13: 850 | CT13: 1400 | CV13: 1100 | CX13: 팔덕면 | CY13: =SUM(CZ13:DJ13) -> 0 | DK13: 팔덕면 | DL13: =SUM(DM13:DT13) -> 34 | DN13: 34 | DU13: 팔덕면 | DV13: =SUM(DW13:EH13) -> 0 | EM13: 팔덕면 | EN13: =SUM(EQ13+ET13) -> 13 | EO13: =SUM(ER13+EU13) -> 5 | EP13: =SUM(ES13+EV13) -> 8 | EQ13: =SUM(ER13+ES13) -> 5 | ER13: 2 | ES13: 3 | ET13: =SUM(EU13+EV13) -> 8 | EU13: 3 | EV13: 5 | EW13: 팔덕면 | EX13: =SUM(EY13+EZ13+FA13) -> 13 | EY13: 9 | EZ13: 4 | FA13: 0 | FB13: =SUM(FC13+FD13+FE13) -> 13 | FC13: 0 | FD13: 13 | FE13: 0 | FG13: 팔덕면 | FH13: =SUM(FK13+FN13+FQ13) -> 0 | FI13: =SUM(FL13+FO13+FR13) -> 0 | FJ13: =SUM(FM13+FP13+FS13) -> 0 | FK13: =SUM(FL13+FM13) -> 0 | FN13: =SUM(FO13+FP13) -> 0 | FQ13: =SUM(FR13+FS13) -> 0 | FX13: 팔덕면 | FY13: =SUM(GB13+GE13+GH13) -> 0 | FZ13: =SUM(GC13+GF13+GI13) -> 0 | GA13: =SUM(GD13+GG13+GJ13) -> 0 | GB13: =SUM(GC13+GD13) -> 0 | GE13: =SUM(GF13+GG13) -> 0 | GH13: =SUM(GI13+GJ13) -> 0
A14: 복흥면 | B14: =SUM(C14:M14) -> 4694 | C14: 82 | D14: 175 | E14: 181 | F14: 206 | G14: 370 | H14: 1832 | I14: 1597 | J14: 251 | N14: 복흥면 | O14: =SUM(P14:Z14) -> 0 | AA14: 복흥면 | AB14: =SUM(AC14:AU14) -> 0 | AV14: 복흥면 | AW14: =SUM(AX14:BP14) -> 0 | BQ14: 복흥면 | BR14: =SUM(BS14:CJ14) -> 0 | CK14: 복흥면 | CL14: =SUM(CM14:CW14) -> 1587 | CM14: 1 | CR14: 50 | CS14: 736 | CT14: 300 | CU14: 500 | CX14: 복흥면 | CY14: =SUM(CZ14:DJ14) -> 0 | DK14: 복흥면 | DL14: =SUM(DM14:DT14) -> 0 | DU14: 복흥면 | DV14: =SUM(DW14:EH14) -> 0 | EM14: 복흥면 | EN14: =SUM(EQ14+ET14) -> 50 | EO14: =SUM(ER14+EU14) -> 21 | EP14: =SUM(ES14+EV14) -> 29 | EQ14: =SUM(ER14+ES14) -> 10 | ER14: 5 | ES14: 5 | ET14: =SUM(EU14+EV14) -> 40 | EU14: 16 | EV14: 24 | EW14: 복흥면 | EX14: =SUM(EY14+EZ14+FA14) -> 50 | EY14: 16 | EZ14: 28 | FA14: 6 | FB14: =SUM(FC14+FD14+FE14) -> 50 | FC14: 0 | FD14: 50 | FE14: 0 | FG14: 복흥면 | FH14: =SUM(FK14+FN14+FQ14) -> 0 | FI14: =SUM(FL14+FO14+FR14) -> 0 | FJ14: =SUM(FM14+FP14+FS14) -> 0 | FK14: =SUM(FL14+FM14) -> 0 | FN14: =SUM(FO14+FP14) -> 0 | FQ14: =SUM(FR14+FS14) -> 0 | FX14: 복흥면 | FY14: =SUM(GB14+GE14+GH14) -> 0 | FZ14: =SUM(GC14+GF14+GI14) -> 0 | GA14: =SUM(GD14+GG14+GJ14) -> 0 | GB14: =SUM(GC14+GD14) -> 0 | GE14: =SUM(GF14+GG14) -> 0 | GH14: =SUM(GI14+GJ14) -> 0
A15: 쌍치면 | B15: =SUM(C15:M15) -> 1013 | C15: 43 | D15: 82 | E15: 101 | F15: 68 | G15: 136 | H15: 479 | I15: 104 | N15: 쌍치면 | O15: =SUM(P15:Z15) -> 0 | AA15: 쌍치면 | AB15: =SUM(AC15:AU15) -> 1664 | AO15: 1664 | AV15: 쌍치면 | AW15: =SUM(AX15:BP15) -> 117500 | BG15: 117500 | BQ15: 쌍치면 | BR15: =SUM(BS15:CJ15) -> 0 | CK15: 쌍치면 | CL15: =SUM(CM15:CW15) -> 103 | CM15: 10 | CN15: 43 | CO15: 10 | CP15: 40 | CX15: 쌍치면 | CY15: =SUM(CZ15:DJ15) -> 0 | DK15: 쌍치면 | DL15: =SUM(DM15:DT15) -> 0 | DU15: 쌍치면 | DV15: =SUM(DW15:EH15) -> 21 | DW15: 6 | DX15: 15 | EM15: 쌍치면 | EN15: =SUM(EQ15+ET15) -> 1775 | EO15: =SUM(ER15+EU15) -> 1000 | EP15: =SUM(ES15+EV15) -> 775 | EQ15: =SUM(ER15+ES15) -> 154 | ER15: 90 | ES15: 64 | ET15: =SUM(EU15+EV15) -> 1621 | EU15: 910 | EV15: 711 | EW15: 쌍치면 | EX15: =SUM(EY15+EZ15+FA15) -> 1775 | EY15: 35 | EZ15: 73 | FA15: 1667 | FB15: =SUM(FC15+FD15+FE15) -> 1775 | FC15: 0 | FD15: 130 | FE15: 1645 | FG15: 쌍치면 | FH15: =SUM(FK15+FN15+FQ15) -> 0 | FI15: =SUM(FL15+FO15+FR15) -> 0 | FJ15: =SUM(FM15+FP15+FS15) -> 0 | FK15: =SUM(FL15+FM15) -> 0 | FN15: =SUM(FO15+FP15) -> 0 | FQ15: =SUM(FR15+FS15) -> 0 | FX15: 쌍치면 | FY15: =SUM(GB15+GE15+GH15) -> 0 | FZ15: =SUM(GC15+GF15+GI15) -> 0 | GA15: =SUM(GD15+GG15+GJ15) -> 0 | GB15: =SUM(GC15+GD15) -> 0 | GE15: =SUM(GF15+GG15) -> 0 | GH15: =SUM(GI15+GJ15) -> 0
A16: 구림면 | B16: =SUM(C16:M16) -> 8349 | C16: 222 | D16: 475 | E16: 589 | F16: 524 | G16: 536 | H16: 2565 | I16: 2242 | J16: 494 | M16: 702 | N16: 구림면 | O16: =SUM(P16:Z16) -> 0 | AA16: 구림면 | AB16: =SUM(AC16:AU16) -> 4580 | AM16: 909 | AS16: 3671 | AV16: 구림면 | AW16: =SUM(AX16:BP16) -> 96300 | BM16: 96300 | BQ16: 구림면 | BR16: =SUM(BS16:CJ16) -> 0 | CK16: 구림면 | CL16: =SUM(CM16:CW16) -> 5046 | CM16: 6 | CN16: 24 | CO16: 25 | CQ16: 90 | CR16: 431 | CS16: 760 | CT16: 2510 | CV16: 1200 | CX16: 구림면 | CY16: =SUM(CZ16:DJ16) -> 0 | DK16: 구림면 | DL16: =SUM(DM16:DT16) -> 0 | DU16: 구림면 | DV16: =SUM(DW16:EH16) -> 0 | EM16: 구림면 | EN16: =SUM(EQ16+ET16) -> 96 | EO16: =SUM(ER16+EU16) -> 18 | EP16: =SUM(ES16+EV16) -> 78 | EQ16: =SUM(ER16+ES16) -> 26 | ER16: 2 | ES16: 24 | ET16: =SUM(EU16+EV16) -> 70 | EU16: 16 | EV16: 54 | EW16: 구림면 | EX16: =SUM(EY16+EZ16+FA16) -> 96 | EY16: 44 | EZ16: 43 | FA16: 9 | FB16: =SUM(FC16+FD16+FE16) -> 96 | FC16: 0 | FD16: 96 | FE16: 0 | FG16: 구림면 | FH16: =SUM(FK16+FN16+FQ16) -> 1 | FI16: =SUM(FL16+FO16+FR16) -> 0 | FJ16: =SUM(FM16+FP16+FS16) -> 1 | FK16: =SUM(FL16+FM16) -> 0 | FN16: =SUM(FO16+FP16) -> 0 | FQ16: =SUM(FR16+FS16) -> 1 | FS16: 1 | FX16: 구림면 | FY16: =SUM(GB16+GE16+GH16) -> 0 | FZ16: =SUM(GC16+GF16+GI16) -> 0 | GA16: =SUM(GD16+GG16+GJ16) -> 0 | GB16: =SUM(GC16+GD16) -> 0 | GE16: =SUM(GF16+GG16) -> 0 | GH16: =SUM(GI16+GJ16) -> 0
B17: =SUM(C17:M17) -> 0 | O17: =SUM(P17:Z17) -> 0 | AB17: =SUM(AC17:AU17) -> 0 | AW17: =SUM(AY17:BP17) -> 0 | BR17: =SUM(BS17:CJ17) -> 0 | CL17: =SUM(CM17:CW17) -> 0 | CY17: =SUM(CZ17:DJ17) -> 0 | DL17: =SUM(DM17:DT17) -> 0 | DV17: =SUM(DW17:EH17) -> 0 | EN17: =SUM(EQ17+ET17) -> 0 | EO17: =SUM(ER17+EU17) -> 0 | EP17: =SUM(ES17+EV17) -> 0 | EQ17: =SUM(ER17+ES17) -> 0 | ET17: =SUM(EU17+EV17) -> 0 | EX17: =SUM(EY17+EZ17+FA17) -> 0 | FB17: =SUM(FC17+FD17+FE17) -> 0 | FH17: =SUM(FK17+FN17+FQ17) -> 0 | FI17: =SUM(FL17+FO17+FR17) -> 0 | FJ17: =SUM(FM17+FP17+FS17) -> 0 | FK17: =SUM(FL17+FM17) -> 0 | FN17: =SUM(FO17+FP17) -> 0 | FQ17: =SUM(FR17+FS17) -> 0 | FY17: =SUM(GB17+GE17+GH17) -> 0 | FZ17: =SUM(GC17+GF17+GI17) -> 0 | GA17: =SUM(GD17+GG17+GJ17) -> 0 | GB17: =SUM(GC17+GD17) -> 0 | GE17: =SUM(GF17+GG17) -> 0 | GH17: =SUM(GI17+GJ17) -> 0
B18: =SUM(C18:M18) -> 0 | O18: =SUM(P18:Z18) -> 0 | AB18: =SUM(AC18:AU18) -> 0 | AW18: =SUM(AY18:BP18) -> 0 | BR18: =SUM(BS18:CJ18) -> 0 | CL18: =SUM(CM18:CW18) -> 0 | CY18: =SUM(CZ18:DJ18) -> 0 | DL18: =SUM(DM18:DT18) -> 0 | DV18: =SUM(DW18:EH18) -> 0 | EN18: =SUM(EQ18+ET18) -> 0 | EO18: =SUM(ER18+EU18) -> 0 | EP18: =SUM(ES18+EV18) -> 0 | EQ18: =SUM(ER18+ES18) -> 0 | ET18: =SUM(EU18+EV18) -> 0 | EX18: =SUM(EY18+EZ18+FA18) -> 0 | FB18: =SUM(FC18+FD18+FE18) -> 0 | FH18: =SUM(FK18+FN18+FQ18) -> 0 | FI18: =SUM(FL18+FO18+FR18) -> 0 | FJ18: =SUM(FM18+FP18+FS18) -> 0 | FK18: =SUM(FL18+FM18) -> 0 | FN18: =SUM(FO18+FP18) -> 0 | FQ18: =SUM(FR18+FS18) -> 0 | FY18: =SUM(GB18+GE18+GH18) -> 0 | FZ18: =SUM(GC18+GF18+GI18) -> 0 | GA18: =SUM(GD18+GG18+GJ18) -> 0 | GB18: =SUM(GC18+GD18) -> 0 | GE18: =SUM(GF18+GG18) -> 0 | GH18: =SUM(GI18+GJ18) -> 0
B19: =SUM(C19:M19) -> 0 | O19: =SUM(P19:Z19) -> 0 | AB19: =SUM(AC19:AU19) -> 0 | AW19: =SUM(AY19:BP19) -> 0 | BR19: =SUM(BS19:CJ19) -> 0 | CL19: =SUM(CM19:CW19) -> 0 | CY19: =SUM(CZ19:DJ19) -> 0 | DL19: =SUM(DM19:DT19) -> 0 | DV19: =SUM(DW19:EH19) -> 0 | EN19: =SUM(EQ19+ET19) -> 0 | EO19: =SUM(ER19+EU19) -> 0 | EP19: =SUM(ES19+EV19) -> 0 | EQ19: =SUM(ER19+ES19) -> 0 | ET19: =SUM(EU19+EV19) -> 0 | EX19: =SUM(EY19+EZ19+FA19) -> 0 | FB19: =SUM(FC19+FD19+FE19) -> 0 | FH19: =SUM(FK19+FN19+FQ19) -> 0 | FI19: =SUM(FL19+FO19+FR19) -> 0 | FJ19: =SUM(FM19+FP19+FS19) -> 0 | FK19: =SUM(FL19+FM19) -> 0 | FN19: =SUM(FO19+FP19) -> 0 | FQ19: =SUM(FR19+FS19) -> 0 | FY19: =SUM(GB19+GE19+GH19) -> 0 | FZ19: =SUM(GC19+GF19+GI19) -> 0 | GA19: =SUM(GD19+GG19+GJ19) -> 0 | GB19: =SUM(GC19+GD19) -> 0 | GE19: =SUM(GF19+GG19) -> 0 | GH19: =SUM(GI19+GJ19) -> 0
BQ20: 16-2-3 관상조 전업규모 품목별 가구수 및 마리수
A21: 14 - 2 메추리 사육규모별 마리수 | N21: 15 - 2 꿀벌 종별·사육형태별 가구수 및 군수 | AA21: 16-2-1 관상조 전체규모 품목별 가구수 및 마리수 | AV21: 16-2-2 관상조 부업규모 품목별 가구수 및 마리수 | CK21: 18 - 2 오소리 사육규모별 마리수 | CX21: 19 - 2 꿩 사육규모별 마리수 | DK21: 21. 기러기 사육규모별 마리수
N22: 구분 | O22: 종 별 가 구 수 및 군 수 | W22: 개량종 중 사육형태별 호수 및 군수 | AA22: 구분 | AB22: 합 계 | AU22: 비 고 | AV22: 구분 | AW22: 부 업 | BQ22: 구분 | BR22: 전 업
O23: 합 계 | R23: 재 래 종 | U23: 개 량 종 | W23: 고정양봉 | Y23: 이동양봉 | AB23: 계 | AE23: 비둘기 | AG23: 십자매 | AI23: 잉 꼬 | AK23: 금화조 | AM23: 문조 | AO23: 카나리아 | AQ23: 모란앵두 | AS23: 기 타 | AW23: 계 | BA23: 비둘기 | BC23: 십자매 | BE23: 잉 꼬 | BG23: 금화조 | BI23: 문조 | BK23: 카나리아 | BM23: 모란앵두 | BO23: 기 타 | BR23: 계 | BU23: 비둘기 | BW23: 십자매 | BY23: 잉 꼬 | CA23: 금화조 | CC23: 문조 | CE23: 카나리아 | CG23: 모란앵두 | CI23: 기 타 | CK23: 구분 | CL23: 계 | CM23: 1~9 | CN23: 10~19 | CO23: 20~29 | CP23: 30~49 | CQ23: 50~99 | CR23: 100~ 299 | CS23: 300 ~ 499 | CT23: 500~ 999 | CU23: 1000두 이상 | CV23: 비고 | CX23: 구분 | CY23: 계 | CZ23: 1~99 | DA23: 100~ 199 | DB23: 200~ 499 | DC23: 500~ 999 | DD23: 1,000~ 2,999 | DE23: 3,000~ 4,999 | DF23: 5,000 ~9,999 | DG23: 10000 이상 | DH23: 비고 | DK23: 구분 | DL23: 사 육 마 리 수
A24: 구분 | B24: 계 | C24: 1~99 | D24: 100~499 | E24: 500~999 | F24: 1,000 ~9,999 | G24: 10,000 ~19,999 | H24: 20,000 ~29,999 | I24: 30,000 ~39,999 | J24: 40,000 ~49,999 | K24: 50,000 ~99,999 | L24: 100,000 이상 | M24: 비 고 | O24: 호수 | P24: 군 수 | R24: 호수 | S24: 군 수 | U24: 호수 | V24: 군수 | W24: 호수 | X24: 군수 | Y24: 호수 | Z24: 군수 | AB24: 호수 | AC24: 수 수 | AE24: 호수 | AF24: 수수 | AG24: 호수 | AH24: 수수 | AI24: 호수 | AJ24: 수수 | AK24: 호수 | AL24: 수수 | AM24: 호수 | AN24: 수수 | AO24: 호수 | AP24: 수수 | AQ24: 호수 | AR24: 수수 | AS24: 호수 | AT24: 수수 | AW24: 호수 | AX24: 수 수 | BA24: 호수 | BB24: 수수 | BC24: 호수 | BD24: 수수 | BE24: 호수 | BF24: 수수 | BG24: 호수 | BH24: 수수 | BI24: 호수 | BJ24: 수수 | BK24: 호수 | BL24: 수수 | BM24: 호수 | BN24: 수수 | BO24: 호수 | BP24: 수수 | BR24: 호수 | BS24: 수 수 | BU24: 호수 | BV24: 수수 | BW24: 호수 | BX24: 수수 | BY24: 호수 | BZ24: 수수 | CA24: 호수 | CB24: 수수 | CC24: 호수 | CD24: 수수 | CE24: 호수 | CF24: 수수 | CG24: 호수 | CH24: 수수 | CI24: 호수 | CJ24: 수수 | DL24: 계 | DM24: 1~9 | DN24: 10~49 | DO24: 50 ~99 | DP24: 100 ~199 | DQ24: 200 ~299 | DR24: 300 ~499 | DS24: 500 이상 | DT24: 비고 | EV24: ㅡ
A25: 계 | B25: =SUM(B26:B39) -> 0 | C25: =SUM(C26:C39) -> 0 | D25: =SUM(D26:D39) -> 0 | E25: =SUM(E26:E39) -> 0 | F25: =SUM(F26:F39) -> 0 | G25: =SUM(G26:G39) -> 0 | H25: =SUM(H26:H39) -> 0 | I25: =SUM(I26:I39) -> 0 | ... L25: =SUM(L26:L39) -> 0 | N25: 계 | O25: =SUM(R25+U25) -> 162 | P25: =SUM(S25+V25) -> 13413 | R25: =SUM(R26:R39) -> 27 | S25: =SUM(S26:T39) -> 2943 | U25: =SUM(U26:U39) -> 135 | V25: =SUM(V26:V39) -> 10470 | W25: =SUM(W26:W39) -> 96 | X25: =SUM(X26:X39) -> 7392 | Y25: =SUM(Y26:Y39) -> 39 | Z25: =SUM(Z26:Z39) -> 3078 | AA25: 계 | AB25: =SUM(AB26:AB39) -> 0 | AC25: =SUM(AC26:AD39) -> 0 | AE25: =SUM(AE26:AE39) -> 0 | AF25: =SUM(AF26:AF39) -> 0 | AG25: =SUM(AG26:AG39) -> 0 | AH25: =SUM(AH26:AH39) -> 0 | AI25: =SUM(AI26:AI39) -> 0 | AJ25: =SUM(AJ26:AJ39) -> 0 | AK25: =SUM(AK26:AK39) -> 0 | AL25: =SUM(AL26:AL39) -> 0 | ... AT25: =SUM(AT26:AT39) -> 0 | AV25: 계 | AW25: =SUM(AW26:AW39) -> 0 | AX25: =SUM(AY26:AZ39) -> 0 | BA25: =SUM(BA26:BA39) -> 0 | BB25: =SUM(BB26:BB39) -> 0 | BC25: =SUM(BC26:BC39) -> 0 | BD25: =SUM(BD26:BD39) -> 0 | BE25: =SUM(BE26:BE39) -> 0 | BF25: =SUM(BF26:BF39) -> 0 | BG25: =SUM(BG26:BG39) -> 0 | BH25: =SUM(BH26:BH39) -> 0 | ... BP25: =SUM(BP26:BP39) -> 0 | BQ25: 계 | BR25: =SUM(BR26:BR40) -> 0 | BS25: =SUM(BS26:BT40) -> 0 | BU25: =SUM(BU26:BU40) -> 0 | BV25: =SUM(BV26:BV40) -> 0 | BW25: =SUM(BW26:BW40) -> 0 | BX25: =SUM(BX26:BX40) -> 0 | BY25: =SUM(BY26:BY40) -> 0 | BZ25: =SUM(BZ26:BZ40) -> 0 | CA25: =SUM(CA26:CA40) -> 0 | CB25: =SUM(CB26:CB40) -> 0 | ... CJ25: =SUM(CJ26:CJ40) -> 0 | CK25: 계 | CL25: =SUM(CL26:CL39) -> 0 | CM25: =SUM(CM26:CM39) -> 0 | CN25: =SUM(CN26:CN39) -> 0 | CO25: =SUM(CO26:CO39) -> 0 | CP25: =SUM(CP26:CP39) -> 0 | CQ25: =SUM(CQ26:CQ39) -> 0 | CR25: =SUM(CR26:CR39) -> 0 | CS25: =SUM(CS26:CS39) -> 0 | ... CU25: =SUM(CU26:CU39) -> 0 | CX25: 계 | CY25: =SUM(CY26:CY39) -> 0 | CZ25: =SUM(CZ26:CZ39) -> 0 | DA25: =SUM(DA26:DA39) -> 0 | DB25: =SUM(DB26:DB39) -> 0 | DC25: =SUM(DC26:DC39) -> 0 | DD25: =SUM(DD26:DD39) -> 0 | DE25: =SUM(DE26:DE39) -> 0 | DF25: =SUM(DF26:DF39) -> 0 | ... DH25: =SUM(DH26:DH39) -> 0 | DK25: 계 | DL25: =SUM(DL26:DL39) -> 13 | DM25: =SUM(DM26:DM39) -> 13 | DN25: =SUM(DN26:DN39) -> 0 | DO25: =SUM(DO26:DO39) -> 0 | DP25: =SUM(DP26:DP39) -> 0 | DQ25: =SUM(DQ26:DQ39) -> 0 | DR25: =SUM(DR26:DR39) -> 0 | DS25: =SUM(DS26:DS39) -> 0
A26: 순창읍 | B26: =SUM(C26:M26) -> 0 | N26: 순창읍 | O26: =SUM(R26+U26) -> 16 | P26: =SUM(S26+V26) -> 1236 | U26: 16 | V26: 1236 | Y26: 16 | Z26: 1236 | AA26: 순창읍 | AB26: =SUM(AE26,AG26,AI26,AK26,AM26,AO26,AQ26,AS26) -> 0 | AC26: =SUM(AF26,AH26,AJ26,AL26,AN26,AP26,AR26,AT26) -> 0 | AV26: 순창읍 | AW26: =SUM(BA26,BC26,BE26,BG26,BI26,BK26,BM26,BO26) -> 0 | AX26: =SUM(BB26,BD26,BF26,BH26,BJ26,BL26,BN26,BP26) -> 0 | BQ26: 순창읍 | BR26: =SUM(BU26,BW26,BY26,CA26,CC26,CE26,CG26,CI26) -> 0 | BS26: =SUM(BV26,BX26,BZ26,CB26,CD26,CF26,CH26,CJ26) -> 0 | CK26: 순창읍 | CL26: =SUM(CM26:CW26) -> 0 | CX26: 순창읍 | CY26: =SUM(CZ26:DG26) -> 0 | DK26: 순창읍 | DL26: =SUM(DM26:DS26) -> 0
A27: 인계면 | B27: =SUM(C27:M27) -> 0 | N27: 인계면 | O27: =SUM(R27+U27) -> 13 | P27: =SUM(S27+V27) -> 938 | U27: 13 | V27: 938 | W27: 13 | X27: 938 | AA27: 인계면 | AB27: =SUM(AE27,AG27,AI27,AK27,AM27,AO27,AQ27,AS27) -> 0 | AC27: =SUM(AF27,AH27,AJ27,AL27,AN27,AP27,AR27,AT27) -> 0 | AV27: 인계면 | AW27: =SUM(BA27,BC27,BE27,BG27,BI27,BK27,BM27,BO27) -> 0 | AX27: =SUM(BB27,BD27,BF27,BH27,BJ27,BL27,BN27,BP27) -> 0 | BQ27: 인계면 | BR27: =SUM(BU27,BW27,BY27,CA27,CC27,CE27,CG27,CI27) -> 0 | BS27: =SUM(BV27,BX27,BZ27,CB27,CD27,CF27,CH27,CJ27) -> 0 | CK27: 인계면 | CL27: =SUM(CM27:CW27) -> 0 | CX27: 인계면 | CY27: =SUM(CZ27:DG27) -> 0 | DK27: 인계면 | DL27: =SUM(DM27:DS27) -> 0
A28: 동계면 | B28: =SUM(C28:M28) -> 0 | N28: 동계면 | O28: =SUM(R28+U28) -> 17 | P28: =SUM(S28+V28) -> 2594 | R28: 17 | S28: 2594 | W28: 0 | X28: 0 | AA28: 동계면 | AB28: =SUM(AE28,AG28,AI28,AK28,AM28,AO28,AQ28,AS28) -> 0 | AC28: =SUM(AF28,AH28,AJ28,AL28,AN28,AP28,AR28,AT28) -> 0 | AV28: 동계면 | AW28: =SUM(BA28,BC28,BE28,BG28,BI28,BK28,BM28,BO28) -> 0 | AX28: =SUM(BB28,BD28,BF28,BH28,BJ28,BL28,BN28,BP28) -> 0 | BQ28: 동계면 | BR28: =SUM(BU28,BW28,BY28,CA28,CC28,CE28,CG28,CI28) -> 0 | BS28: =SUM(BV28,BX28,BZ28,CB28,CD28,CF28,CH28,CJ28) -> 0 | CK28: 동계면 | CL28: =SUM(CM28:CW28) -> 0 | CX28: 동계면 | CY28: =SUM(CZ28:DG28) -> 0 | DK28: 동계면 | DL28: =SUM(DM28:DS28) -> 0
A29: 적성면 | B29: =SUM(C29:M29) -> 0 | N29: 적성면 | O29: =SUM(R29+U29) -> 10 | P29: =SUM(S29+V29) -> 989 | U29: 10 | V29: 989 | W29: 10 | X29: 989 | AA29: 적성면 | AB29: =SUM(AE29,AG29,AI29,AK29,AM29,AO29,AQ29,AS29) -> 0 | AC29: =SUM(AF29,AH29,AJ29,AL29,AN29,AP29,AR29,AT29) -> 0 | AV29: 적성면 | AW29: =SUM(BA29,BC29,BE29,BG29,BI29,BK29,BM29,BO29) -> 0 | AX29: =SUM(BB29,BD29,BF29,BH29,BJ29,BL29,BN29,BP29) -> 0 | BQ29: 적성면 | BR29: =SUM(BU29,BW29,BY29,CA29,CC29,CE29,CG29,CI29) -> 0 | BS29: =SUM(BV29,BX29,BZ29,CB29,CD29,CF29,CH29,CJ29) -> 0 | CK29: 적성면 | CL29: =SUM(CM29:CW29) -> 0 | CX29: 적성면 | CY29: =SUM(CZ29:DG29) -> 0 | DK29: 적성면 | DL29: =SUM(DM29:DS29) -> 0
A30: 유등면 | B30: =SUM(C30:M30) -> 0 | N30: 유등면 | O30: =SUM(R30+U30) -> 2 | P30: =SUM(S30+V30) -> 197 | U30: 2 | V30: 197 | W30: 2 | X30: 197 | AA30: 유등면 | AB30: =SUM(AE30,AG30,AI30,AK30,AM30,AO30,AQ30,AS30) -> 0 | AC30: =SUM(AF30,AH30,AJ30,AL30,AN30,AP30,AR30,AT30) -> 0 | AV30: 유등면 | AW30: =SUM(BA30,BC30,BE30,BG30,BI30,BK30,BM30,BO30) -> 0 | AX30: =SUM(BB30,BD30,BF30,BH30,BJ30,BL30,BN30,BP30) -> 0 | BQ30: 유등면 | BR30: =SUM(BU30,BW30,BY30,CA30,CC30,CE30,CG30,CI30) -> 0 | BS30: =SUM(BV30,BX30,BZ30,CB30,CD30,CF30,CH30,CJ30) -> 0 | CK30: 유등면 | CL30: =SUM(CM30:CW30) -> 0 | CX30: 유등면 | CY30: =SUM(CZ30:DG30) -> 0 | DK30: 유등면 | DL30: =SUM(DM30:DS30) -> 0
A31: 풍산면 | B31: =SUM(C31:M31) -> 0 | N31: 풍산면 | O31: =SUM(R31+U31) -> 13 | P31: =SUM(S31+V31) -> 1213 | R31: 2 | S31: 50 | U31: 11 | V31: 1163 | Y31: 11 | Z31: 1163 | AA31: 풍산면 | AB31: =SUM(AE31,AG31,AI31,AK31,AM31,AO31,AQ31,AS31) -> 0 | AC31: =SUM(AF31,AH31,AJ31,AL31,AN31,AP31,AR31,AT31) -> 0 | AV31: 풍산면 | AW31: =SUM(BA31,BC31,BE31,BG31,BI31,BK31,BM31,BO31) -> 0 | AX31: =SUM(BB31,BD31,BF31,BH31,BJ31,BL31,BN31,BP31) -> 0 | BQ31: 풍산면 | BR31: =SUM(BU31,BW31,BY31,CA31,CC31,CE31,CG31,CI31) -> 0 | BS31: =SUM(BV31,BX31,BZ31,CB31,CD31,CF31,CH31,CJ31) -> 0 | CK31: 풍산면 | CL31: =SUM(CM31:CW31) -> 0 | CX31: 풍산면 | CY31: =SUM(CZ31:DG31) -> 0 | DK31: 풍산면 | DL31: =SUM(DM31:DS31) -> 0
A32: 금과면 | B32: =SUM(C32:M32) -> 0 | N32: 금과면 | O32: =SUM(R32+U32) -> 19 | P32: =SUM(S32+V32) -> 1585 | U32: 19 | V32: 1585 | W32: 17 | X32: 1544 | Y32: 2 | Z32: 41 | AA32: 금과면 | AB32: =SUM(AE32,AG32,AI32,AK32,AM32,AO32,AQ32,AS32) -> 0 | AC32: =SUM(AF32,AH32,AJ32,AL32,AN32,AP32,AR32,AT32) -> 0 | AV32: 금과면 | AW32: =SUM(BA32,BC32,BE32,BG32,BI32,BK32,BM32,BO32) -> 0 | AX32: =SUM(BB32,BD32,BF32,BH32,BJ32,BL32,BN32,BP32) -> 0 | BQ32: 금과면 | BR32: =SUM(BU32,BW32,BY32,CA32,CC32,CE32,CG32,CI32) -> 0 | BS32: =SUM(BV32,BX32,BZ32,CB32,CD32,CF32,CH32,CJ32) -> 0 | CK32: 금과면 | CL32: =SUM(CM32:CW32) -> 0 | CX32: 금과면 | CY32: =SUM(CZ32:DG32) -> 0 | DK32: 금과면 | DL32: =SUM(DM32:DS32) -> 0
A33: 팔덕면 | B33: =SUM(C33:M33) -> 0 | N33: 팔덕면 | O33: =SUM(R33+U33) -> 8 | P33: =SUM(S33+V33) -> 598 | U33: 8 | V33: 598 | Y33: 8 | Z33: 598 | AA33: 팔덕면 | AB33: =SUM(AE33,AG33,AI33,AK33,AM33,AO33,AQ33,AS33) -> 0 | AC33: =SUM(AF33,AH33,AJ33,AL33,AN33,AP33,AR33,AT33) -> 0 | AV33: 팔덕면 | AW33: =SUM(BA33,BC33,BE33,BG33,BI33,BK33,BM33,BO33) -> 0 | AX33: =SUM(BB33,BD33,BF33,BH33,BJ33,BL33,BN33,BP33) -> 0 | BQ33: 팔덕면 | BR33: =SUM(BU33,BW33,BY33,CA33,CC33,CE33,CG33,CI33) -> 0 | BS33: =SUM(BV33,BX33,BZ33,CB33,CD33,CF33,CH33,CJ33) -> 0 | CK33: 팔덕면 | CL33: =SUM(CM33:CW33) -> 0 | CX33: 팔덕면 | CY33: =SUM(CZ33:DG33) -> 0 | DK33: 팔덕면 | DL33: =SUM(DM33:DS33) -> 0
A34: 복흥면 | B34: =SUM(C34:M34) -> 0 | N34: 복흥면 | O34: =SUM(R34+U34) -> 10 | P34: =SUM(S34+V34) -> 650 | U34: 10 | V34: 650 | W34: 10 | X34: 650 | AA34: 복흥면 | AB34: =SUM(AE34,AG34,AI34,AK34,AM34,AO34,AQ34,AS34) -> 0 | AC34: =SUM(AF34,AH34,AJ34,AL34,AN34,AP34,AR34,AT34) -> 0 | AV34: 복흥면 | AW34: =SUM(BA34,BC34,BE34,BG34,BI34,BK34,BM34,BO34) -> 0 | AX34: =SUM(BB34,BD34,BF34,BH34,BJ34,BL34,BN34,BP34) -> 0 | BQ34: 복흥면 | BR34: =SUM(BU34,BW34,BY34,CA34,CC34,CE34,CG34,CI34) -> 0 | BS34: =SUM(BV34,BX34,BZ34,CB34,CD34,CF34,CH34,CJ34) -> 0 | CK34: 복흥면 | CL34: =SUM(CM34:CW34) -> 0 | CX34: 복흥면 | CY34: =SUM(CZ34:DG34) -> 0 | DK34: 복흥면 | DL34: =SUM(DM34:DS34) -> 0
A35: 쌍치면 | B35: =SUM(C35:M35) -> 0 | N35: 쌍치면 | O35: =SUM(R35+U35) -> 31 | P35: =SUM(S35+V35) -> 1842 | R35: 3 | S35: 55 | U35: 28 | V35: 1787 | W35: 28 | X35: 1787 | AA35: 쌍치면 | AB35: =SUM(AE35,AG35,AI35,AK35,AM35,AO35,AQ35,AS35) -> 0 | AC35: =SUM(AF35,AH35,AJ35,AL35,AN35,AP35,AR35,AT35) -> 0 | AV35: 쌍치면 | AW35: =SUM(BA35,BC35,BE35,BG35,BI35,BK35,BM35,BO35) -> 0 | AX35: =SUM(BB35,BD35,BF35,BH35,BJ35,BL35,BN35,BP35) -> 0 | BQ35: 쌍치면 | BR35: =SUM(BU35,BW35,BY35,CA35,CC35,CE35,CG35,CI35) -> 0 | BS35: =SUM(BV35,BX35,BZ35,CB35,CD35,CF35,CH35,CJ35) -> 0 | CK35: 쌍치면 | CL35: =SUM(CM35:CW35) -> 0 | CX35: 쌍치면 | CY35: =SUM(CZ35:DG35) -> 0 | DK35: 쌍치면 | DL35: =SUM(DM35:DS35) -> 0
A36: 구림면 | B36: =SUM(C36:M36) -> 0 | N36: 구림면 | O36: =SUM(R36+U36) -> 23 | P36: =SUM(S36+V36) -> 1571 | R36: 5 | S36: 244 | U36: 18 | V36: 1327 | W36: 16 | X36: 1287 | Y36: 2 | Z36: 40 | AA36: 구림면 | AB36: =SUM(AE36,AG36,AI36,AK36,AM36,AO36,AQ36,AS36) -> 0 | AC36: =SUM(AF36,AH36,AJ36,AL36,AN36,AP36,AR36,AT36) -> 0 | AV36: 구림면 | AW36: =SUM(BA36,BC36,BE36,BG36,BI36,BK36,BM36,BO36) -> 0 | AX36: =SUM(BB36,BD36,BF36,BH36,BJ36,BL36,BN36,BP36) -> 0 | BQ36: 구림면 | BR36: =SUM(BU36,BW36,BY36,CA36,CC36,CE36,CG36,CI36) -> 0 | BS36: =SUM(BV36,BX36,BZ36,CB36,CD36,CF36,CH36,CJ36) -> 0 | CK36: 구림면 | CL36: =SUM(CM36:CW36) -> 0 | CX36: 구림면 | CY36: =SUM(CZ36:DG36) -> 0 | DK36: 구림면 | DL36: =SUM(DM36:DS36) -> 13 | DM36: 13
B37: =SUM(C37:M37) -> 0 | O37: =SUM(R37+U37) -> 0 | P37: =SUM(S37+V37) -> 0 | AB37: =SUM(AE37,AG37,AI37,AK37,AM37,AO37,AQ37,AS37) -> 0 | AC37: =SUM(AF37,AH37,AJ37,AL37,AN37,AP37,AR37,AT37) -> 0 | AW37: =SUM(BA37,BC37,BE37,BG37,BI37,BK37,BM37,BO37) -> 0 | AX37: =SUM(BB37,BD37,BF37,BH37,BJ37,BL37,BN37,BP37) -> 0 | BR37: =SUM(BU37,BW37,BY37,CA37,CC37,CE37,CG37,CI37) -> 0 | BS37: =SUM(BV37,BX37,BZ37,CB37,CD37,CF37,CH37,CJ37) -> 0 | CL37: =SUM(CM37:CW37) -> 0 | CY37: =SUM(CZ37:DG37) -> 0 | DL37: =SUM(DM37:DS37) -> 0
B38: =SUM(C38:M38) -> 0 | O38: =SUM(R38+U38) -> 0 | P38: =SUM(S38+V38) -> 0 | AB38: =SUM(AE38,AG38,AI38,AK38,AM38,AO38,AQ38,AS38) -> 0 | AC38: =SUM(AF38,AH38,AJ38,AL38,AN38,AP38,AR38,AT38) -> 0 | AW38: =SUM(BA38,BC38,BE38,BG38,BI38,BK38,BM38,BO38) -> 0 | AX38: =SUM(BB38,BD38,BF38,BH38,BJ38,BL38,BN38,BP38) -> 0 | BR38: =SUM(BU38,BW38,BY38,CA38,CC38,CE38,CG38,CI38) -> 0 | BS38: =SUM(BV38,BX38,BZ38,CB38,CD38,CF38,CH38,CJ38) -> 0 | CL38: =SUM(CM38:CW38) -> 0 | CY38: =SUM(CZ38:DG38) -> 0 | DL38: =SUM(DM38:DS38) -> 0
B39: =SUM(C39:M39) -> 0 | O39: =SUM(R39+U39) -> 0 | P39: =SUM(S39+V39) -> 0 | AB39: =SUM(AE39,AG39,AI39,AK39,AM39,AO39,AQ39,AS39) -> 0 | AC39: =SUM(AF39,AH39,AJ39,AL39,AN39,AP39,AR39,AT39) -> 0 | AW39: =SUM(BA39,BC39,BE39,BG39,BI39,BK39,BM39,BO39) -> 0 | AX39: =SUM(BB39,BD39,BF39,BH39,BJ39,BL39,BN39,BP39) -> 0 | BR39: =SUM(BU39,BW39,BY39,CA39,CC39,CE39,CG39,CI39) -> 0 | BS39: =SUM(BV39,BX39,BZ39,CB39,CD39,CF39,CH39,CJ39) -> 0 | CL39: =SUM(CM39:CW39) -> 0 | CY39: =SUM(CZ39:DG39) -> 0 | DL39: =SUM(DM39:DS39) -> 0

Sheet (붙임4)23년12월 성별마리수
A1: 1 - 3 한육우 연령별 성별 마리수 | N1: 2 - 3 젖소 연령별 성별 마리수 | AA1: 3 - 3 돼지 연령별 성별 마리수 | AQ1: 4 - 3 닭 연령별 용도별 수수 | BF1: 5- 3 오리 연령별 성별 종별 마리수 | BU1: 6 - 3 염소(산양) 연령별 성별 종별 마리수 | CK1: 7 - 3 면양 연령별 성별 종별 마리수 | CX1: 8 - 2 사슴 연령별 성별 종별 마리수 | DO1: 9 - 3 토끼 연령별 성별 종별 마리수 | EG1: 14 - 3 메추리 연령별 성별 마리수 | EW1: 17 - 3 타조 연령별 성별 마리수 | FN1: 18 - 3 오소리 연령별 성별 마리수 | GE1: 19 - 3 꿩 연령별 성별 마리수 | GR1: 21. 기러기 연령별 성별 마리수
CX2: 구분 | CY2: 연 령 별 마 리 수 | DH2: 종 별 마 리 수 | DN2: 비 고 | DO2: 구분 | DP2: 연 령 별 성 별 마 리 수 | DY2: 종 별 마 리 수 | EW2: 구분 | EX2: 연령별·성별 마리수 | FJ2: 종별마리수 | FN2: 구분 | FO2: 연령별·성별 마리수 | GA2: 종별마리수 | GE2: 구분 | GF2: 연령별·성별 마리수 | GR2: 구분 | GS2: 연령별·성별 마리수
A3: 구분 | B3: 합 계 | E3: 1세 미만 | H3: 1세이상 ~ 2세미만 | K3: 2세 이상 | N3: 구분 | O3: 합 계 | R3: 1세 미만 | U3: 1세이상 ~ 2세미만 | X3: 2세 이상 | AA3: 구분 | AB3: 계 | AC3: 2개월 미만 | AE3: 3 ~ 4개월 미만 | AG3: 5개월 이상~ 6개월 미만 | AI3: 6개월 이상 ~ 8개월 미만 | AN3: 8개월 이상 | AQ3: 구분 | AR3: 연 령 별 성 별 마 리 수 | AZ3: 용 도 별 마 리 수 | BF3: 구분 | BG3: 합 계 | BJ3: 6개월 미만 | BM3: 6개월 이상 | BP3: 종 별 마 리 수 | BT3: 비 고 | BU3: 구분 | BV3: 합 계 | BY3: 1세 미만 | CB3: 1세 이상 | CE3: 종별 마리수 | CK3: 구분 | CL3: 합 계 | CO3: 1세 미만 | CR3: 1세 이상 | CU3: 종별 마리수 | CY3: 합 계 | DB3: 18개월 미만 | DE3: 18개월 이상 | DH3: 합계 | DI3: 꽃사슴 | DJ3: 레드디어 | DK3: 엘크 | DL3: 순록 | DM3: 기타 | DP3: 합 계 | DS3: 6개월 미만 | DV3: 6개월 이상 | DY3: 계 | DZ3: 모용종 | EA3: 모 피 용 종 | EE3: 육용종 | EF3: 기타 | EG3: 구분 | EH3: 합 계 | EN3: 초 생 추(35일 미만) | ES3: 어 미(35일 이상) | EX3: 계 | FA3: 12개월미만 | FD3: 1년-3년미만 | FG3: 3년이상 | FJ3: 계 | FK3: 아메리칸 블랙종 | FL3: 붉은목종 | FM3: 푸른목종 | FO3: 계 | FR3: 1세미만 | FU3: 1년-3년미만 | FX3: 3년이상 | GA3: 계 | GB3: 참오소리 | GC3: 돼지코 오소리 | GD3: 교잡종 | GF3: 계 | GI3: 5개월미만 | GL3: 5개월-12개월미만 | GO3: 1년이상 | GS3: 계 | GV3: 6개월미만 | GY3: 6개월~12개월미만 | HB3: 12개월 이상
B4: 계 | C4: 암 | D4: 수 | E4: 소 계 | F4: 암 | G4: 수 | H4: 소 계 | I4: 암 | J4: 수 | K4: 소 계 | L4: 암 | M4: 수 | O4: 계 | P4: 암 | Q4: 수 | R4: 소 계 | S4: 암 | T4: 수 | U4: 소 계 | V4: 암 | W4: 수 | X4: 소 계 | Y4: 암 | Z4: 수 | AI4: 소 계 | AK4: 암 | AL4: 수 | AM4: 그중 모돈 | AN4: 소 계 | AO4: 암 | AP4: 수 | AR4: 계 | AT4: 3개월 미만 | AV4: 3~6개월 미만 | AX4: 6개월 이상 | AZ4: 계 | BB4: 종 계 | BC4: 산란계 | BD4: 육용계 | BE4: 겸용계 | BG4: 계 | BH4: 암 | BI4: 수 | BJ4: 소계 | BK4: 암 | BL4: 수 | BM4: 소계 | BN4: 암 | BO4: 수 | BP4: 계 | BQ4: 산란종 | BR4: 육용종 | BS4: 기 타 | BV4: 계 | BW4: 암 | BX4: 수 | BY4: 소 계 | BZ4: 암 | CA4: 수 | CB4: 소 계 | CC4: 암 | CD4: 수 | CE4: 계 (농가수) | CF4: 계 (마리수) | CG4: 유산양 (농가수) | CH4: 유산양 (마리수) | CI4: 재래산양(잡종) (농가수) | CJ4: 재래산양(잡종) (마리수) | CL4: 계 | CM4: 암 | CN4: 수 | CO4: 소 계 | CP4: 암 | CQ4: 수 | CR4: 소 계 | CS4: 암 | CT4: 수 | CU4: 계 | CV4: 모용종 | CW4: 육용종 (잡종) | CY4: 계 | CZ4: 암 | DA4: 수 | DB4: 소계 | DC4: 암 | DD4: 수 | DE4: 소계 | DF4: 암 | DG4: 수 | DP4: 계 | DQ4: 암 | DR4: 수 | DS4: 소 계 | DT4: 암 | DU4: 수 | DV4: 소 계 | DW4: 암 | DX4: 수 | EA4: 소계 | EB4: 친치라 | EC4: 렉스 | ED4: 기타 | EH4: 계 | EJ4: 암 | EL4: 수 | EN4: 소 계 | EP4: 암 | ER4: 수 | ES4: 소 계 | EU4: 암 | EV4: 수 | EX4: 계 | EY4: 암 | EZ4: 수 | FA4: 계 | FB4: 암 | FC4: 수 | FD4: 계 | FE4: 암 | FF4: 수 | FG4: 계 | FH4: 암 | FI4: 수 | FO4: 계 | FP4: 암 | FQ4: 수 | FR4: 계 | FS4: 암 | FT4: 수 | FU4: 계 | FV4: 암 | FW4: 수 | FX4: 계 | FY4: 암 | FZ4: 수 | GF4: 계 | GG4: 암 | GH4: 수 | GI4: 계 | GJ4: 암 | GK4: 수 | GL4: 계 | GM4: 암 | GN4: 수 | GO4: 계 | GP4: 암 | GQ4: 수 | GS4: 계 | GT4: 암 | GU4: 수 | GV4: 계 | GW4: 암 | GX4: 수 | GY4: 계 | GZ4: 암 | HA4: 수 | HB4: 계 | HC4: 암 | HD4: 수
A5: 계 | B5: =SUM(E5+H5+K5) -> 27200 | C5: =SUM(F5+I5+L5) -> 19212 | D5: =SUM(G5+J5+M5) -> 7988 | E5: =SUM(F5+G5) -> 7559 | F5: =SUM(F6:F19) -> 4116 | G5: =SUM(G6:G19) -> 3443 | H5: =SUM(I5+J5) -> 7554 | I5: =SUM(I6:I19) -> 5031 | J5: =SUM(J6:J19) -> 2523 | K5: =SUM(L5+M5) -> 12087 | L5: =SUM(L6:L19) -> 10065 | M5: =SUM(M6:M19) -> 2022 | N5: 계 | O5: =S5+V5+Y5 -> 713 | P5: =SUM(S5+V5+Y5) -> 713 | Q5: =SUM(T5,W5,Z5) -> 0 | R5: =SUM(S5:T5) -> 232 | S5: =SUM(S6:S19) -> 232 | T5: =SUM(T6:T19) -> 0 | U5: =SUM(V5:W5) -> 228 | V5: =SUM(V6:V19) -> 228 | W5: =SUM(W6:W19) -> 0 | X5: =SUM(Y5:Z5) -> 253 | Y5: =SUM(Y6:Y19) -> 253 | Z5: =SUM(Z6:Z19) -> 0 | AA5: 계 | AB5: =SUM(AC5+AE5+AG5+AI5+AN5) -> 30830 | AC5: =SUM(AC6:AD19) -> 2169 | AE5: =SUM(AE6:AF19) -> 4708 | AG5: =SUM(AG6:AH19) -> 5022 | AI5: =SUM(AK5+AL5) -> 16037 | AK5: =SUM(AK6:AK19) -> 11553 | AL5: =SUM(AL6:AL19) -> 4484 | AM5: =SUM(AM6:AM19) -> 1480 | AN5: =SUM(AO5+AP5) -> 2894 | AO5: =SUM(AO6:AO19) -> 1939 | AP5: =SUM(AP6:AP19) -> 955 | AQ5: 계 | AR5: =SUM(AR6:AS19) -> 2255226 | AT5: =SUM(AT6:AU19) -> 1600465 | AV5: =SUM(AV6:AW19) -> 246700 | AX5: =SUM(AX6:AY19) -> 408061 | AZ5: =SUM(AZ6:BA19) -> 2255226 | BB5: =SUM(BB6:BB19) -> 0 | BC5: =SUM(BC6:BC19) -> 757251 | BD5: =SUM(BD6:BD19) -> 1497975 | BE5: =SUM(BE6:BE19) -> 0 | BF5: 계 | BG5: =SUM(BJ5+BM5) -> 91600 | BH5: =SUM(BK5+BN5) -> 45600 | BI5: =SUM(BL5+BO5) -> 46000 | BJ5: =SUM(BK5+BL5) -> 75600 | BK5: =SUM(BK6:BK19) -> 37600 | BL5: =SUM(BL6:BL19) -> 38000 | BM5: =SUM(BN5+BO5) -> 16000 | BN5: =SUM(BN6:BN19) -> 8000 | BO5: =SUM(BO6:BO19) -> 8000 | BP5: =SUM(BP6:BP19) -> 91600 | BQ5: =SUM(BQ6:BQ19) -> 0 | BR5: =SUM(BR6:BR19) -> 91600 | BS5: =SUM(BS6:BS19) -> 0 | BU5: 계 | BV5: =SUM(BY5+CB5) -> 14226 | BW5: =SUM(BZ5+CC5) -> 7686 | BX5: =SUM(CA5+CD5) -> 6540 | BY5: =SUM(BZ5+CA5) -> 7032 | BZ5: =SUM(BZ6:BZ19) -> 3625 | CA5: =SUM(CA6:CA19) -> 3407 | CB5: =SUM(CC5+CD5) -> 7194 | CC5: =SUM(CC6:CC19) -> 4061 | CD5: =SUM(CD6:CD19) -> 3133 | CE5: =SUM(CG5,CI5) -> 101 | CF5: =SUM(CH5,CJ5) -> 14226 | CG5: =SUM(CG6:CG19) -> 0 | CH5: =SUM(CH6:CH19) -> 0 | CI5: =SUM(CI6:CI19) -> 101 | CJ5: =SUM(CJ6:CJ19) -> 14226 | CK5: 계 | CL5: =SUM(CO5+CR5) -> 0 | CM5: =SUM(CP5+CS5) -> 0 | CN5: =SUM(CQ5+CT5) -> 0 | CO5: =SUM(CP5+CQ5) -> 0 | CP5: =SUM(CP6:CP19) -> 0 | CQ5: =SUM(CQ6:CQ19) -> 0 | CR5: =SUM(CS5+CT5) -> 0 | CS5: =SUM(CS6:CS19) -> 0 | CT5: =SUM(CT6:CT19) -> 0 | CU5: =SUM(CV5+CW5) -> 0 | CV5: =SUM(CV6:CV19) -> 0 | CW5: =SUM(CW6:CW19) -> 0 | CX5: 계 | CY5: =SUM(DB5+DE5) -> 88 | CZ5: =SUM(DC5+DF5) -> 54 | DA5: =SUM(DD5+DG5) -> 34 | DB5: =SUM(DC5+DD5) -> 0 | DC5: =SUM(DC6:DC19) -> 0 | DD5: =SUM(DD6:DD19) -> 0 | DE5: =SUM(DF5+DG5) -> 88 | DF5: =SUM(DF6:DF19) -> 54 | DG5: =SUM(DG6:DG19) -> 34 | DH5: =SUM(DH6:DH19) -> 88 | DI5: =SUM(DI6:DI19) -> 88 | DJ5: =SUM(DJ6:DJ19) -> 0 | DK5: =SUM(DK6:DK19) -> 0 | DL5: =SUM(DL6:DL19) -> 0 | DM5: =SUM(DM6:DM19) -> 0 | DO5: 계 | DP5: =SUM(DS5+DV5) -> 21 | DQ5: =SUM(DT5+DW5) -> 21 | DR5: =SUM(DU5+DX5) -> 0 | DS5: =SUM(DT5+DU5) -> 0 | DT5: =SUM(DT6:DT19) -> 0 | DU5: =SUM(DU6:DU19) -> 0 | DV5: =SUM(DW5+DX5) -> 21 | DW5: =SUM(DW6:DW19) -> 21 | DX5: =SUM(DX6:DX19) -> 0 | DY5: =SUM(DZ5+EA5+EE5+EF5) -> 21 | DZ5: =SUM(DZ6:DZ19) -> 0 | EA5: =SUM(EA6:EA19) -> 0 | EB5: =SUM(EB6:EB19) -> 0 | EC5: =SUM(EC6:EC19) -> 0 | ED5: =SUM(ED6:ED19) -> 0 | EE5: =SUM(EE6:EE19) -> 21 | EF5: =SUM(EF6:EF19) -> 0 | EG5: 계 | EH5: =SUM(EH6:EI19) -> 0 | EJ5: =SUM(EJ6:EK19) -> 0 | EL5: =SUM(EL6:EM19) -> 0 | EN5: =SUM(EN6:EO19) -> 0 | EP5: =SUM(EP6:EQ19) -> 0 | ER5: =SUM(ER6:ER19) -> 0 | ES5: =SUM(ES6:ET19) -> 0 | EU5: =SUM(EU6:EU19) -> 0 | EV5: =SUM(EV6:EV19) -> 0 | EW5: 계 | EX5: =SUM(FA5+FD5+FG5) -> 2 | EY5: =SUM(FB5+FE5+FH5) -> 1 | EZ5: =SUM(FC5+FF5+FI5) -> 1 | FA5: =SUM(FB5:FC5) -> 0 | FB5: =SUM(FB6:FB19) -> 0 | FC5: =SUM(FC6:FC19) -> 0 | FD5: =SUM(FE5:FF5) -> 2 | FE5: =SUM(FE6:FE19) -> 1 | FF5: =SUM(FF6:FF19) -> 1 | FG5: =SUM(FH5:FI5) -> 0 | FH5: =SUM(FH6:FH19) -> 0 | FI5: =SUM(FI6:FI19) -> 0 | FJ5: =FK5+FL5+FM5 -> 2 | FK5: =SUM(FK6:FK19) -> 0 | FL5: =SUM(FL6:FL19) -> 2 | FM5: =SUM(FM6:FM19) -> 0 | FN5: 계 | FO5: =SUM(FR5+FU5+FX5) -> 0 | FP5: =SUM(FS5+FV5+FY5) -> 0 | FQ5: =SUM(FT5+FW5+FZ5) -> 0 | FR5: =SUM(FS5:FT5) -> 0 | FS5: =SUM(FS6:FS19) -> 0 | FT5: =SUM(FT6:FT19) -> 0 | FU5: =SUM(FV5:FW5) -> 0 | FV5: =SUM(FV6:FV19) -> 0 | FW5: =SUM(FW6:FW19) -> 0 | FX5: =SUM(FY5:FZ5) -> 0 | FY5: =SUM(FY6:FY19) -> 0 | FZ5: =SUM(FZ6:FZ19) -> 0 | GA5: =GB5+GC5+GD5 -> 0 | GB5: =SUM(GB6:GB19) -> 0 | GC5: =SUM(GC6:GC19) -> 0 | GD5: =SUM(GD6:GD19) -> 0 | GE5: 계 | GF5: =SUM(GG5:GH5) -> 0 | GG5: =GJ5+GM5+GP5 -> 0 | GH5: =SUM(GK5+GN5+GQ5) -> 0 | GI5: =SUM(GJ5:GK5) -> 0 | GJ5: =SUM(GJ6:GJ19) -> 0 | GK5: =SUM(GK6:GK19) -> 0 | GL5: =SUM(GM5:GN5) -> 0 | GM5: =SUM(GM6:GM19) -> 0 | GN5: =SUM(GN6:GN19) -> 0 | GO5: =SUM(GP5:GQ5) -> 0 | GP5: =SUM(GP6:GP19) -> 0 | GQ5: =SUM(GQ6:GQ19) -> 0 | GR5: 계 | GS5: =SUM(GT5:GU5) -> 13 | GT5: =GW5+GZ5+HC5 -> 5 | GU5: =SUM(GX5+HA5+HD5) -> 8 | GV5: =SUM(GW5:GX5) -> 0 | GW5: =SUM(GW6:GW19) -> 0 | GX5: =SUM(GX6:GX19) -> 0 | GY5: =SUM(GZ5:HA5) -> 6 | GZ5: =SUM(GZ6:GZ19) -> 1 | HA5: =SUM(HA6:HA19) -> 5 | HB5: =SUM(HC5:HD5) -> 7 | HC5: =SUM(HC6:HC19) -> 4 | HD5: =SUM(HD6:HD19) -> 3
A6: 순창읍 | B6: =SUM(E6+H6+K6) -> 739 | C6: =SUM(F6+I6+L6) -> 526 | D6: =SUM(G6+J6+M6) -> 213 | E6: =SUM(F6+G6) -> 170 | F6: 96 | G6: 74 | H6: =SUM(I6+J6) -> 237 | I6: 132 | J6: 105 | K6: =SUM(L6+M6) -> 332 | L6: 298 | M6: 34 | N6: 순창읍 | O6: =S6+V6+Y6 -> 0 | P6: =SUM(S6+V6+Y6) -> 0 | Q6: =SUM(T6,W6,Z6) -> 0 | R6: =SUM(S6:T6) -> 0 | U6: =SUM(V6:W6) -> 0 | X6: =SUM(Y6:Z6) -> 0 | AA6: 순창읍 | AB6: =SUM(AC6+AE6+AG6+AI6+AN6) -> 0 | AI6: =SUM(AK6+AL6) -> 0 | AN6: =SUM(AO6+AP6) -> 0 | AQ6: 순창읍 | AR6: =SUM(AT6:AY6) -> 142500 | AT6: 142500 | AZ6: =SUM(BB6:BE6) -> 142500 | BD6: 142500 | BF6: 순창읍 | BG6: =SUM(BJ6+BM6) -> 25000 | BH6: =SUM(BK6+BN6) -> 12000 | BI6: =SUM(BL6+BO6) -> 13000 | BJ6: =SUM(BK6+BL6) -> 25000 | BK6: 12000 | BL6: 13000 | BM6: =SUM(BN6+BO6) -> 0 | BP6: =SUM(BQ6+BR6+BS6) -> 25000 | BR6: 25000 | BU6: 순창읍 | BV6: =SUM(BY6+CB6) -> 84 | BW6: =SUM(BZ6+CC6) -> 54 | BX6: =SUM(CA6+CD6) -> 30 | BY6: =SUM(BZ6+CA6) -> 46 | BZ6: 20 | CA6: 26 | CB6: =SUM(CC6+CD6) -> 38 | CC6: 34 | CD6: 4 | CE6: =SUM(CG6,CI6) -> 7 | CF6: =SUM(CH6,CJ6) -> 84 | CI6: 7 | CJ6: 84 | CK6: 순창읍 | CL6: =SUM(CO6+CR6) -> 0 | CM6: =SUM(CP6+CS6) -> 0 | CN6: =SUM(CQ6+CT6) -> 0 | CO6: =SUM(CP6+CQ6) -> 0 | CR6: =SUM(CS6+CT6) -> 0 | CU6: =SUM(CV6+CW6) -> 0 | CX6: 순창읍 | CY6: =SUM(DB6+DE6) -> 0 | CZ6: =SUM(DC6+DF6) -> 0 | DA6: =SUM(DD6+DG6) -> 0 | DB6: =SUM(DC6+DD6) -> 0 | DE6: =SUM(DF6+DG6) -> 0 | DH6: =SUM(DI6:DM6) -> 0 | DO6: 순창읍 | DP6: =SUM(DS6+DV6) -> 0 | DQ6: =SUM(DT6+DW6) -> 0 | DR6: =SUM(DU6+DX6) -> 0 | DS6: =SUM(DT6+DU6) -> 0 | DV6: =SUM(DW6+DX6) -> 0 | DY6: =SUM(DZ6+EA6+EE6+EF6) -> 0 | EA6: =SUM(EB6:ED6) -> 0 | EG6: 순창읍 | EH6: =SUM(EN6+ES6) -> 0 | EJ6: =SUM(EP6+EU6) -> 0 | EL6: =SUM(ER6+EV6) -> 0 | EN6: =SUM(EP6+ER6) -> 0 | ES6: =SUM(EU6+EV6) -> 0 | EW6: 순창읍 | EX6: =SUM(FA6+FD6+FG6) -> 0 | EY6: =SUM(FB6+FE6+FH6) -> 0 | EZ6: =SUM(FC6+FF6+FI6) -> 0 | FA6: =SUM(FB6:FC6) -> 0 | FD6: =SUM(FE6:FF6) -> 0 | FG6: =SUM(FH6:FI6) -> 0 | FJ6: =FK6+FL6+FM6 -> 0 | FN6: 순창읍 | FO6: =SUM(FR6+FU6+FX6) -> 0 | FP6: =SUM(FS6+FV6+FY6) -> 0 | FQ6: =SUM(FT6+FW6+FZ6) -> 0 | FR6: =SUM(FS6:FT6) -> 0 | FU6: =SUM(FV6:FW6) -> 0 | FX6: =SUM(FY6:FZ6) -> 0 | GA6: =GB6+GC6+GD6 -> 0 | GE6: 순창읍 | GF6: =SUM(GG6:GH6) -> 0 | GG6: =GJ6+GM6+GP6 -> 0 | GH6: =SUM(GK6+GN6+GQ6) -> 0 | GI6: =SUM(GJ6:GK6) -> 0 | GL6: =SUM(GM6:GN6) -> 0 | GO6: =SUM(GP6:GQ6) -> 0 | GR6: 순창읍 | GS6: =SUM(GT6:GU6) -> 0 | GT6: =GW6+GZ6+HC6 -> 0 | GU6: =SUM(GX6+HA6+HD6) -> 0 | GV6: =SUM(GW6:GX6) -> 0 | GY6: =SUM(GZ6:HA6) -> 0 | HB6: =SUM(HC6:HD6) -> 0
A7: 인계면 | B7: =SUM(E7+H7+K7) -> 2248 | C7: =SUM(F7+I7+L7) -> 1348 | D7: =SUM(G7+J7+M7) -> 900 | E7: =SUM(F7+G7) -> 1037 | F7: 545 | G7: 492 | H7: =SUM(I7+J7) -> 784 | I7: 478 | J7: 306 | K7: =SUM(L7+M7) -> 427 | L7: 325 | M7: 102 | N7: 인계면 | O7: =S7+V7+Y7 -> 0 | P7: =SUM(S7+V7+Y7) -> 0 | Q7: =SUM(T7,W7,Z7) -> 0 | R7: =SUM(S7:T7) -> 0 | U7: =SUM(V7:W7) -> 0 | X7: =SUM(Y7:Z7) -> 0 | AA7: 인계면 | AB7: =SUM(AC7+AE7+AG7+AI7+AN7) -> 11734 | AC7: 956 | AE7: 960 | AG7: 1534 | AI7: =SUM(AK7+AL7) -> 5906 | AK7: 3552 | AL7: 2354 | AN7: =SUM(AO7+AP7) -> 2378 | AO7: 1425 | AP7: 953 | AQ7: 인계면 | AR7: =SUM(AT7:AY7) -> 62050 | AT7: 5000 | AV7: 55000 | AX7: 2050 | AZ7: =SUM(BB7:BE7) -> 62050 | BC7: 50 | BD7: 62000 | BF7: 인계면 | BG7: =SUM(BJ7+BM7) -> 21000 | BH7: =SUM(BK7+BN7) -> 10000 | BI7: =SUM(BL7+BO7) -> 11000 | BJ7: =SUM(BK7+BL7) -> 5000 | BK7: 2000 | BL7: 3000 | BM7: =SUM(BN7+BO7) -> 16000 | BN7: 8000 | BO7: 8000 | BP7: =SUM(BQ7+BR7+BS7) -> 21000 | BR7: 21000 | BU7: 인계면 | BV7: =SUM(BY7+CB7) -> 489 | BW7: =SUM(BZ7+CC7) -> 245 | BX7: =SUM(CA7+CD7) -> 244 | BY7: =SUM(BZ7+CA7) -> 319 | BZ7: 163 | CA7: 156 | CB7: =SUM(CC7+CD7) -> 170 | CC7: 82 | CD7: 88 | CE7: =SUM(CG7,CI7) -> 4 | CF7: =SUM(CH7,CJ7) -> 489 | CI7: 4 | CJ7: 489 | CK7: 인계면 | CL7: =SUM(CO7+CR7) -> 0 | CM7: =SUM(CP7+CS7) -> 0 | CN7: =SUM(CQ7+CT7) -> 0 | CO7: =SUM(CP7+CQ7) -> 0 | CR7: =SUM(CS7+CT7) -> 0 | CU7: =SUM(CV7+CW7) -> 0 | CX7: 인계면 | CY7: =SUM(DB7+DE7) -> 54 | CZ7: =SUM(DC7+DF7) -> 34 | DA7: =SUM(DD7+DG7) -> 20 | DB7: =SUM(DC7+DD7) -> 0 | DE7: =SUM(DF7+DG7) -> 54 | DF7: 34 | DG7: 20 | DH7: =SUM(DI7:DM7) -> 54 | DI7: 54 | DO7: 인계면 | DP7: =SUM(DS7+DV7) -> 0 | DQ7: =SUM(DT7+DW7) -> 0 | DR7: =SUM(DU7+DX7) -> 0 | DS7: =SUM(DT7+DU7) -> 0 | DV7: =SUM(DW7+DX7) -> 0 | DY7: =SUM(DZ7+EA7+EE7+EF7) -> 0 | EA7: =SUM(EB7:ED7) -> 0 | EG7: 인계면 | EH7: =SUM(EN7+ES7) -> 0 | EJ7: =SUM(EP7+EU7) -> 0 | EL7: =SUM(ER7+EV7) -> 0 | EN7: =SUM(EP7+ER7) -> 0 | ES7: =SUM(EU7+EV7) -> 0 | EW7: 인계면 | EX7: =SUM(FA7+FD7+FG7) -> 0 | EY7: =SUM(FB7+FE7+FH7) -> 0 | EZ7: =SUM(FC7+FF7+FI7) -> 0 | FA7: =SUM(FB7:FC7) -> 0 | FD7: =SUM(FE7:FF7) -> 0 | FG7: =SUM(FH7:FI7) -> 0 | FJ7: =FK7+FL7+FM7 -> 0 | FN7: 인계면 | FO7: =SUM(FR7+FU7+FX7) -> 0 | FP7: =SUM(FS7+FV7+FY7) -> 0 | FQ7: =SUM(FT7+FW7+FZ7) -> 0 | FR7: =SUM(FS7:FT7) -> 0 | FU7: =SUM(FV7:FW7) -> 0 | FX7: =SUM(FY7:FZ7) -> 0 | GA7: =GB7+GC7+GD7 -> 0 | GE7: 인계면 | GF7: =SUM(GG7:GH7) -> 0 | GG7: =GJ7+GM7+GP7 -> 0 | GH7: =SUM(GK7+GN7+GQ7) -> 0 | GI7: =SUM(GJ7:GK7) -> 0 | GL7: =SUM(GM7:GN7) -> 0 | GO7: =SUM(GP7:GQ7) -> 0 | GR7: 인계면 | GS7: =SUM(GT7:GU7) -> 0 | GT7: =GW7+GZ7+HC7 -> 0 | GU7: =SUM(GX7+HA7+HD7) -> 0 | GV7: =SUM(GW7:GX7) -> 0 | GY7: =SUM(GZ7:HA7) -> 0 | HB7: =SUM(HC7:HD7) -> 0
A8: 동계면 | B8: =SUM(E8+H8+K8) -> 1470 | C8: =SUM(F8+I8+L8) -> 1142 | D8: =SUM(G8+J8+M8) -> 328 | E8: =SUM(F8+G8) -> 432 | F8: 242 | G8: 190 | H8: =SUM(I8+J8) -> 298 | I8: 226 | J8: 72 | K8: =SUM(L8+M8) -> 740 | L8: 674 | M8: 66 | N8: 동계면 | O8: =S8+V8+Y8 -> 146 | P8: =SUM(S8+V8+Y8) -> 146 | Q8: =SUM(T8,W8,Z8) -> 0 | R8: =SUM(S8:T8) -> 27 | S8: 27 | U8: =SUM(V8:W8) -> 25 | V8: 25 | X8: =SUM(Y8:Z8) -> 94 | Y8: 94 | AA8: 동계면 | AB8: =SUM(AC8+AE8+AG8+AI8+AN8) -> 2644 | AC8: 190 | AE8: 730 | AG8: 523 | AI8: =SUM(AK8+AL8) -> 1201 | AK8: 1200 | AL8: 1 | AM8: 190 | AN8: =SUM(AO8+AP8) -> 0 | AQ8: 동계면 | AR8: =SUM(AT8:AY8) -> 703931 | AT8: 583920 | AX8: 120011 | AZ8: =SUM(BB8:BE8) -> 703931 | BC8: 601881 | BD8: 102050 | BF8: 동계면 | BG8: =SUM(BJ8+BM8) -> 34600 | BH8: =SUM(BK8+BN8) -> 17600 | BI8: =SUM(BL8+BO8) -> 17000 | BJ8: =SUM(BK8+BL8) -> 34600 | BK8: 17600 | BL8: 17000 | BM8: =SUM(BN8+BO8) -> 0 | BP8: =SUM(BQ8+BR8+BS8) -> 34600 | BR8: 34600 | BU8: 동계면 | BV8: =SUM(BY8+CB8) -> 60 | BW8: =SUM(BZ8+CC8) -> 50 | BX8: =SUM(CA8+CD8) -> 10 | BY8: =SUM(BZ8+CA8) -> 10 | CA8: 10 | CB8: =SUM(CC8+CD8) -> 50 | CC8: 50 | CE8: =SUM(CG8,CI8) -> 1 | CF8: =SUM(CH8,CJ8) -> 60 | CI8: 1 | CJ8: 60 | CK8: 동계면 | CL8: =SUM(CO8+CR8) -> 0 | CM8: =SUM(CP8+CS8) -> 0 | CN8: =SUM(CQ8+CT8) -> 0 | CO8: =SUM(CP8+CQ8) -> 0 | CR8: =SUM(CS8+CT8) -> 0 | CU8: =SUM(CV8+CW8) -> 0 | CX8: 동계면 | CY8: =SUM(DB8+DE8) -> 0 | CZ8: =SUM(DC8+DF8) -> 0 | DA8: =SUM(DD8+DG8) -> 0 | DB8: =SUM(DC8+DD8) -> 0 | DE8: =SUM(DF8+DG8) -> 0 | DH8: =SUM(DI8:DM8) -> 0 | DO8: 동계면 | DP8: =SUM(DS8+DV8) -> 0 | DQ8: =SUM(DT8+DW8) -> 0 | DR8: =SUM(DU8+DX8) -> 0 | DS8: =SUM(DT8+DU8) -> 0 | DV8: =SUM(DW8+DX8) -> 0 | DY8: =SUM(DZ8+EA8+EE8+EF8) -> 0 | EA8: =SUM(EB8:ED8) -> 0 | EG8: 동계면 | EH8: =SUM(EN8+ES8) -> 0 | EJ8: =SUM(EP8+EU8) -> 0 | EL8: =SUM(ER8+EV8) -> 0 | EN8: =SUM(EP8+ER8) -> 0 | ES8: =SUM(EU8+EV8) -> 0 | EW8: 동계면 | EX8: =SUM(FA8+FD8+FG8) -> 0 | EY8: =SUM(FB8+FE8+FH8) -> 0 | EZ8: =SUM(FC8+FF8+FI8) -> 0 | FA8: =SUM(FB8:FC8) -> 0 | FD8: =SUM(FE8:FF8) -> 0 | FG8: =SUM(FH8:FI8) -> 0 | FJ8: =FK8+FL8+FM8 -> 0 | FN8: 동계면 | FO8: =SUM(FR8+FU8+FX8) -> 0 | FP8: =SUM(FS8+FV8+FY8) -> 0 | FQ8: =SUM(FT8+FW8+FZ8) -> 0 | FR8: =SUM(FS8:FT8) -> 0 | FU8: =SUM(FV8:FW8) -> 0 | FX8: =SUM(FY8:FZ8) -> 0 | GA8: =GB8+GC8+GD8 -> 0 | GE8: 동계면 | GF8: =SUM(GG8:GH8) -> 0 | GG8: =GJ8+GM8+GP8 -> 0 | GH8: =SUM(GK8+GN8+GQ8) -> 0 | GI8: =SUM(GJ8:GK8) -> 0 | GL8: =SUM(GM8:GN8) -> 0 | GO8: =SUM(GP8:GQ8) -> 0 | GR8: 동계면 | GS8: =SUM(GT8:GU8) -> 0 | GT8: =GW8+GZ8+HC8 -> 0 | GU8: =SUM(GX8+HA8+HD8) -> 0 | GV8: =SUM(GW8:GX8) -> 0 | GY8: =SUM(GZ8:HA8) -> 0 | HB8: =SUM(HC8:HD8) -> 0
A9: 적성면 | B9: =SUM(E9+H9+K9) -> 618 | C9: =SUM(F9+I9+L9) -> 464 | D9: =SUM(G9+J9+M9) -> 154 | E9: =SUM(F9+G9) -> 208 | F9: 109 | G9: 99 | H9: =SUM(I9+J9) -> 158 | I9: 123 | J9: 35 | K9: =SUM(L9+M9) -> 252 | L9: 232 | M9: 20 | N9: 적성면 | O9: =S9+V9+Y9 -> 236 | P9: =SUM(S9+V9+Y9) -> 236 | Q9: =SUM(T9,W9,Z9) -> 0 | R9: =SUM(S9:T9) -> 23 | S9: 23 | U9: =SUM(V9:W9) -> 75 | V9: 75 | X9: =SUM(Y9:Z9) -> 138 | Y9: 138 | AA9: 적성면 | AB9: =SUM(AC9+AE9+AG9+AI9+AN9) -> 113 | AG9: 15 | AI9: =SUM(AK9+AL9) -> 98 | AK9: 63 | AL9: 35 | AN9: =SUM(AO9+AP9) -> 0 | AQ9: 적성면 | AR9: =SUM(AT9:AY9) -> 222200 | AT9: 56000 | AV9: 61200 | AX9: 105000 | AZ9: =SUM(BB9:BE9) -> 222200 | BC9: 6320 | BD9: 215880 | BF9: 적성면 | BG9: =SUM(BJ9+BM9) -> 0 | BH9: =SUM(BK9+BN9) -> 0 | BI9: =SUM(BL9+BO9) -> 0 | BJ9: =SUM(BK9+BL9) -> 0 | BM9: =SUM(BN9+BO9) -> 0 | BP9: =SUM(BQ9+BR9+BS9) -> 0 | BU9: 적성면 | BV9: =SUM(BY9+CB9) -> 25 | BW9: =SUM(BZ9+CC9) -> 20 | BX9: =SUM(CA9+CD9) -> 5 | BY9: =SUM(BZ9+CA9) -> 0 | CB9: =SUM(CC9+CD9) -> 25 | CC9: 20 | CD9: 5 | CE9: =SUM(CG9,CI9) -> 1 | CF9: =SUM(CH9,CJ9) -> 25 | CI9: 1 | CJ9: 25 | CK9: 적성면 | CL9: =SUM(CO9+CR9) -> 0 | CM9: =SUM(CP9+CS9) -> 0 | CN9: =SUM(CQ9+CT9) -> 0 | CO9: =SUM(CP9+CQ9) -> 0 | CR9: =SUM(CS9+CT9) -> 0 | CU9: =SUM(CV9+CW9) -> 0 | CX9: 적성면 | CY9: =SUM(DB9+DE9) -> 0 | CZ9: =SUM(DC9+DF9) -> 0 | DA9: =SUM(DD9+DG9) -> 0 | DB9: =SUM(DC9+DD9) -> 0 | DE9: =SUM(DF9+DG9) -> 0 | DH9: =SUM(DI9:DM9) -> 0 | DO9: 적성면 | DP9: =SUM(DS9+DV9) -> 0 | DQ9: =SUM(DT9+DW9) -> 0 | DR9: =SUM(DU9+DX9) -> 0 | DS9: =SUM(DT9+DU9) -> 0 | DV9: =SUM(DW9+DX9) -> 0 | DY9: =SUM(DZ9+EA9+EE9+EF9) -> 0 | EA9: =SUM(EB9:ED9) -> 0 | EG9: 적성면 | EH9: =SUM(EN9+ES9) -> 0 | EJ9: =SUM(EP9+EU9) -> 0 | EL9: =SUM(ER9+EV9) -> 0 | EN9: =SUM(EP9+ER9) -> 0 | ES9: =SUM(EU9+EV9) -> 0 | EW9: 적성면 | EX9: =SUM(FA9+FD9+FG9) -> 0 | EY9: =SUM(FB9+FE9+FH9) -> 0 | EZ9: =SUM(FC9+FF9+FI9) -> 0 | FA9: =SUM(FB9:FC9) -> 0 | FD9: =SUM(FE9:FF9) -> 0 | FG9: =SUM(FH9:FI9) -> 0 | FJ9: =FK9+FL9+FM9 -> 0 | FN9: 적성면 | FO9: =SUM(FR9+FU9+FX9) -> 0 | FP9: =SUM(FS9+FV9+FY9) -> 0 | FQ9: =SUM(FT9+FW9+FZ9) -> 0 | FR9: =SUM(FS9:FT9) -> 0 | FU9: =SUM(FV9:FW9) -> 0 | FX9: =SUM(FY9:FZ9) -> 0 | GA9: =GB9+GC9+GD9 -> 0 | GE9: 적성면 | GF9: =SUM(GG9:GH9) -> 0 | GG9: =GJ9+GM9+GP9 -> 0 | GH9: =SUM(GK9+GN9+GQ9) -> 0 | GI9: =SUM(GJ9:GK9) -> 0 | GL9: =SUM(GM9:GN9) -> 0 | GO9: =SUM(GP9:GQ9) -> 0 | GR9: 적성면 | GS9: =SUM(GT9:GU9) -> 0 | GT9: =GW9+GZ9+HC9 -> 0 | GU9: =SUM(GX9+HA9+HD9) -> 0 | GV9: =SUM(GW9:GX9) -> 0 | GY9: =SUM(GZ9:HA9) -> 0 | HB9: =SUM(HC9:HD9) -> 0
A10: 유등면 | B10: =SUM(E10+H10+K10) -> 1838 | C10: =SUM(F10+I10+L10) -> 964 | D10: =SUM(G10+J10+M10) -> 874 | E10: =SUM(F10+G10) -> 710 | F10: 173 | G10: 537 | H10: =SUM(I10+J10) -> 476 | I10: 216 | J10: 260 | K10: =SUM(L10+M10) -> 652 | L10: 575 | M10: 77 | N10: 유등면 | O10: =S10+V10+Y10 -> 0 | P10: =SUM(S10+V10+Y10) -> 0 | Q10: =SUM(T10,W10,Z10) -> 0 | R10: =SUM(S10:T10) -> 0 | U10: =SUM(V10:W10) -> 0 | X10: =SUM(Y10:Z10) -> 0 | AA10: 유등면 | AB10: =SUM(AC10+AE10+AG10+AI10+AN10) -> 5453 | AC10: 35 | AE10: 353 | AG10: 1146 | AI10: =SUM(AK10+AL10) -> 3919 | AK10: 3913 | AL10: 6 | AM10: 770 | AN10: =SUM(AO10+AP10) -> 0 | AQ10: 유등면 | AR10: =SUM(AT10:AY10) -> 363900 | AT10: 214900 | AX10: 149000 | AZ10: =SUM(BB10:BE10) -> 363900 | BB10: 0 | BC10: 149000 | BD10: 214900 | BF10: 유등면 | BG10: =SUM(BJ10+BM10) -> 0 | BH10: =SUM(BK10+BN10) -> 0 | BI10: =SUM(BL10+BO10) -> 0 | BJ10: =SUM(BK10+BL10) -> 0 | BM10: =SUM(BN10+BO10) -> 0 | BP10: =SUM(BQ10+BR10+BS10) -> 0 | BU10: 유등면 | BV10: =SUM(BY10+CB10) -> 508 | BW10: =SUM(BZ10+CC10) -> 292 | BX10: =SUM(CA10+CD10) -> 216 | BY10: =SUM(BZ10+CA10) -> 207 | BZ10: 109 | CA10: 98 | CB10: =SUM(CC10+CD10) -> 301 | CC10: 183 | CD10: 118 | CE10: =SUM(CG10,CI10) -> 6 | CF10: =SUM(CH10,CJ10) -> 508 | CI10: 6 | CJ10: 508 | CK10: 유등면 | CL10: =SUM(CO10+CR10) -> 0 | CM10: =SUM(CP10+CS10) -> 0 | CN10: =SUM(CQ10+CT10) -> 0 | CO10: =SUM(CP10+CQ10) -> 0 | CR10: =SUM(CS10+CT10) -> 0 | CU10: =SUM(CV10+CW10) -> 0 | CX10: 유등면 | CY10: =SUM(DB10+DE10) -> 0 | CZ10: =SUM(DC10+DF10) -> 0 | DA10: =SUM(DD10+DG10) -> 0 | DB10: =SUM(DC10+DD10) -> 0 | DE10: =SUM(DF10+DG10) -> 0 | DH10: =SUM(DI10:DM10) -> 0 | DO10: 유등면 | DP10: =SUM(DS10+DV10) -> 0 | DQ10: =SUM(DT10+DW10) -> 0 | DR10: =SUM(DU10+DX10) -> 0 | DS10: =SUM(DT10+DU10) -> 0 | DV10: =SUM(DW10+DX10) -> 0 | DY10: =SUM(DZ10+EA10+EE10+EF10) -> 0 | EA10: =SUM(EB10:ED10) -> 0 | EG10: 유등면 | EH10: =SUM(EN10+ES10) -> 0 | EJ10: =SUM(EP10+EU10) -> 0 | EL10: =SUM(ER10+EV10) -> 0 | EN10: =SUM(EP10+ER10) -> 0 | ES10: =SUM(EU10+EV10) -> 0 | EW10: 유등면 | EX10: =SUM(FA10+FD10+FG10) -> 0 | EY10: =SUM(FB10+FE10+FH10) -> 0 | EZ10: =SUM(FC10+FF10+FI10) -> 0 | FA10: =SUM(FB10:FC10) -> 0 | FD10: =SUM(FE10:FF10) -> 0 | FG10: =SUM(FH10:FI10) -> 0 | FJ10: =FK10+FL10+FM10 -> 0 | FN10: 유등면 | FO10: =SUM(FR10+FU10+FX10) -> 0 | FP10: =SUM(FS10+FV10+FY10) -> 0 | FQ10: =SUM(FT10+FW10+FZ10) -> 0 | FR10: =SUM(FS10:FT10) -> 0 | FU10: =SUM(FV10:FW10) -> 0 | FX10: =SUM(FY10:FZ10) -> 0 | GA10: =GB10+GC10+GD10 -> 0 | GE10: 유등면 | GF10: =SUM(GG10:GH10) -> 0 | GG10: =GJ10+GM10+GP10 -> 0 | GH10: =SUM(GK10+GN10+GQ10) -> 0 | GI10: =SUM(GJ10:GK10) -> 0 | GL10: =SUM(GM10:GN10) -> 0 | GO10: =SUM(GP10:GQ10) -> 0 | GR10: 유등면 | GS10: =SUM(GT10:GU10) -> 0 | GT10: =GW10+GZ10+HC10 -> 0 | GU10: =SUM(GX10+HA10+HD10) -> 0 | GV10: =SUM(GW10:GX10) -> 0 | GY10: =SUM(GZ10:HA10) -> 0 | HB10: =SUM(HC10:HD10) -> 0
A11: 풍산면 | B11: =SUM(E11+H11+K11) -> 2418 | C11: =SUM(F11+I11+L11) -> 1592 | D11: =SUM(G11+J11+M11) -> 826 | E11: =SUM(F11+G11) -> 627 | F11: 356 | G11: 271 | H11: =SUM(I11+J11) -> 524 | I11: 349 | J11: 175 | K11: =SUM(L11+M11) -> 1267 | L11: 887 | M11: 380 | N11: 풍산면 | O11: =S11+V11+Y11 -> 230 | P11: =SUM(S11+V11+Y11) -> 230 | Q11: =SUM(T11,W11,Z11) -> 0 | R11: =SUM(S11:T11) -> 142 | S11: 142 | U11: =SUM(V11:W11) -> 88 | V11: 88 | X11: =SUM(Y11:Z11) -> 0 | AA11: 풍산면 | AB11: =SUM(AC11+AE11+AG11+AI11+AN11) -> 4109 | AC11: 656 | AE11: 2115 | AG11: 1101 | AI11: =SUM(AK11+AL11) -> 132 | AK11: 132 | AN11: =SUM(AO11+AP11) -> 105 | AO11: 105 | AQ11: 풍산면 | AR11: =SUM(AT11:AY11) -> 173400 | AT11: 173400 | AZ11: =SUM(BB11:BE11) -> 173400 | BD11: 173400 | BF11: 풍산면 | BG11: =SUM(BJ11+BM11) -> 0 | BH11: =SUM(BK11+BN11) -> 0 | BI11: =SUM(BL11+BO11) -> 0 | BJ11: =SUM(BK11+BL11) -> 0 | BM11: =SUM(BN11+BO11) -> 0 | BP11: =SUM(BQ11+BR11+BS11) -> 0 | BU11: 풍산면 | BV11: =SUM(BY11+CB11) -> 2296 | BW11: =SUM(BZ11+CC11) -> 1462 | BX11: =SUM(CA11+CD11) -> 834 | BY11: =SUM(BZ11+CA11) -> 1043 | BZ11: 692 | CA11: 351 | CB11: =SUM(CC11+CD11) -> 1253 | CC11: 770 | CD11: 483 | CE11: =SUM(CG11,CI11) -> 9 | CF11: =SUM(CH11,CJ11) -> 2296 | CI11: 9 | CJ11: 2296 | CK11: 풍산면 | CL11: =SUM(CO11+CR11) -> 0 | CM11: =SUM(CP11+CS11) -> 0 | CN11: =SUM(CQ11+CT11) -> 0 | CO11: =SUM(CP11+CQ11) -> 0 | CR11: =SUM(CS11+CT11) -> 0 | CU11: =SUM(CV11+CW11) -> 0 | CX11: 풍산면 | CY11: =SUM(DB11+DE11) -> 0 | CZ11: =SUM(DC11+DF11) -> 0 | DA11: =SUM(DD11+DG11) -> 0 | DB11: =SUM(DC11+DD11) -> 0 | DE11: =SUM(DF11+DG11) -> 0 | DH11: =SUM(DI11:DM11) -> 0 | DO11: 풍산면 | DP11: =SUM(DS11+DV11) -> 0 | DQ11: =SUM(DT11+DW11) -> 0 | DR11: =SUM(DU11+DX11) -> 0 | DS11: =SUM(DT11+DU11) -> 0 | DV11: =SUM(DW11+DX11) -> 0 | DY11: =SUM(DZ11+EA11+EE11+EF11) -> 0 | EA11: =SUM(EB11:ED11) -> 0 | EG11: 풍산면 | EH11: =SUM(EN11+ES11) -> 0 | EJ11: =SUM(EP11+EU11) -> 0 | EL11: =SUM(ER11+EV11) -> 0 | EN11: =SUM(EP11+ER11) -> 0 | ES11: =SUM(EU11+EV11) -> 0 | EW11: 풍산면 | EX11: =SUM(FA11+FD11+FG11) -> 0 | EY11: =SUM(FB11+FE11+FH11) -> 0 | EZ11: =SUM(FC11+FF11+FI11) -> 0 | FA11: =SUM(FB11:FC11) -> 0 | FD11: =SUM(FE11:FF11) -> 0 | FG11: =SUM(FH11:FI11) -> 0 | FJ11: =FK11+FL11+FM11 -> 0 | FN11: 풍산면 | FO11: =SUM(FR11+FU11+FX11) -> 0 | FP11: =SUM(FS11+FV11+FY11) -> 0 | FQ11: =SUM(FT11+FW11+FZ11) -> 0 | FR11: =SUM(FS11:FT11) -> 0 | FU11: =SUM(FV11:FW11) -> 0 | FX11: =SUM(FY11:FZ11) -> 0 | GA11: =GB11+GC11+GD11 -> 0 | GE11: 풍산면 | GF11: =SUM(GG11:GH11) -> 0 | GG11: =GJ11+GM11+GP11 -> 0 | GH11: =SUM(GK11+GN11+GQ11) -> 0 | GI11: =SUM(GJ11:GK11) -> 0 | GL11: =SUM(GM11:GN11) -> 0 | GO11: =SUM(GP11:GQ11) -> 0 | GR11: 풍산면 | GS11: =SUM(GT11:GU11) -> 0 | GT11: =GW11+GZ11+HC11 -> 0 | GU11: =SUM(GX11+HA11+HD11) -> 0 | GV11: =SUM(GW11:GX11) -> 0 | GY11: =SUM(GZ11:HA11) -> 0 | HB11: =SUM(HC11:HD11) -> 0
A12: 금과면 | B12: =SUM(E12+H12+K12) -> 1604 | C12: =SUM(F12+I12+L12) -> 1056 | D12: =SUM(G12+J12+M12) -> 548 | E12: =SUM(F12+G12) -> 361 | F12: 180 | G12: 181 | H12: =SUM(I12+J12) -> 376 | I12: 210 | J12: 166 | K12: =SUM(L12+M12) -> 867 | L12: 666 | M12: 201 | N12: 금과면 | O12: =S12+V12+Y12 -> 98 | P12: =SUM(S12+V12+Y12) -> 98 | Q12: =SUM(T12,W12,Z12) -> 0 | R12: =SUM(S12:T12) -> 38 | S12: 38 | U12: =SUM(V12:W12) -> 40 | V12: 40 | X12: =SUM(Y12:Z12) -> 20 | Y12: 20 | AA12: 금과면 | AB12: =SUM(AC12+AE12+AG12+AI12+AN12) -> 0 | AI12: =SUM(AK12+AL12) -> 0 | AN12: =SUM(AO12+AP12) -> 0 | AQ12: 금과면 | AR12: =SUM(AT12:AY12) -> 234445 | AT12: 142445 | AV12: 60000 | AX12: 32000 | AZ12: =SUM(BB12:BE12) -> 234445 | BD12: 234445 | BF12: 금과면 | BG12: =SUM(BJ12+BM12) -> 0 | BH12: =SUM(BK12+BN12) -> 0 | BI12: =SUM(BL12+BO12) -> 0 | BJ12: =SUM(BK12+BL12) -> 0 | BM12: =SUM(BN12+BO12) -> 0 | BP12: =SUM(BQ12+BR12+BS12) -> 0 | BU12: 금과면 | BV12: =SUM(BY12+CB12) -> 618 | BW12: =SUM(BZ12+CC12) -> 391 | BX12: =SUM(CA12+CD12) -> 227 | BY12: =SUM(BZ12+CA12) -> 276 | BZ12: 255 | CA12: 21 | CB12: =SUM(CC12+CD12) -> 342 | CC12: 136 | CD12: 206 | CE12: =SUM(CG12,CI12) -> 10 | CF12: =SUM(CH12,CJ12) -> 618 | CI12: 10 | CJ12: 618 | CK12: 금과면 | CL12: =SUM(CO12+CR12) -> 0 | CM12: =SUM(CP12+CS12) -> 0 | CN12: =SUM(CQ12+CT12) -> 0 | CO12: =SUM(CP12+CQ12) -> 0 | CR12: =SUM(CS12+CT12) -> 0 | CU12: =SUM(CV12+CW12) -> 0 | CX12: 금과면 | CY12: =SUM(DB12+DE12) -> 0 | CZ12: =SUM(DC12+DF12) -> 0 | DA12: =SUM(DD12+DG12) -> 0 | DB12: =SUM(DC12+DD12) -> 0 | DE12: =SUM(DF12+DG12) -> 0 | DH12: =SUM(DI12:DM12) -> 0 | DO12: 금과면 | DP12: =SUM(DS12+DV12) -> 0 | DQ12: =SUM(DT12+DW12) -> 0 | DR12: =SUM(DU12+DX12) -> 0 | DS12: =SUM(DT12+DU12) -> 0 | DV12: =SUM(DW12+DX12) -> 0 | DY12: =SUM(DZ12+EA12+EE12+EF12) -> 0 | EA12: =SUM(EB12:ED12) -> 0 | EG12: 금과면 | EH12: =SUM(EN12+ES12) -> 0 | EJ12: =SUM(EP12+EU12) -> 0 | EL12: =SUM(ER12+EV12) -> 0 | EN12: =SUM(EP12+ER12) -> 0 | ES12: =SUM(EU12+EV12) -> 0 | EW12: 금과면 | EX12: =SUM(FA12+FD12+FG12) -> 0 | EY12: =SUM(FB12+FE12+FH12) -> 0 | EZ12: =SUM(FC12+FF12+FI12) -> 0 | FA12: =SUM(FB12:FC12) -> 0 | FD12: =SUM(FE12:FF12) -> 0 | FG12: =SUM(FH12:FI12) -> 0 | FJ12: =FK12+FL12+FM12 -> 0 | FN12: 금과면 | FO12: =SUM(FR12+FU12+FX12) -> 0 | FP12: =SUM(FS12+FV12+FY12) -> 0 | FQ12: =SUM(FT12+FW12+FZ12) -> 0 | FR12: =SUM(FS12:FT12) -> 0 | FU12: =SUM(FV12:FW12) -> 0 | FX12: =SUM(FY12:FZ12) -> 0 | GA12: =GB12+GC12+GD12 -> 0 | GE12: 금과면 | GF12: =SUM(GG12:GH12) -> 0 | GG12: =GJ12+GM12+GP12 -> 0 | GH12: =SUM(GK12+GN12+GQ12) -> 0 | GI12: =SUM(GJ12:GK12) -> 0 | GL12: =SUM(GM12:GN12) -> 0 | GO12: =SUM(GP12:GQ12) -> 0 | GR12: 금과면 | GS12: =SUM(GT12:GU12) -> 0 | GT12: =GW12+GZ12+HC12 -> 0 | GU12: =SUM(GX12+HA12+HD12) -> 0 | GV12: =SUM(GW12:GX12) -> 0 | GY12: =SUM(GZ12:HA12) -> 0 | HB12: =SUM(HC12:HD12) -> 0
A13: 팔덕면 | B13: =SUM(E13+H13+K13) -> 2209 | C13: =SUM(F13+I13+L13) -> 1505 | D13: =SUM(G13+J13+M13) -> 704 | E13: =SUM(F13+G13) -> 568 | F13: 395 | G13: 173 | H13: =SUM(I13+J13) -> 624 | I13: 398 | J13: 226 | K13: =SUM(L13+M13) -> 1017 | L13: 712 | M13: 305 | N13: 팔덕면 | O13: =S13+V13+Y13 -> 3 | P13: =SUM(S13+V13+Y13) -> 3 | Q13: =SUM(T13,W13,Z13) -> 0 | R13: =SUM(S13:T13) -> 2 | S13: 2 | U13: =SUM(V13:W13) -> 0 | X13: =SUM(Y13:Z13) -> 1 | Y13: 1 | AA13: 팔덕면 | AB13: =SUM(AC13+AE13+AG13+AI13+AN13) -> 533 | AC13: 332 | AI13: =SUM(AK13+AL13) -> 201 | AK13: 194 | AL13: 7 | AM13: 121 | AN13: =SUM(AO13+AP13) -> 0 | AQ13: 팔덕면 | AR13: =SUM(AT13:AY13) -> 139000 | AT13: 139000 | AZ13: =SUM(BB13:BE13) -> 139000 | BD13: 139000 | BF13: 팔덕면 | BG13: =SUM(BJ13+BM13) -> 11000 | BH13: =SUM(BK13+BN13) -> 6000 | BI13: =SUM(BL13+BO13) -> 5000 | BJ13: =SUM(BK13+BL13) -> 11000 | BK13: 6000 | BL13: 5000 | BM13: =SUM(BN13+BO13) -> 0 | BP13: =SUM(BQ13+BR13+BS13) -> 11000 | BR13: 11000 | BU13: 팔덕면 | BV13: =SUM(BY13+CB13) -> 3410 | BW13: =SUM(BZ13+CC13) -> 1444 | BX13: =SUM(CA13+CD13) -> 1966 | BY13: =SUM(BZ13+CA13) -> 2047 | BZ13: 622 | CA13: 1425 | CB13: =SUM(CC13+CD13) -> 1363 | CC13: 822 | CD13: 541 | CE13: =SUM(CG13,CI13) -> 11 | CF13: =SUM(CH13,CJ13) -> 3410 | CI13: 11 | CJ13: 3410 | CK13: 팔덕면 | CL13: =SUM(CO13+CR13) -> 0 | CM13: =SUM(CP13+CS13) -> 0 | CN13: =SUM(CQ13+CT13) -> 0 | CO13: =SUM(CP13+CQ13) -> 0 | CR13: =SUM(CS13+CT13) -> 0 | CU13: =SUM(CV13+CW13) -> 0 | CX13: 팔덕면 | CY13: =SUM(DB13+DE13) -> 34 | CZ13: =SUM(DC13+DF13) -> 20 | DA13: =SUM(DD13+DG13) -> 14 | DB13: =SUM(DC13+DD13) -> 0 | DE13: =SUM(DF13+DG13) -> 34 | DF13: 20 | DG13: 14 | DH13: =SUM(DI13:DM13) -> 34 | DI13: 34 | DO13: 팔덕면 | DP13: =SUM(DS13+DV13) -> 0 | DQ13: =SUM(DT13+DW13) -> 0 | DR13: =SUM(DU13+DX13) -> 0 | DS13: =SUM(DT13+DU13) -> 0 | DV13: =SUM(DW13+DX13) -> 0 | DY13: =SUM(DZ13+EA13+EE13+EF13) -> 0 | EA13: =SUM(EB13:ED13) -> 0 | EG13: 팔덕면 | EH13: =SUM(EN13+ES13) -> 0 | EJ13: =SUM(EP13+EU13) -> 0 | EL13: =SUM(ER13+EV13) -> 0 | EN13: =SUM(EP13+ER13) -> 0 | ES13: =SUM(EU13+EV13) -> 0 | EW13: 팔덕면 | EX13: =SUM(FA13+FD13+FG13) -> 0 | EY13: =SUM(FB13+FE13+FH13) -> 0 | EZ13: =SUM(FC13+FF13+FI13) -> 0 | FA13: =SUM(FB13:FC13) -> 0 | FD13: =SUM(FE13:FF13) -> 0 | FG13: =SUM(FH13:FI13) -> 0 | FJ13: =FK13+FL13+FM13 -> 0 | FN13: 팔덕면 | FO13: =SUM(FR13+FU13+FX13) -> 0 | FP13: =SUM(FS13+FV13+FY13) -> 0 | FQ13: =SUM(FT13+FW13+FZ13) -> 0 | FR13: =SUM(FS13:FT13) -> 0 | FU13: =SUM(FV13:FW13) -> 0 | FX13: =SUM(FY13:FZ13) -> 0 | GA13: =GB13+GC13+GD13 -> 0 | GE13: 팔덕면 | GF13: =SUM(GG13:GH13) -> 0 | GG13: =GJ13+GM13+GP13 -> 0 | GH13: =SUM(GK13+GN13+GQ13) -> 0 | GI13: =SUM(GJ13:GK13) -> 0 | GL13: =SUM(GM13:GN13) -> 0 | GO13: =SUM(GP13:GQ13) -> 0 | GR13: 팔덕면 | GS13: =SUM(GT13:GU13) -> 0 | GT13: =GW13+GZ13+HC13 -> 0 | GU13: =SUM(GX13+HA13+HD13) -> 0 | GV13: =SUM(GW13:GX13) -> 0 | GY13: =SUM(GZ13:HA13) -> 0 | HB13: =SUM(HC13:HD13) -> 0
A14: 복흥면 | B14: =SUM(E14+H14+K14) -> 4694 | C14: =SUM(F14+I14+L14) -> 2790 | D14: =SUM(G14+J14+M14) -> 1904 | E14: =SUM(F14+G14) -> 1099 | F14: 537 | G14: 562 | H14: =SUM(I14+J14) -> 1489 | I14: 711 | J14: 778 | K14: =SUM(L14+M14) -> 2106 | L14: 1542 | M14: 564 | N14: 복흥면 | O14: =S14+V14+Y14 -> 0 | P14: =SUM(S14+V14+Y14) -> 0 | Q14: =SUM(T14,W14,Z14) -> 0 | R14: =SUM(S14:T14) -> 0 | U14: =SUM(V14:W14) -> 0 | X14: =SUM(Y14:Z14) -> 0 | AA14: 복흥면 | AB14: =SUM(AC14+AE14+AG14+AI14+AN14) -> 0 | AI14: =SUM(AK14+AL14) -> 0 | AN14: =SUM(AO14+AP14) -> 0 | AQ14: 복흥면 | AR14: =SUM(AT14:AY14) -> 0 | AZ14: =SUM(BB14:BE14) -> 0 | BF14: 복흥면 | BG14: =SUM(BJ14+BM14) -> 0 | BH14: =SUM(BK14+BN14) -> 0 | BI14: =SUM(BL14+BO14) -> 0 | BJ14: =SUM(BK14+BL14) -> 0 | BM14: =SUM(BN14+BO14) -> 0 | BP14: =SUM(BQ14+BR14+BS14) -> 0 | BU14: 복흥면 | BV14: =SUM(BY14+CB14) -> 1587 | BW14: =SUM(BZ14+CC14) -> 845 | BX14: =SUM(CA14+CD14) -> 742 | BY14: =SUM(BZ14+CA14) -> 715 | BZ14: 481 | CA14: 234 | CB14: =SUM(CC14+CD14) -> 872 | CC14: 364 | CD14: 508 | CE14: =SUM(CG14,CI14) -> 7 | CF14: =SUM(CH14,CJ14) -> 1587 | CI14: 7 | CJ14: 1587 | CK14: 복흥면 | CL14: =SUM(CO14+CR14) -> 0 | CM14: =SUM(CP14+CS14) -> 0 | CN14: =SUM(CQ14+CT14) -> 0 | CO14: =SUM(CP14+CQ14) -> 0 | CR14: =SUM(CS14+CT14) -> 0 | CU14: =SUM(CV14+CW14) -> 0 | CX14: 복흥면 | CY14: =SUM(DB14+DE14) -> 0 | CZ14: =SUM(DC14+DF14) -> 0 | DA14: =SUM(DD14+DG14) -> 0 | DB14: =SUM(DC14+DD14) -> 0 | DE14: =SUM(DF14+DG14) -> 0 | DH14: =SUM(DI14:DM14) -> 0 | DO14: 복흥면 | DP14: =SUM(DS14+DV14) -> 0 | DQ14: =SUM(DT14+DW14) -> 0 | DR14: =SUM(DU14+DX14) -> 0 | DS14: =SUM(DT14+DU14) -> 0 | DV14: =SUM(DW14+DX14) -> 0 | DY14: =SUM(DZ14+EA14+EE14+EF14) -> 0 | EA14: =SUM(EB14:ED14) -> 0 | EG14: 복흥면 | EH14: =SUM(EN14+ES14) -> 0 | EJ14: =SUM(EP14+EU14) -> 0 | EL14: =SUM(ER14+EV14) -> 0 | EN14: =SUM(EP14+ER14) -> 0 | ES14: =SUM(EU14+EV14) -> 0 | EW14: 복흥면 | EX14: =SUM(FA14+FD14+FG14) -> 0 | EY14: =SUM(FB14+FE14+FH14) -> 0 | EZ14: =SUM(FC14+FF14+FI14) -> 0 | FA14: =SUM(FB14:FC14) -> 0 | FD14: =SUM(FE14:FF14) -> 0 | FG14: =SUM(FH14:FI14) -> 0 | FJ14: =FK14+FL14+FM14 -> 0 | FN14: 복흥면 | FO14: =SUM(FR14+FU14+FX14) -> 0 | FP14: =SUM(FS14+FV14+FY14) -> 0 | FQ14: =SUM(FT14+FW14+FZ14) -> 0 | FR14: =SUM(FS14:FT14) -> 0 | FU14: =SUM(FV14:FW14) -> 0 | FX14: =SUM(FY14:FZ14) -> 0 | GA14: =GB14+GC14+GD14 -> 0 | GE14: 복흥면 | GF14: =SUM(GG14:GH14) -> 0 | GG14: =GJ14+GM14+GP14 -> 0 | GH14: =SUM(GK14+GN14+GQ14) -> 0 | GI14: =SUM(GJ14:GK14) -> 0 | GL14: =SUM(GM14:GN14) -> 0 | GO14: =SUM(GP14:GQ14) -> 0 | GR14: 복흥면 | GS14: =SUM(GT14:GU14) -> 0 | GT14: =GW14+GZ14+HC14 -> 0 | GU14: =SUM(GX14+HA14+HD14) -> 0 | GV14: =SUM(GW14:GX14) -> 0 | GY14: =SUM(GZ14:HA14) -> 0 | HB14: =SUM(HC14:HD14) -> 0
A15: 쌍치면 | B15: =SUM(E15+H15+K15) -> 1013 | C15: =SUM(F15+I15+L15) -> 730 | D15: =SUM(G15+J15+M15) -> 283 | E15: =SUM(F15+G15) -> 350 | F15: 250 | G15: 100 | H15: =SUM(I15+J15) -> 420 | I15: 300 | J15: 120 | K15: =SUM(L15+M15) -> 243 | L15: 180 | M15: 63 | N15: 쌍치면 | O15: =S15+V15+Y15 -> 0 | P15: =SUM(S15+V15+Y15) -> 0 | Q15: =SUM(T15,W15,Z15) -> 0 | R15: =SUM(S15:T15) -> 0 | U15: =SUM(V15:W15) -> 0 | X15: =SUM(Y15:Z15) -> 0 | AA15: 쌍치면 | AB15: =SUM(AC15+AE15+AG15+AI15+AN15) -> 1664 | AE15: 550 | AG15: 703 | AI15: =SUM(AK15+AL15) -> 0 | AN15: =SUM(AO15+AP15) -> 411 | AO15: 409 | AP15: 2 | AQ15: 쌍치면 | AR15: =SUM(AT15:AY15) -> 117500 | AT15: 47000 | AV15: 70500 | AZ15: =SUM(BB15:BE15) -> 117500 | BD15: 117500 | BF15: 쌍치면 | BG15: =SUM(BJ15+BM15) -> 0 | BH15: =SUM(BK15+BN15) -> 0 | BI15: =SUM(BL15+BO15) -> 0 | BJ15: =SUM(BK15+BL15) -> 0 | BM15: =SUM(BN15+BO15) -> 0 | BP15: =SUM(BQ15+BR15+BS15) -> 0 | BU15: 쌍치면 | BV15: =SUM(BY15+CB15) -> 103 | BW15: =SUM(BZ15+CC15) -> 55 | BX15: =SUM(CA15+CD15) -> 48 | BY15: =SUM(BZ15+CA15) -> 23 | BZ15: 10 | CA15: 13 | CB15: =SUM(CC15+CD15) -> 80 | CC15: 45 | CD15: 35 | CE15: =SUM(CG15,CI15) -> 13 | CF15: =SUM(CH15,CJ15) -> 103 | CI15: 13 | CJ15: 103 | CK15: 쌍치면 | CL15: =SUM(CO15+CR15) -> 0 | CM15: =SUM(CP15+CS15) -> 0 | CN15: =SUM(CQ15+CT15) -> 0 | CO15: =SUM(CP15+CQ15) -> 0 | CR15: =SUM(CS15+CT15) -> 0 | CU15: =SUM(CV15+CW15) -> 0 | CX15: 쌍치면 | CY15: =SUM(DB15+DE15) -> 0 | CZ15: =SUM(DC15+DF15) -> 0 | DA15: =SUM(DD15+DG15) -> 0 | DB15: =SUM(DC15+DD15) -> 0 | DE15: =SUM(DF15+DG15) -> 0 | DH15: =SUM(DI15:DM15) -> 0 | DO15: 쌍치면 | DP15: =SUM(DS15+DV15) -> 21 | DQ15: =SUM(DT15+DW15) -> 21 | DR15: =SUM(DU15+DX15) -> 0 | DS15: =SUM(DT15+DU15) -> 0 | DV15: =SUM(DW15+DX15) -> 21 | DW15: 21 | DY15: =SUM(DZ15+EA15+EE15+EF15) -> 21 | EA15: =SUM(EB15:ED15) -> 0 | EE15: 21 | EG15: 쌍치면 | EH15: =SUM(EN15+ES15) -> 0 | EJ15: =SUM(EP15+EU15) -> 0 | EL15: =SUM(ER15+EV15) -> 0 | EN15: =SUM(EP15+ER15) -> 0 | ES15: =SUM(EU15+EV15) -> 0 | EW15: 쌍치면 | EX15: =SUM(FA15+FD15+FG15) -> 0 | EY15: =SUM(FB15+FE15+FH15) -> 0 | EZ15: =SUM(FC15+FF15+FI15) -> 0 | FA15: =SUM(FB15:FC15) -> 0 | FD15: =SUM(FE15:FF15) -> 0 | FG15: =SUM(FH15:FI15) -> 0 | FJ15: =FK15+FL15+FM15 -> 0 | FN15: 쌍치면 | FO15: =SUM(FR15+FU15+FX15) -> 0 | FP15: =SUM(FS15+FV15+FY15) -> 0 | FQ15: =SUM(FT15+FW15+FZ15) -> 0 | FR15: =SUM(FS15:FT15) -> 0 | FU15: =SUM(FV15:FW15) -> 0 | FX15: =SUM(FY15:FZ15) -> 0 | GA15: =GB15+GC15+GD15 -> 0 | GE15: 쌍치면 | GF15: =SUM(GG15:GH15) -> 0 | GG15: =GJ15+GM15+GP15 -> 0 | GH15: =SUM(GK15+GN15+GQ15) -> 0 | GI15: =SUM(GJ15:GK15) -> 0 | GL15: =SUM(GM15:GN15) -> 0 | GO15: =SUM(GP15:GQ15) -> 0 | GR15: 쌍치면 | GS15: =SUM(GT15:GU15) -> 0 | GT15: =GW15+GZ15+HC15 -> 0 | GU15: =SUM(GX15+HA15+HD15) -> 0 | GV15: =SUM(GW15:GX15) -> 0 | GY15: =SUM(GZ15:HA15) -> 0 | HB15: =SUM(HC15:HD15) -> 0
A16: 구림면 | B16: =SUM(E16+H16+K16) -> 8349 | C16: =SUM(F16+I16+L16) -> 7095 | D16: =SUM(G16+J16+M16) -> 1254 | E16: =SUM(F16+G16) -> 1997 | F16: 1233 | G16: 764 | H16: =SUM(I16+J16) -> 2168 | I16: 1888 | J16: 280 | K16: =SUM(L16+M16) -> 4184 | L16: 3974 | M16: 210 | N16: 구림면 | O16: =S16+V16+Y16 -> 0 | P16: =SUM(S16+V16+Y16) -> 0 | Q16: =SUM(T16,W16,Z16) -> 0 | R16: =SUM(S16:T16) -> 0 | U16: =SUM(V16:W16) -> 0 | X16: =SUM(Y16:Z16) -> 0 | AA16: 구림면 | AB16: =SUM(AC16+AE16+AG16+AI16+AN16) -> 4580 | AI16: =SUM(AK16+AL16) -> 4580 | AK16: 2499 | AL16: 2081 | AM16: 399 | AN16: =SUM(AO16+AP16) -> 0 | AQ16: 구림면 | AR16: =SUM(AT16:AY16) -> 96300 | AT16: 96300 | AZ16: =SUM(BB16:BE16) -> 96300 | BD16: 96300 | BF16: 구림면 | BG16: =SUM(BJ16+BM16) -> 0 | BH16: =SUM(BK16+BN16) -> 0 | BI16: =SUM(BL16+BO16) -> 0 | BJ16: =SUM(BK16+BL16) -> 0 | BM16: =SUM(BN16+BO16) -> 0 | BP16: =SUM(BQ16+BR16+BS16) -> 0 | BU16: 구림면 | BV16: =SUM(BY16+CB16) -> 5046 | BW16: =SUM(BZ16+CC16) -> 2828 | BX16: =SUM(CA16+CD16) -> 2218 | BY16: =SUM(BZ16+CA16) -> 2346 | BZ16: 1273 | CA16: 1073 | CB16: =SUM(CC16+CD16) -> 2700 | CC16: 1555 | CD16: 1145 | CE16: =SUM(CG16,CI16) -> 32 | CF16: =SUM(CH16,CJ16) -> 5046 | CI16: 32 | CJ16: 5046 | CK16: 구림면 | CL16: =SUM(CO16+CR16) -> 0 | CM16: =SUM(CP16+CS16) -> 0 | CN16: =SUM(CQ16+CT16) -> 0 | CO16: =SUM(CP16+CQ16) -> 0 | CR16: =SUM(CS16+CT16) -> 0 | CU16: =SUM(CV16+CW16) -> 0 | CX16: 구림면 | CY16: =SUM(DB16+DE16) -> 0 | CZ16: =SUM(DC16+DF16) -> 0 | DA16: =SUM(DD16+DG16) -> 0 | DB16: =SUM(DC16+DD16) -> 0 | DE16: =SUM(DF16+DG16) -> 0 | DH16: =SUM(DI16:DM16) -> 0 | DO16: 구림면 | DP16: =SUM(DS16+DV16) -> 0 | DQ16: =SUM(DT16+DW16) -> 0 | DR16: =SUM(DU16+DX16) -> 0 | DS16: =SUM(DT16+DU16) -> 0 | DV16: =SUM(DW16+DX16) -> 0 | DY16: =SUM(DZ16+EA16+EE16+EF16) -> 0 | EA16: =SUM(EB16:ED16) -> 0 | EG16: 구림면 | EH16: =SUM(EN16+ES16) -> 0 | EJ16: =SUM(EP16+EU16) -> 0 | EL16: =SUM(ER16+EV16) -> 0 | EN16: =SUM(EP16+ER16) -> 0 | ES16: =SUM(EU16+EV16) -> 0 | EW16: 구림면 | EX16: =SUM(FA16+FD16+FG16) -> 2 | EY16: =SUM(FB16+FE16+FH16) -> 1 | EZ16: =SUM(FC16+FF16+FI16) -> 1 | FA16: =SUM(FB16:FC16) -> 0 | FD16: =SUM(FE16:FF16) -> 2 | FE16: 1 | FF16: 1 | FG16: =SUM(FH16:FI16) -> 0 | FJ16: =FK16+FL16+FM16 -> 2 | FL16: 2 | FN16: 구림면 | FO16: =SUM(FR16+FU16+FX16) -> 0 | FP16: =SUM(FS16+FV16+FY16) -> 0 | FQ16: =SUM(FT16+FW16+FZ16) -> 0 | FR16: =SUM(FS16:FT16) -> 0 | FU16: =SUM(FV16:FW16) -> 0 | FX16: =SUM(FY16:FZ16) -> 0 | GA16: =GB16+GC16+GD16 -> 0 | GE16: 구림면 | GF16: =SUM(GG16:GH16) -> 0 | GG16: =GJ16+GM16+GP16 -> 0 | GH16: =SUM(GK16+GN16+GQ16) -> 0 | GI16: =SUM(GJ16:GK16) -> 0 | GL16: =SUM(GM16:GN16) -> 0 | GO16: =SUM(GP16:GQ16) -> 0 | GR16: 구림면 | GS16: =SUM(GT16:GU16) -> 13 | GT16: =GW16+GZ16+HC16 -> 5 | GU16: =SUM(GX16+HA16+HD16) -> 8 | GV16: =SUM(GW16:GX16) -> 0 | GY16: =SUM(GZ16:HA16) -> 6 | GZ16: 1 | HA16: 5 | HB16: =SUM(HC16:HD16) -> 7 | HC16: 4 | HD16: 3
B17: =SUM(E17+H17+K17) -> 0 | C17: =SUM(F17+I17+L17) -> 0 | D17: =SUM(G17+J17+M17) -> 0 | E17: =SUM(F17+G17) -> 0 | H17: =SUM(I17+J17) -> 0 | K17: =SUM(L17+M17) -> 0 | O17: =S17+V17+Y17 -> 0 | P17: =SUM(S17+V17+Y17) -> 0 | Q17: =SUM(T17,W17,Z17) -> 0 | R17: =SUM(S17:T17) -> 0 | U17: =SUM(V17:W17) -> 0 | X17: =SUM(Y17:Z17) -> 0 | AB17: =SUM(AC17+AE17+AG17+AI17+AN17) -> 0 | AI17: =SUM(AK17+AL17) -> 0 | AN17: =SUM(AO17+AP17) -> 0 | AR17: =SUM(AT17:AY17) -> 0 | AZ17: =SUM(BB17:BE17) -> 0 | BG17: =SUM(BJ17+BM17) -> 0 | BH17: =SUM(BK17+BN17) -> 0 | BI17: =SUM(BL17+BO17) -> 0 | BJ17: =SUM(BK17+BL17) -> 0 | BM17: =SUM(BN17+BO17) -> 0 | BP17: =SUM(BQ17+BR17+BS17) -> 0 | BV17: =SUM(BY17+CB17) -> 0 | BW17: =SUM(BZ17+CC17) -> 0 | BX17: =SUM(CA17+CD17) -> 0 | BY17: =SUM(BZ17+CA17) -> 0 | CB17: =SUM(CC17+CD17) -> 0 | CE17: =SUM(CG17,CI17) -> 0 | CF17: =SUM(CH17,CJ17) -> 0 | CL17: =SUM(CO17+CR17) -> 0 | CM17: =SUM(CP17+CS17) -> 0 | CN17: =SUM(CQ17+CT17) -> 0 | CO17: =SUM(CP17+CQ17) -> 0 | CR17: =SUM(CS17+CT17) -> 0 | CU17: 0 | CY17: =SUM(DB17+DE17) -> 0 | CZ17: =SUM(DC17+DF17) -> 0 | DA17: =SUM(DD17+DG17) -> 0 | DB17: =SUM(DC17+DD17) -> 0 | DE17: =SUM(DF17+DG17) -> 0 | DH17: =SUM(DI17:DM17) -> 0 | DP17: =SUM(DS17+DV17) -> 0 | DQ17: =SUM(DT17+DW17) -> 0 | DR17: =SUM(DU17+DX17) -> 0 | DS17: =SUM(DT17+DU17) -> 0 | DV17: =SUM(DW17+DX17) -> 0 | DY17: =SUM(DZ17+EA17+EE17+EF17) -> 0 | EA17: =SUM(EB17:ED17) -> 0 | EH17: =SUM(EN17+ES17) -> 0 | EJ17: =SUM(EP17+EU17) -> 0 | EL17: =SUM(ER17+EV17) -> 0 | EN17: =SUM(EP17+ER17) -> 0 | ES17: =SUM(EU17+EV17) -> 0 | EX17: =SUM(FA17+FD17+FG17) -> 0 | EY17: =SUM(FB17+FE17+FH17) -> 0 | EZ17: =SUM(FC17+FF17+FI17) -> 0 | FA17: =SUM(FB17:FC17) -> 0 | FD17: =SUM(FE17:FF17) -> 0 | FG17: =SUM(FH17:FI17) -> 0 | FJ17: =FK17+FL17+FM17 -> 0 | FO17: =SUM(FR17+FU17+FX17) -> 0 | FP17: =SUM(FS17+FV17+FY17) -> 0 | FQ17: =SUM(FT17+FW17+FZ17) -> 0 | FR17: =SUM(FS17:FT17) -> 0 | FU17: =SUM(FV17:FW17) -> 0 | FX17: =SUM(FY17:FZ17) -> 0 | GA17: =GB17+GC17+GD17 -> 0 | GF17: =SUM(GG17:GH17) -> 0 | GG17: =GJ17+GM17+GP17 -> 0 | GH17: =SUM(GK17+GN17+GQ17) -> 0 | GI17: =SUM(GJ17:GK17) -> 0 | GL17: =SUM(GM17:GN17) -> 0 | GO17: =SUM(GP17:GQ17) -> 0 | GS17: =SUM(GT17:GU17) -> 0 | GT17: =GW17+GZ17+HC17 -> 0 | GU17: =SUM(GX17+HA17+HD17) -> 0 | GV17: =SUM(GW17:GX17) -> 0 | GY17: =SUM(GZ17:HA17) -> 0 | HB17: =SUM(HC17:HD17) -> 0
B18: =SUM(E18+H18+K18) -> 0 | C18: =SUM(F18+I18+L18) -> 0 | D18: =SUM(G18+J18+M18) -> 0 | E18: =SUM(F18+G18) -> 0 | H18: =SUM(I18+J18) -> 0 | K18: =SUM(L18+M18) -> 0 | O18: =S18+V18+Y18 -> 0 | P18: =SUM(S18+V18+Y18) -> 0 | Q18: =SUM(T18,W18,Z18) -> 0 | R18: =SUM(S18:T18) -> 0 | U18: =SUM(V18:W18) -> 0 | X18: =SUM(Y18:Z18) -> 0 | AB18: =SUM(AC18+AE18+AG18+AI18+AN18) -> 0 | AI18: =SUM(AK18+AL18) -> 0 | AN18: =SUM(AO18+AP18) -> 0 | AR18: =SUM(AT18:AY18) -> 0 | AZ18: =SUM(BB18:BE18) -> 0 | BG18: =SUM(BJ18+BM18) -> 0 | BH18: =SUM(BK18+BN18) -> 0 | BI18: =SUM(BL18+BO18) -> 0 | BJ18: =SUM(BK18+BL18) -> 0 | BM18: =SUM(BN18+BO18) -> 0 | BP18: =SUM(BQ18+BR18+BS18) -> 0 | BV18: =SUM(BY18+CB18) -> 0 | BW18: =SUM(BZ18+CC18) -> 0 | BX18: =SUM(CA18+CD18) -> 0 | BY18: =SUM(BZ18+CA18) -> 0 | CB18: =SUM(CC18+CD18) -> 0 | CE18: =SUM(CG18,CI18) -> 0 | CF18: =SUM(CH18,CJ18) -> 0 | CL18: =SUM(CO18+CR18) -> 0 | CM18: =SUM(CP18+CS18) -> 0 | CN18: =SUM(CQ18+CT18) -> 0 | CO18: =SUM(CP18+CQ18) -> 0 | CR18: =SUM(CS18+CT18) -> 0 | CU18: =SUM(CV18+CW18) -> 0 | CY18: =SUM(DB18+DE18) -> 0 | CZ18: =SUM(DC18+DF18) -> 0 | DA18: =SUM(DD18+DG18) -> 0 | DB18: =SUM(DC18+DD18) -> 0 | DE18: =SUM(DF18+DG18) -> 0 | DH18: =SUM(DI18:DM18) -> 0 | DP18: =SUM(DS18+DV18) -> 0 | DQ18: =SUM(DT18+DW18) -> 0 | DR18: =SUM(DU18+DX18) -> 0 | DS18: =SUM(DT18+DU18) -> 0 | DV18: =SUM(DW18+DX18) -> 0 | DY18: =SUM(DZ18+EA18+EE18+EF18) -> 0 | EA18: =SUM(EB18:ED18) -> 0 | EH18: =SUM(EN18+ES18) -> 0 | EJ18: =SUM(EP18+EU18) -> 0 | EL18: =SUM(ER18+EV18) -> 0 | EN18: =SUM(EP18+ER18) -> 0 | ES18: =SUM(EU18+EV18) -> 0 | EX18: =SUM(FA18+FD18+FG18) -> 0 | EY18: =SUM(FB18+FE18+FH18) -> 0 | EZ18: =SUM(FC18+FF18+FI18) -> 0 | FA18: =SUM(FB18:FC18) -> 0 | FD18: =SUM(FE18:FF18) -> 0 | FG18: =SUM(FH18:FI18) -> 0 | FJ18: =FK18+FL18+FM18 -> 0 | FO18: =SUM(FR18+FU18+FX18) -> 0 | FP18: =SUM(FS18+FV18+FY18) -> 0 | FQ18: =SUM(FT18+FW18+FZ18) -> 0 | FR18: =SUM(FS18:FT18) -> 0 | FU18: =SUM(FV18:FW18) -> 0 | FX18: =SUM(FY18:FZ18) -> 0 | GA18: =GB18+GC18+GD18 -> 0 | GF18: =SUM(GG18:GH18) -> 0 | GG18: =GJ18+GM18+GP18 -> 0 | GH18: =SUM(GK18+GN18+GQ18) -> 0 | GI18: =SUM(GJ18:GK18) -> 0 | GL18: =SUM(GM18:GN18) -> 0 | GO18: =SUM(GP18:GQ18) -> 0 | GS18: =SUM(GT18:GU18) -> 0 | GT18: =GW18+GZ18+HC18 -> 0 | GU18: =SUM(GX18+HA18+HD18) -> 0 | GV18: =SUM(GW18:GX18) -> 0 | GY18: =SUM(GZ18:HA18) -> 0 | HB18: =SUM(HC18:HD18) -> 0
B19: =SUM(E19+H19+K19) -> 0 | C19: =SUM(F19+I19+L19) -> 0 | D19: =SUM(G19+J19+M19) -> 0 | E19: =SUM(F19+G19) -> 0 | H19: =SUM(I19+J19) -> 0 | K19: =SUM(L19+M19) -> 0 | O19: =S19+V19+Y19 -> 0 | P19: =SUM(S19+V19+Y19) -> 0 | Q19: =SUM(T19,W19,Z19) -> 0 | R19: =SUM(S19:T19) -> 0 | U19: =SUM(V19:W19) -> 0 | X19: =SUM(Y19:Z19) -> 0 | AB19: =SUM(AC19+AE19+AG19+AI19+AN19) -> 0 | AI19: =SUM(AK19+AL19) -> 0 | AN19: =SUM(AO19+AP19) -> 0 | AR19: =SUM(AT19:AY19) -> 0 | AZ19: =SUM(BB19:BE19) -> 0 | BG19: =SUM(BJ19+BM19) -> 0 | BH19: =SUM(BK19+BN19) -> 0 | BI19: =SUM(BL19+BO19) -> 0 | BJ19: =SUM(BK19+BL19) -> 0 | BM19: =SUM(BN19+BO19) -> 0 | BP19: =SUM(BQ19+BR19+BS19) -> 0 | BV19: =SUM(BY19+CB19) -> 0 | BW19: =SUM(BZ19+CC19) -> 0 | BX19: =SUM(CA19+CD19) -> 0 | BY19: =SUM(BZ19+CA19) -> 0 | CB19: =SUM(CC19+CD19) -> 0 | CE19: =SUM(CG19,CI19) -> 0 | CF19: =SUM(CH19,CJ19) -> 0 | CL19: =SUM(CO19+CR19) -> 0 | CM19: =SUM(CP19+CS19) -> 0 | CN19: =SUM(CQ19+CT19) -> 0 | CO19: =SUM(CP19+CQ19) -> 0 | CR19: =SUM(CS19+CT19) -> 0 | CU19: =SUM(CV19+CW19) -> 0 | CY19: =SUM(DB19+DE19) -> 0 | CZ19: =SUM(DC19+DF19) -> 0 | DA19: =SUM(DD19+DG19) -> 0 | DB19: =SUM(DC19+DD19) -> 0 | DE19: =SUM(DF19+DG19) -> 0 | DH19: =SUM(DI19:DM19) -> 0 | DP19: =SUM(DS19+DV19) -> 0 | DQ19: =SUM(DT19+DW19) -> 0 | DR19: =SUM(DU19+DX19) -> 0 | DS19: =SUM(DT19+DU19) -> 0 | DV19: =SUM(DW19+DX19) -> 0 | DY19: =SUM(DZ19+EA19+EE19+EF19) -> 0 | EA19: =SUM(EB19:ED19) -> 0 | EH19: =SUM(EN19+ES19) -> 0 | EJ19: =SUM(EP19+EU19) -> 0 | EL19: =SUM(ER19+EV19) -> 0 | EN19: =SUM(EP19+ER19) -> 0 | ES19: =SUM(EU19+EV19) -> 0 | EX19: =SUM(FA19+FD19+FG19) -> 0 | EY19: =SUM(FB19+FE19+FH19) -> 0 | EZ19: =SUM(FC19+FF19+FI19) -> 0 | FA19: =SUM(FB19:FC19) -> 0 | FD19: =SUM(FE19:FF19) -> 0 | FG19: =SUM(FH19:FI19) -> 0 | FJ19: =FK19+FL19+FM19 -> 0 | FO19: =SUM(FR19+FU19+FX19) -> 0 | FP19: =SUM(FS19+FV19+FY19) -> 0 | FQ19: =SUM(FT19+FW19+FZ19) -> 0 | FR19: =SUM(FS19:FT19) -> 0 | FU19: =SUM(FV19:FW19) -> 0 | FX19: =SUM(FY19:FZ19) -> 0 | GA19: =GB19+GC19+GD19 -> 0 | GF19: =SUM(GG19:GH19) -> 0 | GG19: =GJ19+GM19+GP19 -> 0 | GH19: =SUM(GK19+GN19+GQ19) -> 0 | GI19: =SUM(GJ19:GK19) -> 0 | GL19: =SUM(GM19:GN19) -> 0 | GO19: =SUM(GP19:GQ19) -> 0 | GS19: =SUM(GT19:GU19) -> 0 | GT19: =GW19+GZ19+HC19 -> 0 | GU19: =SUM(GX19+HA19+HD19) -> 0 | GV19: =SUM(GW19:GX19) -> 0 | GY19: =SUM(GZ19:HA19) -> 0 | HB19: =SUM(HC19:HD19) -> 0

Sheet 개(종별, 목적, 성별 , 마리수)
A2: 개 통계조사표
S3: 단위:호, 마리
A4: 행정구역 | D4: 경영체구분 | E4: 종별구분(마리수) | I4: 사육목적 구분(마리수) | M4: 월령별 성별 마리수
N5: 18개월미만 | Q5: 18개월이상
A6: 시도 | B6: 시군 | C6: 읍면동 | E6: 계 | F6: ①애완종 | G6: ②진돗개 | H6: ③기타 | I6: 계 | J6: ①반려 (애완) | K6: ②특수목적 (방범·경비,안내 등) | L6: ③기타 | M6: 계 | N6: 사육 마릿수 | O6: 암(♀) | P6: 수(♂) | Q6: 사육 마릿수 | R6: 암(♀) | S6: 수(♂)
A7: 계 | D7: =SUBTOTAL(3,D8:D64) -> 57 | E7: =SUM(E8:E64) -> 2250 | F7: =SUM(F8:F64) -> 152 | G7: =SUM(G8:G64) -> 214 | H7: =SUM(H8:H64) -> 1884 | I7: =SUM(I8:I64) -> 2250 | J7: =SUM(J8:J64) -> 0 | K7: =SUM(K8:K64) -> 427 | L7: =SUM(L8:L64) -> 1823 | ... S7: =SUM(S8:S64) -> 867
A8: 전북 | B8: 순창군 | C8: 순창읍 | D8: 순창읍1 | E8: 2 | G8: 2 | I8: 2 | K8: 2 | M8: =SUM(N8,Q8) -> 2 | N8: =SUM(O8:P8) -> 1 | O8: 1 | Q8: =SUM(R8:S8) -> 1 | R8: 1
A9: 전북 | B9: 순창군 | C9: 순창읍 | D9: 순창읍2 | E9: 1 | F9: 1 | I9: 1 | K9: 1 | M9: =SUM(N9,Q9) -> 1 | N9: =SUM(O9:P9) -> 0 | Q9: =SUM(R9:S9) -> 1 | R9: 1
A10: 전북 | B10: 순창군 | C10: 순창읍 | D10: 순창읍3 | E10: 1 | H10: 1 | I10: 1 | K10: 1 | M10: =SUM(N10,Q10) -> 1 | N10: =SUM(O10:P10) -> 0 | Q10: =SUM(R10:S10) -> 1 | R10: 1
A11: 전북 | B11: 순창군 | C11: 순창읍 | D11: 순창읍4 | E11: 5 | G11: 5 | I11: 5 | K11: 5 | M11: =SUM(N11,Q11) -> 5 | N11: =SUM(O11:P11) -> 4 | O11: 3 | P11: 1 | Q11: =SUM(R11:S11) -> 1 | R11: 1
A12: 전북 | B12: 순창군 | C12: 순창읍 | D12: 순창읍5 | E12: 3 | H12: 3 | I12: 3 | K12: 3 | M12: =SUM(N12,Q12) -> 3 | N12: =SUM(O12:P12) -> 2 | O12: 2 | Q12: =SUM(R12:S12) -> 1 | R12: 1
A13: 전북 | B13: 순창군 | C13: 순창읍 | D13: 순창읍6 | E13: 1 | H13: 1 | I13: 1 | K13: 1 | M13: =SUM(N13,Q13) -> 1 | N13: =SUM(O13:P13) -> 0 | Q13: =SUM(R13:S13) -> 1 | R13: 1
A14: 전북 | B14: 순창군 | C14: 순창읍 | D14: 순창읍7 | E14: 4 | H14: 4 | I14: 4 | K14: 4 | M14: =SUM(N14,Q14) -> 4 | N14: =SUM(O14:P14) -> 0 | Q14: =SUM(R14:S14) -> 4 | R14: 1 | S14: 3
A15: 전북 | B15: 순창군 | C15: 순창읍 | D15: 순창읍8 | E15: 1 | F15: 1 | I15: 1 | K15: 1 | M15: =SUM(N15,Q15) -> 1 | N15: =SUM(O15:P15) -> 0 | Q15: =SUM(R15:S15) -> 1 | R15: 1
A16: 전북 | B16: 순창군 | C16: 순창읍 | D16: 순창읍9 | E16: 1 | F16: 1 | I16: 1 | K16: 1 | M16: =SUM(N16,Q16) -> 1 | N16: =SUM(O16:P16) -> 0 | Q16: =SUM(R16:S16) -> 1 | R16: 1
A17: 전북 | B17: 순창군 | C17: 인계면 | D17: 인계면1 | E17: =SUM(F17:H17) -> 18 | F17: 3 | H17: 15 | I17: =SUM(J17:L17) -> 18 | K17: 3 | L17: 15 | M17: =SUM(N17,Q17) -> 18 | N17: =SUM(O17:P17) -> 3 | O17: 2 | P17: 1 | Q17: =SUM(R17:S17) -> 15 | R17: 13 | S17: 2
A18: 전북 | B18: 순창군 | C18: 인계면 | D18: 인계면2 | E18: =SUM(F18:H18) -> 12 | F18: 9 | G18: 3 | I18: =SUM(J18:L18) -> 12 | L18: 12 | M18: =SUM(N18,Q18) -> 12 | N18: =SUM(O18:P18) -> 0 | Q18: =SUM(R18:S18) -> 12 | R18: 8 | S18: 4
A19: 전북 | B19: 순창군 | C19: 인계면 | D19: 인계면3 | E19: =SUM(F19:H19) -> 8 | G19: 8 | I19: =SUM(J19:L19) -> 8 | K19: 8 | M19: =SUM(N19,Q19) -> 8 | N19: =SUM(O19:P19) -> 0 | Q19: =SUM(R19:S19) -> 8 | R19: 2 | S19: 6
A20: 전북 | B20: 순창군 | C20: 인계면 | D20: 인계면4 | E20: =SUM(F20:H20) -> 1 | H20: 1 | I20: =SUM(J20:L20) -> 1 | L20: 1 | M20: =SUM(N20,Q20) -> 1 | N20: =SUM(O20:P20) -> 0 | Q20: =SUM(R20:S20) -> 1 | S20: 1
A21: 전북 | B21: 순창군 | C21: 동계면 | D21: 동계면1 | E21: =SUM(F21:H21) -> 5 | F21: 1 | G21: 4 | I21: =SUM(J21:L21) -> 5 | K21: 5 | M21: =SUM(N21,Q21) -> 5 | N21: =SUM(O21:P21) -> 3 | O21: 1 | P21: 2 | Q21: =SUM(R21:S21) -> 2 | S21: 2
A22: 전북 | B22: 순창군 | C22: 동계면 | D22: 동계면2 | E22: =SUM(F22:H22) -> 150 | H22: 150 | I22: =SUM(J22:L22) -> 150 | L22: 150 | M22: =SUM(N22,Q22) -> 150 | N22: =SUM(O22:P22) -> 50 | O22: 30 | P22: 20 | Q22: =SUM(R22:S22) -> 100 | R22: 88 | S22: 12
A23: 전북 | B23: 순창군 | C23: 동계면 | D23: 동계면3 | E23: =SUM(F23:H23) -> 20 | F23: 6 | G23: 2 | H23: 12 | I23: =SUM(J23:L23) -> 20 | K23: 20 | M23: =SUM(N23,Q23) -> 20 | N23: =SUM(O23:P23) -> 5 | O23: 3 | P23: 2 | Q23: =SUM(R23:S23) -> 15 | R23: 10 | S23: 5
A24: 전북 | B24: 순창군 | C24: 적성면 | D24: 적성면1 | E24: =SUM(F24:H24) -> 26 | F24: 6 | G24: 10 | H24: 10 | I24: =SUM(J24:L24) -> 26 | K24: 26 | M24: =SUM(N24,Q24) -> 26 | N24: =SUM(O24:P24) -> 6 | O24: 4 | P24: 2 | Q24: =SUM(R24:S24) -> 20 | R24: 8 | S24: 12
A25: 전북 | B25: 순창군 | C25: 적성면 | D25: 적성면2 | E25: =SUM(F25:H25) -> 6 | F25: 2 | G25: 4 | I25: =SUM(J25:L25) -> 6 | K25: 6 | M25: =SUM(N25,Q25) -> 6 | N25: =SUM(O25:P25) -> 6 | O25: 3 | P25: 3 | Q25: =SUM(R25:S25) -> 0
A26: 전북 | B26: 순창군 | C26: 유등면 | D26: 유등면1 | E26: =SUM(F26:H26) -> 16 | F26: 16 | I26: =SUM(J26:L26) -> 16 | K26: 16 | M26: =SUM(N26,Q26) -> 16 | N26: =SUM(O26:P26) -> 0 | Q26: =SUM(R26:S26) -> 16 | R26: 7 | S26: 9
A27: 전북 | B27: 순창군 | C27: 풍산면 | D27: 풍산면1 | E27: =SUM(F27:H27) -> 9 | G27: 9 | I27: =SUM(J27:L27) -> 9 | K27: 9 | M27: =SUM(N27,Q27) -> 9 | N27: =SUM(O27:P27) -> 1 | P27: 1 | Q27: =SUM(R27:S27) -> 8 | R27: 5 | S27: 3
A28: 전북 | B28: 순창군 | C28: 풍산면 | D28: 풍산면2 | E28: =SUM(F28:H28) -> 10 | G28: 10 | I28: =SUM(J28:L28) -> 10 | K28: 10 | M28: =SUM(N28,Q28) -> 10 | N28: =SUM(O28:P28) -> 0 | Q28: =SUM(R28:S28) -> 10 | R28: 4 | S28: 6
A29: 전북 | B29: 순창군 | C29: 풍산면 | D29: 풍산면3 | E29: =SUM(F29:H29) -> 11 | F29: 1 | G29: 5 | H29: 5 | I29: =SUM(J29:L29) -> 11 | K29: 11 | M29: =SUM(N29,Q29) -> 11 | N29: =SUM(O29:P29) -> 0 | Q29: =SUM(R29:S29) -> 11 | R29: 6 | S29: 5
A30: 전북 | B30: 순창군 | C30: 풍산면 | D30: 풍산면4 | E30: =SUM(F30:H30) -> 2 | G30: 2 | I30: =SUM(J30:L30) -> 2 | K30: 2 | M30: =SUM(N30,Q30) -> 2 | N30: =SUM(O30:P30) -> 0 | Q30: =SUM(R30:S30) -> 2 | R30: 2
A31: 전북 | B31: 순창군 | C31: 금과면 | D31: 금과면1 | E31: =SUM(F31:H31) -> 1 | F31: 1 | I31: =SUM(J31:L31) -> 1 | K31: 1 | M31: =SUM(N31,Q31) -> 1 | N31: =SUM(O31:P31) -> 0 | Q31: =SUM(R31:S31) -> 1 | S31: 1
A32: 전북 | B32: 순창군 | C32: 금과면 | D32: 금과면2 | E32: =SUM(F32:H32) -> 2 | G32: 2 | I32: =SUM(J32:L32) -> 2 | K32: 2 | M32: =SUM(N32,Q32) -> 2 | N32: =SUM(O32:P32) -> 0 | Q32: =SUM(R32:S32) -> 2 | S32: 2
A33: 전북 | B33: 순창군 | C33: 팔덕면 | D33: 팔덕면1 | E33: =SUM(F33:H33) -> 4 | F33: 2 | G33: 2 | I33: =SUM(J33:L33) -> 4 | K33: 4 | M33: =SUM(N33,Q33) -> 4 | N33: =SUM(O33:P33) -> 3 | P33: 3 | Q33: =SUM(R33:S33) -> 1 | R33: 1
A34: 전북 | B34: 순창군 | C34: 팔덕면 | D34: 팔덕면2 | E34: =SUM(F34:H34) -> 4 | F34: 3 | G34: 1 | I34: =SUM(J34:L34) -> 4 | K34: 4 | M34: =SUM(N34,Q34) -> 4 | N34: =SUM(O34:P34) -> 2 | O34: 2 | Q34: =SUM(R34:S34) -> 2 | R34: 2
A35: 전북 | B35: 순창군 | C35: 팔덕면 | D35: 팔덕면3 | E35: =SUM(F35:H35) -> 3 | F35: 3 | G35: 0 | I35: =SUM(J35:L35) -> 3 | K35: 3 | M35: =SUM(N35,Q35) -> 3 | N35: =SUM(O35:P35) -> 0 | Q35: =SUM(R35:S35) -> 3 | S35: 3
A36: 전북 | B36: 순창군 | C36: 팔덕면 | D36: 팔덕면4 | E36: =SUM(F36:H36) -> 2 | F36: 1 | G36: 1 | I36: =SUM(J36:L36) -> 2 | K36: 2 | M36: =SUM(N36,Q36) -> 2 | N36: =SUM(O36:P36) -> 0 | Q36: =SUM(R36:S36) -> 2 | S36: 2
A37: 전북 | B37: 순창군 | C37: 복흥면 | D37: 복흥면1 | E37: =SUM(F37:H37) -> 3 | F37: 3 | I37: =SUM(J37:L37) -> 3 | K37: 3 | M37: =SUM(N37,Q37) -> 3 | N37: =SUM(O37:P37) -> 2 | O37: 2 | Q37: =SUM(R37:S37) -> 1 | S37: 1
A38: 전북 | B38: 순창군 | C38: 복흥면 | D38: 복흥면2 | E38: =SUM(F38:H38) -> 15 | F38: 11 | G38: 4 | I38: =SUM(J38:L38) -> 15 | K38: 15 | M38: =SUM(N38,Q38) -> 15 | N38: =SUM(O38:P38) -> 4 | O38: 2 | P38: 2 | Q38: =SUM(R38:S38) -> 11 | R38: 4 | S38: 7
A39: 전북 | B39: 순창군 | C39: 복흥면 | D39: 복흥면3 | E39: =SUM(F39:H39) -> 3 | G39: 3 | I39: =SUM(J39:L39) -> 3 | K39: 3 | M39: =SUM(N39,Q39) -> 3 | N39: =SUM(O39:P39) -> 0 | Q39: =SUM(R39:S39) -> 3 | R39: 1 | S39: 2
A40: 전북 | B40: 순창군 | C40: 복흥면 | D40: 복흥면4 | E40: =SUM(F40:H40) -> 3 | F40: 2 | G40: 1 | I40: =SUM(J40:L40) -> 3 | K40: 3 | M40: =SUM(N40,Q40) -> 3 | N40: =SUM(O40:P40) -> 1 | O40: 1 | Q40: =SUM(R40:S40) -> 2 | R40: 1 | S40: 1
A41: 전북 | B41: 순창군 | C41: 복흥면 | D41: 복흥면5 | E41: =SUM(F41:H41) -> 6 | H41: 6 | I41: =SUM(J41:L41) -> 6 | K41: 6 | M41: =SUM(N41,Q41) -> 6 | N41: =SUM(O41:P41) -> 3 | P41: 3 | Q41: =SUM(R41:S41) -> 3 | R41: 1 | S41: 2
A42: 전북 | B42: 순창군 | C42: 복흥면 | D42: 복흥면6 | E42: =SUM(F42:H42) -> 20 | G42: 20 | I42: =SUM(J42:L42) -> 20 | K42: 20 | M42: =SUM(N42,Q42) -> 20 | N42: =SUM(O42:P42) -> 0 | Q42: =SUM(R42:S42) -> 20 | R42: 9 | S42: 11
A43: 전북 | B43: 순창군 | C43: 쌍치면 | D43: 쌍치면1 | E43: =SUM(F43:H43) -> 159 | F43: 11 | G43: 13 | H43: 135 | I43: =SUM(J43:L43) -> 159 | K43: 14 | L43: 145 | M43: =SUM(N43,Q43) -> 159 | N43: =SUM(O43:P43) -> 5 | O43: 3 | P43: 2 | Q43: =SUM(R43:S43) -> 154 | R43: 82 | S43: 72
A44: 전북 | B44: 순창군 | C44: 쌍치면 | D44: 쌍치면2 | E44: =SUM(F44:H44) -> 10 | G44: 10 | I44: =SUM(J44:L44) -> 10 | K44: 10 | M44: =SUM(N44,Q44) -> 10 | N44: =SUM(O44:P44) -> 5 | O44: 2 | P44: 3 | Q44: =SUM(R44:S44) -> 5 | R44: 5
A45: 전북 | B45: 순창군 | C45: 쌍치면 | D45: 쌍치면3 | E45: =SUM(F45:H45) -> 23 | G45: 13 | H45: 10 | I45: =SUM(J45:L45) -> 23 | K45: 23 | M45: =SUM(N45,Q45) -> 23 | N45: =SUM(O45:P45) -> 6 | O45: 5 | P45: 1 | Q45: =SUM(R45:S45) -> 17 | R45: 10 | S45: 7
A46: 전북 | B46: 순창군 | C46: 쌍치면 | D46: 쌍치면4 | E46: =SUM(F46:H46) -> 200 | H46: 200 | I46: =SUM(J46:L46) -> 200 | L46: 200 | M46: =SUM(N46,Q46) -> 200 | N46: =SUM(O46:P46) -> 100 | O46: 60 | P46: 40 | Q46: =SUM(R46:S46) -> 100 | R46: 90 | S46: 10
A47: 전북 | B47: 순창군 | C47: 쌍치면 | D47: 쌍치면5 | E47: =SUM(F47:H47) -> 4 | G47: 4 | I47: =SUM(J47:L47) -> 4 | K47: 4 | M47: =SUM(N47,Q47) -> 4 | N47: =SUM(O47:P47) -> 4 | O47: 3 | P47: 1 | Q47: =SUM(R47:S47) -> 0
A48: 전북 | B48: 순창군 | C48: 쌍치면 | D48: 쌍치면6 | E48: =SUM(F48:H48) -> 6 | G48: 6 | I48: =SUM(J48:L48) -> 6 | K48: 6 | M48: =SUM(N48,Q48) -> 6 | N48: =SUM(O48:P48) -> 0 | Q48: =SUM(R48:S48) -> 6 | R48: 5 | S48: 1
A49: 전북 | B49: 순창군 | C49: 쌍치면 | D49: 쌍치면7 | E49: =SUM(F49:H49) -> 2 | G49: 2 | I49: =SUM(J49:L49) -> 2 | K49: 2 | M49: =SUM(N49,Q49) -> 2 | N49: =SUM(O49:P49) -> 0 | Q49: =SUM(R49:S49) -> 2 | S49: 2
A50: 전북 | B50: 순창군 | C50: 쌍치면 | D50: 쌍치면8 | E50: =SUM(F50:H50) -> 2 | G50: 2 | I50: =SUM(J50:L50) -> 2 | K50: 2 | M50: =SUM(N50,Q50) -> 2 | N50: =SUM(O50:P50) -> 0 | Q50: =SUM(R50:S50) -> 2 | S50: 2
A51: 전북 | B51: 순창군 | C51: 쌍치면 | D51: 쌍치면9 | E51: =SUM(F51:H51) -> 1317 | F51: 10 | G51: 7 | H51: 1300 | I51: =SUM(J51:L51) -> 1317 | K51: 17 | L51: 1300 | M51: =SUM(N51,Q51) -> 1317 | N51: =SUM(O51:P51) -> 17 | O51: 7 | P51: 10 | Q51: =SUM(R51:S51) -> 1300 | R51: 700 | S51: 600
A52: 전북 | B52: 순창군 | C52: 쌍치면 | D52: 쌍치면10 | E52: =SUM(F52:H52) -> 20 | F52: 6 | G52: 2 | H52: 12 | I52: =SUM(J52:L52) -> 20 | K52: 20 | M52: =SUM(N52,Q52) -> 20 | N52: =SUM(O52:P52) -> 5 | O52: 3 | P52: 2 | Q52: =SUM(R52:S52) -> 15 | R52: 10 | S52: 5
A53: 전북 | B53: 순창군 | C53: 쌍치면 | D53: 쌍치면11 | E53: =SUM(F53:H53) -> 26 | F53: 6 | G53: 10 | H53: 10 | I53: =SUM(J53:L53) -> 26 | K53: 26 | M53: =SUM(N53,Q53) -> 26 | N53: =SUM(O53:P53) -> 6 | O53: 4 | P53: 2 | Q53: =SUM(R53:S53) -> 20 | R53: 8 | S53: 12
A54: 전북 | B54: 순창군 | C54: 쌍치면 | D54: 쌍치면12 | E54: =SUM(F54:H54) -> 6 | F54: 2 | G54: 4 | I54: =SUM(J54:L54) -> 6 | K54: 6 | M54: =SUM(N54,Q54) -> 6 | N54: =SUM(O54:P54) -> 6 | O54: 3 | P54: 3 | Q54: =SUM(R54:S54) -> 0
A55: 전북 | B55: 순창군 | C55: 구림면 | D55: 구림면1 | E55: =SUM(F55:H55) -> 75 | F55: 41 | G55: 34 | I55: =SUM(J55:L55) -> 75 | K55: 75 | M55: =SUM(N55,Q55) -> 75 | N55: =SUM(O55:P55) -> 23 | O55: 1 | P55: 22 | Q55: =SUM(R55:S55) -> 52 | R55: 6 | S55: 46
A56: 전북 | B56: 순창군 | C56: 구림면 | D56: 구림면2 | E56: =SUM(F56:H56) -> 3 | G56: 3 | I56: =SUM(J56:L56) -> 3 | K56: 3 | M56: =SUM(N56,Q56) -> 3 | N56: =SUM(O56:P56) -> 0 | Q56: =SUM(R56:S56) -> 3 | R56: 2 | S56: 1
A57: 전북 | B57: 순창군 | C57: 구림면 | D57: 구림면3 | E57: =SUM(F57:H57) -> 2 | F57: 2 | I57: =SUM(J57:L57) -> 2 | K57: 2 | M57: =SUM(N57,Q57) -> 2 | N57: =SUM(O57:P57) -> 1 | P57: 1 | Q57: =SUM(R57:S57) -> 1 | S57: 1
A58: 전북 | B58: 순창군 | C58: 구림면 | D58: 구림면4 | E58: =SUM(F58:H58) -> 2 | G58: 2 | I58: =SUM(J58:L58) -> 2 | K58: 2 | M58: =SUM(N58,Q58) -> 2 | N58: =SUM(O58:P58) -> 0 | Q58: =SUM(R58:S58) -> 2 | R58: 2
A59: 전북 | B59: 순창군 | C59: 구림면 | D59: 구림면5 | E59: =SUM(F59:H59) -> 4 | H59: 4 | I59: =SUM(J59:L59) -> 4 | K59: 4 | M59: =SUM(N59,Q59) -> 4 | N59: =SUM(O59:P59) -> 1 | P59: 1 | Q59: =SUM(R59:S59) -> 3 | R59: 3
A60: 전북 | B60: 순창군 | C60: 구림면 | D60: 구림면6 | E60: =SUM(F60:H60) -> 2 | G60: 2 | I60: =SUM(J60:L60) -> 2 | K60: 2 | M60: =SUM(N60,Q60) -> 2 | N60: =SUM(O60:P60) -> 0 | Q60: =SUM(R60:S60) -> 2 | S60: 2
A61: 전북 | B61: 순창군 | C61: 구림면 | D61: 구림면7 | E61: =SUM(F61:H61) -> 2 | G61: 2 | I61: =SUM(J61:L61) -> 2 | K61: 2 | M61: =SUM(N61,Q61) -> 2 | N61: =SUM(O61:P61) -> 0 | Q61: =SUM(R61:S61) -> 2 | R61: 2
A62: 전북 | B62: 순창군 | C62: 구림면 | D62: 구림면8 | E62: =SUM(F62:H62) -> 3 | H62: 3 | I62: =SUM(J62:L62) -> 3 | K62: 3 | M62: =SUM(N62,Q62) -> 3 | N62: =SUM(O62:P62) -> 0 | Q62: =SUM(R62:S62) -> 3 | S62: 3
A63: 전북 | B63: 순창군 | C63: 구림면 | D63: 구림면9 | E63: =SUM(F63:H63) -> 1 | F63: 1 | I63: =SUM(J63:L63) -> 1 | K63: 1 | M63: =SUM(N63,Q63) -> 1 | N63: =SUM(O63:P63) -> 0 | Q63: =SUM(R63:S63) -> 1 | R63: 1
A64: 전북 | B64: 순창군 | C64: 구림면 | D64: 구림면10 | E64: =SUM(F64:H64) -> 2 | H64: 2 | I64: =SUM(J64:L64) -> 2 | K64: 2 | M64: =SUM(N64,Q64) -> 2 | N64: =SUM(O64:P64) -> 1 | O64: 1 | Q64: =SUM(R64:S64) -> 1 | S64: 1
