Workbook
Name Document_array: {"Book1"}
Name 기본급테이블: #REF!
Name 사원테이블: #REF!
Name 수당테이블: #REF!
Name 직책테이블: #REF!

Sheet (붙임1)집계표 
A2: '24. 12월 가축통계 집계표
A4: 읍면동 | B4: 한육우 | D4: 젖 소 | F4: 돼 지 | H4: 닭 | J4: 오리 | L4: 읍면동 | M4: 염소(산양) | O4: 면양 | Q4: 사 슴 | S4: 토끼 | U4: 개 | W4: 지렁이 | Y4: 읍면동 | Z4: 칠면조 | AB4: 거 위 | AD4: 메추리 | AF4: 꿀 벌 | AH4: 읍면동 | AI4: 관상조 | AK4: 타조 | AM4: 오소리 | AO4: 꿩 | AQ4: 기러기
B5: 호 수 | C5: 두 수 | D5: 호 수 | E5: 두 수 | F5: 호 수 | G5: 두 수 | H5: 호 수 | I5: 수 수 | J5: 호수 | K5: 수수 | M5: 호 수 | N5: 두 수 | O5: 호수 | P5: 두수 | Q5: 호수 | R5: 두 수 | S5: 호 수 | T5: 두 수 | U5: 호 수 | V5: 두 수 | W5: 호 수 | X5: 두 수 | Z5: 호수 | AA5: 수수 | AB5: 호수 | AC5: 수수 | AD5: 호수 | AE5: 수수 | AF5: 호수 | AG5: 군수 | AI5: 호수 | AJ5: 수수 | AK5: 호수 | AL5: 수수 | AM5: 호수 | AN5: 수수 | AO5: 호수 | AP5: 수수 | AQ5: 호수 | AR5: 수수
A6: 계 | B6: =SUM(B7:B20) -> 642 | C6: =SUM(C7:C20) -> 27200 | D6: =SUM(D7:D20) -> 12 | E6: =SUM(E7:E20) -> 713 | F6: =SUM(F7:F20) -> 18 | G6: =SUM(G7:G20) -> 30820 | H6: =SUM(H7:H20) -> 38 | I6: =SUM(I7:I20) -> 2255226 | ... K6: =SUM(K7:K20) -> 91600 | L6: 계 | M6: =SUM(M7:M20) -> 101 | N6: =SUM(N7:N20) -> 14226 | O6: =SUM(O7:O20) -> 0 | P6: =SUM(P7:P20) -> 0 | Q6: =SUM(Q7:Q20) -> 3 | R6: =SUM(R7:R20) -> 88 | S6: =SUM(S7:S20) -> 4 | T6: =SUM(T7:T20) -> 21 | ... X6: =SUM(X7:X20) -> 4200 | Y6: 계 | Z6: =SUM(Z7:Z20) -> 1 | AA6: =SUM(AA7:AA20) -> 1 | AB6: =SUM(AB7:AB20) -> 0 | AC6: =SUM(AC7:AC20) -> 0 | AD6: =SUM(AD7:AD20) -> 0 | AE6: =SUM(AE7:AE20) -> 0 | AF6: =SUM(AF7:AF20) -> 162 | AG6: =SUM(AG7:AG20) -> 13413 | AH6: 계 | AI6: =SUM(AI7:AI20) -> 0 | AJ6: =SUM(AJ7:AJ20) -> 0 | AK6: =SUM(AK7:AK20) -> 1 | AL6: =SUM(AL7:AL20) -> 2 | AM6: =SUM(AM7:AM20) -> 0 | AN6: =SUM(AN7:AN20) -> 0 | AO6: =SUM(AO7:AO20) -> 0 | AP6: =SUM(AP7:AP20) -> 0 | ... AR6: =SUM(AR7:AR20) -> 13
A7: 순창읍 | B7: ='(붙임2)24년12월농가수'!B7 -> 27 | C7: ='(붙임3)24년12월 마리수'!B6 -> 739 | D7: ='(붙임2)24년12월농가수'!O7 -> 0 | E7: ='(붙임3)24년12월 마리수'!O6 -> 0 | F7: ='(붙임2)24년12월농가수'!AB7 -> 0 | G7: ='(붙임3)24년12월 마리수'!AB6 -> 0 | H7: ='(붙임2)24년12월농가수'!AS7 -> 3 | I7: ='(붙임3)24년12월 마리수'!AW6 -> 142500 | J7: ='(붙임2)24년12월농가수'!BI7 -> 1 | K7: ='(붙임3)24년12월 마리수'!BR6 -> 25000 | L7: 순창읍 | M7: ='(붙임2)24년12월농가수'!BZ7 -> 7 | N7: ='(붙임3)24년12월 마리수'!CL6 -> 84 | O7: ='(붙임2)24년12월농가수'!CM7 -> 0 | P7: ='(붙임3)24년12월 마리수'!CY6 -> 0 | Q7: ='(붙임2)24년12월농가수'!CZ7 -> 0 | R7: ='(붙임3)24년12월 마리수'!DL6 -> 0 | S7: ='(붙임2)24년12월농가수'!DS7 -> 0 | T7: ='(붙임3)24년12월 마리수'!DV6 -> 0 | U7: =COUNTIF('개(종별, 목적, 성별 , 마리수)'!$C$8:$C$64,L7) -> 9 | V7: ='(붙임3)24년12월 마리수'!EN6 -> 19 | W7: ='(붙임2)24년12월농가수'!CZ27 -> 0 | X7: ='(붙임2)24년12월농가수'!DI27 -> 0 | Y7: 순창읍 | Z7: ='(붙임2)24년12월농가수'!EK7 -> 0 | AA7: ='(붙임2)24년12월농가수'!ES7 -> 0 | AB7: ='(붙임2)24년12월농가수'!FB7 -> 0 | AC7: ='(붙임2)24년12월농가수'!FJ7 -> 0 | AD7: ='(붙임2)24년12월농가수'!B27 -> 0 | AE7: ='(붙임3)24년12월 마리수'!B26 -> 0 | AF7: ='(붙임2)24년12월농가수'!O27 -> 16 | AG7: ='(붙임3)24년12월 마리수'!P26 -> 1236 | AH7: 순창읍 | AI7: ='(붙임2)24년12월농가수'!AB27 -> 0 | AJ7: ='(붙임2)24년12월농가수'!AJ27 -> 0 | AK7: ='(붙임2)24년12월농가수'!BI27 -> 0 | AL7: ='(붙임2)24년12월농가수'!BQ27 -> 0 | AM7: ='(붙임2)24년12월농가수'!BZ27 -> 0 | AN7: ='(붙임3)24년12월 마리수'!CL26 -> 0 | AO7: ='(붙임2)24년12월농가수'!CM27 -> 0 | AP7: ='(붙임3)24년12월 마리수'!CY26 -> 0 | AQ7: ='(붙임2)24년12월농가수'!DS27 -> 0 | AR7: ='(붙임3)24년12월 마리수'!DL26 -> 0
A8: 인계면 | B8: ='(붙임2)24년12월농가수'!B8 -> 42 | C8: ='(붙임3)24년12월 마리수'!B7 -> 2248 | D8: ='(붙임2)24년12월농가수'!O8 -> 0 | E8: ='(붙임3)24년12월 마리수'!O7 -> 0 | F8: ='(붙임2)24년12월농가수'!AB8 -> 6 | G8: ='(붙임3)24년12월 마리수'!AB7 -> 11734 | H8: ='(붙임2)24년12월농가수'!AS8 -> 2 | I8: ='(붙임3)24년12월 마리수'!AW7 -> 62050 | J8: ='(붙임2)24년12월농가수'!BI8 -> 1 | K8: ='(붙임3)24년12월 마리수'!BR7 -> 21000 | L8: 인계면 | M8: ='(붙임2)24년12월농가수'!BZ8 -> 4 | N8: ='(붙임3)24년12월 마리수'!CL7 -> 489 | O8: ='(붙임2)24년12월농가수'!CM8 -> 0 | P8: ='(붙임3)24년12월 마리수'!CY7 -> 0 | Q8: ='(붙임2)24년12월농가수'!CZ8 -> 2 | R8: ='(붙임3)24년12월 마리수'!DL7 -> 54 | S8: ='(붙임2)24년12월농가수'!DS8 -> 0 | T8: ='(붙임3)24년12월 마리수'!DV7 -> 0 | U8: =COUNTIF('개(종별, 목적, 성별 , 마리수)'!$C$8:$C$64,L8) -> 4 | V8: ='(붙임3)24년12월 마리수'!EN7 -> 39 | W8: ='(붙임2)24년12월농가수'!CZ28 -> 1 | X8: ='(붙임2)24년12월농가수'!DI28 -> 1000 | Y8: 인계면 | Z8: ='(붙임2)24년12월농가수'!EK8 -> 0 | AA8: ='(붙임2)24년12월농가수'!ES8 -> 0 | AB8: ='(붙임2)24년12월농가수'!FB8 -> 0 | AC8: ='(붙임2)24년12월농가수'!FJ8 -> 0 | AD8: ='(붙임2)24년12월농가수'!B28 -> 0 | AE8: ='(붙임3)24년12월 마리수'!B27 -> 0 | AF8: ='(붙임2)24년12월농가수'!O28 -> 13 | AG8: ='(붙임3)24년12월 마리수'!P27 -> 938 | AH8: 인계면 | AI8: ='(붙임2)24년12월농가수'!AB28 -> 0 | AJ8: ='(붙임2)24년12월농가수'!AJ28 -> 0 | AK8: ='(붙임2)24년12월농가수'!BI28 -> 0 | AL8: ='(붙임2)24년12월농가수'!BQ28 -> 0 | AM8: ='(붙임2)24년12월농가수'!BZ28 -> 0 | AN8: ='(붙임3)24년12월 마리수'!CL27 -> 0 | AO8: ='(붙임2)24년12월농가수'!CM28 -> 0 | AP8: ='(붙임3)24년12월 마리수'!CY27 -> 0 | AQ8: ='(붙임2)24년12월농가수'!DS28 -> 0 | AR8: ='(붙임3)24년12월 마리수'!DL27 -> 0
A9: 동계면 | B9: ='(붙임2)24년12월농가수'!B9 -> 50 | C9: ='(붙임3)24년12월 마리수'!B8 -> 1470 | D9: ='(붙임2)24년12월농가수'!O9 -> 2 | E9: ='(붙임3)24년12월 마리수'!O8 -> 146 | F9: ='(붙임2)24년12월농가수'!AB9 -> 2 | G9: ='(붙임3)24년12월 마리수'!AB8 -> 2644 | H9: ='(붙임2)24년12월농가수'!AS9 -> 10 | I9: ='(붙임3)24년12월 마리수'!AW8 -> 703931 | J9: ='(붙임2)24년12월농가수'!BI9 -> 3 | K9: ='(붙임3)24년12월 마리수'!BR8 -> 34600 | L9: 동계면 | M9: ='(붙임2)24년12월농가수'!BZ9 -> 1 | N9: ='(붙임3)24년12월 마리수'!CL8 -> 60 | O9: ='(붙임2)24년12월농가수'!CM9 -> 0 | P9: ='(붙임3)24년12월 마리수'!CY8 -> 0 | Q9: ='(붙임2)24년12월농가수'!CZ9 -> 0 | R9: ='(붙임3)24년12월 마리수'!DL8 -> 0 | S9: ='(붙임2)24년12월농가수'!DS9 -> 0 | T9: ='(붙임3)24년12월 마리수'!DV8 -> 0 | U9: =COUNTIF('개(종별, 목적, 성별 , 마리수)'!$C$8:$C$64,L9) -> 3 | V9: ='(붙임3)24년12월 마리수'!EN8 -> 175 | W9: ='(붙임2)24년12월농가수'!CZ29 -> 0 | X9: ='(붙임2)24년12월농가수'!DI29 -> 0 | Y9: 동계면 | Z9: ='(붙임2)24년12월농가수'!EK9 -> 0 | AA9: ='(붙임2)24년12월농가수'!ES9 -> 0 | AB9: ='(붙임2)24년12월농가수'!FB9 -> 0 | AC9: ='(붙임2)24년12월농가수'!FJ9 -> 0 | AD9: ='(붙임2)24년12월농가수'!B29 -> 0 | AE9: ='(붙임3)24년12월 마리수'!B28 -> 0 | AF9: ='(붙임2)24년12월농가수'!O29 -> 17 | AG9: ='(붙임3)24년12월 마리수'!P28 -> 2594 | AH9: 동계면 | AI9: ='(붙임2)24년12월농가수'!AB29 -> 0 | AJ9: ='(붙임2)24년12월농가수'!AJ29 -> 0 | AK9: ='(붙임2)24년12월농가수'!BI29 -> 0 | AL9: ='(붙임2)24년12월농가수'!BQ29 -> 0 | AM9: ='(붙임2)24년12월농가수'!BZ29 -> 0 | AN9: ='(붙임3)24년12월 마리수'!CL28 -> 0 | AO9: ='(붙임2)24년12월농가수'!CM29 -> 0 | AP9: ='(붙임3)24년12월 마리수'!CY28 -> 0 | AQ9: ='(붙임2)24년12월농가수'!DS29 -> 0 | AR9: ='(붙임3)24년12월 마리수'!DL28 -> 0
A10: 적성면 | B10: ='(붙임2)24년12월농가수'!B10 -> 21 | C10: ='(붙임3)24년12월 마리수'!B9 -> 618 | D10: ='(붙임2)24년12월농가수'!O10 -> 2 | E10: ='(붙임3)24년12월 마리수'!O9 -> 236 | F10: ='(붙임2)24년12월농가수'!AB10 -> 2 | G10: ='(붙임3)24년12월 마리수'!AB9 -> 113 | H10: ='(붙임2)24년12월농가수'!AS10 -> 7 | I10: ='(붙임3)24년12월 마리수'!AW9 -> 222200 | J10: ='(붙임2)24년12월농가수'!BI10 -> 0 | K10: ='(붙임3)24년12월 마리수'!BR9 -> 0 | L10: 적성면 | M10: ='(붙임2)24년12월농가수'!BZ10 -> 1 | N10: ='(붙임3)24년12월 마리수'!CL9 -> 25 | O10: ='(붙임2)24년12월농가수'!CM10 -> 0 | P10: ='(붙임3)24년12월 마리수'!CY9 -> 0 | Q10: ='(붙임2)24년12월농가수'!CZ10 -> 0 | R10: ='(붙임3)24년12월 마리수'!DL9 -> 0 | S10: ='(붙임2)24년12월농가수'!DS10 -> 0 | T10: ='(붙임3)24년12월 마리수'!DV9 -> 0 | U10: =COUNTIF('개(종별, 목적, 성별 , 마리수)'!$C$8:$C$64,L10) -> 2 | V10: ='(붙임3)24년12월 마리수'!EN9 -> 32 | W10: ='(붙임2)24년12월농가수'!CZ30 -> 0 | X10: ='(붙임2)24년12월농가수'!DI30 -> 0 | Y10: 적성면 | Z10: ='(붙임2)24년12월농가수'!EK10 -> 0 | AA10: ='(붙임2)24년12월농가수'!ES10 -> 0 | AB10: ='(붙임2)24년12월농가수'!FB10 -> 0 | AC10: ='(붙임2)24년12월농가수'!FJ10 -> 0 | AD10: ='(붙임2)24년12월농가수'!B30 -> 0 | AE10: ='(붙임3)24년12월 마리수'!B29 -> 0 | AF10: ='(붙임2)24년12월농가수'!O30 -> 10 | AG10: ='(붙임3)24년12월 마리수'!P29 -> 989 | AH10: 적성면 | AI10: ='(붙임2)24년12월농가수'!AB30 -> 0 | AJ10: ='(붙임2)24년12월농가수'!AJ30 -> 0 | AK10: ='(붙임2)24년12월농가수'!BI30 -> 0 | AL10: ='(붙임2)24년12월농가수'!BQ30 -> 0 | AM10: ='(붙임2)24년12월농가수'!BZ30 -> 0 | AN10: ='(붙임3)24년12월 마리수'!CL29 -> 0 | AO10: ='(붙임2)24년12월농가수'!CM30 -> 0 | AP10: ='(붙임3)24년12월 마리수'!CY29 -> 0 | AQ10: ='(붙임2)24년12월농가수'!DS30 -> 0 | AR10: ='(붙임3)24년12월 마리수'!DL29 -> 0
A11: 유등면 | B11: ='(붙임2)24년12월농가수'!B11 -> 35 | C11: ='(붙임3)24년12월 마리수'!B10 -> 1838 | D11: ='(붙임2)24년12월농가수'!O11 -> 0 | E11: ='(붙임3)24년12월 마리수'!O10 -> 0 | F11: ='(붙임2)24년12월농가수'!AB11 -> 2 | G11: ='(붙임3)24년12월 마리수'!AB10 -> 5443 | H11: ='(붙임2)24년12월농가수'!AS11 -> 4 | I11: ='(붙임3)24년12월 마리수'!AW10 -> 363900 | J11: ='(붙임2)24년12월농가수'!BI11 -> 0 | K11: ='(붙임3)24년12월 마리수'!BR10 -> 0 | L11: 유등면 | M11: ='(붙임2)24년12월농가수'!BZ11 -> 6 | N11: ='(붙임3)24년12월 마리수'!CL10 -> 508 | O11: ='(붙임2)24년12월농가수'!CM11 -> 0 | P11: ='(붙임3)24년12월 마리수'!CY10 -> 0 | Q11: ='(붙임2)24년12월농가수'!CZ11 -> 0 | R11: ='(붙임3)24년12월 마리수'!DL10 -> 0 | S11: ='(붙임2)24년12월농가수'!DS11 -> 0 | T11: ='(붙임3)24년12월 마리수'!DV10 -> 0 | U11: =COUNTIF('개(종별, 목적, 성별 , 마리수)'!$C$8:$C$64,L11) -> 1 | V11: ='(붙임3)24년12월 마리수'!EN10 -> 16 | W11: ='(붙임2)24년12월농가수'!CZ31 -> 0 | X11: ='(붙임2)24년12월농가수'!DI31 -> 0 | Y11: 유등면 | Z11: ='(붙임2)24년12월농가수'!EK11 -> 0 | AA11: ='(붙임2)24년12월농가수'!ES11 -> 0 | AB11: ='(붙임2)24년12월농가수'!FB11 -> 0 | AC11: ='(붙임2)24년12월농가수'!FJ11 -> 0 | AD11: ='(붙임2)24년12월농가수'!B31 -> 0 | AE11: ='(붙임3)24년12월 마리수'!B30 -> 0 | AF11: ='(붙임2)24년12월농가수'!O31 -> 2 | AG11: ='(붙임3)24년12월 마리수'!P30 -> 197 | AH11: 유등면 | AI11: ='(붙임2)24년12월농가수'!AB31 -> 0 | AJ11: ='(붙임2)24년12월농가수'!AJ31 -> 0 | AK11: ='(붙임2)24년12월농가수'!BI31 -> 0 | AL11: ='(붙임2)24년12월농가수'!BQ31 -> 0 | AM11: ='(붙임2)24년12월농가수'!BZ31 -> 0 | AN11: ='(붙임3)24년12월 마리수'!CL30 -> 0 | AO11: ='(붙임2)24년12월농가수'!CM31 -> 0 | AP11: ='(붙임3)24년12월 마리수'!CY30 -> 0 | AQ11: ='(붙임2)24년12월농가수'!DS31 -> 0 | AR11: ='(붙임3)24년12월 마리수'!DL30 -> 0
A12: 풍산면 | B12: ='(붙임2)24년12월농가수'!B12 -> 56 | C12: ='(붙임3)24년12월 마리수'!B11 -> 2418 | D12: ='(붙임2)24년12월농가수'!O12 -> 5 | E12: ='(붙임3)24년12월 마리수'!O11 -> 230 | F12: ='(붙임2)24년12월농가수'!AB12 -> 2 | G12: ='(붙임3)24년12월 마리수'!AB11 -> 4109 | H12: ='(붙임2)24년12월농가수'!AS12 -> 2 | I12: ='(붙임3)24년12월 마리수'!AW11 -> 173400 | J12: ='(붙임2)24년12월농가수'!BI12 -> 0 | K12: ='(붙임3)24년12월 마리수'!BR11 -> 0 | L12: 풍산면 | M12: ='(붙임2)24년12월농가수'!BZ12 -> 9 | N12: ='(붙임3)24년12월 마리수'!CL11 -> 2296 | O12: ='(붙임2)24년12월농가수'!CM12 -> 0 | P12: ='(붙임3)24년12월 마리수'!CY11 -> 0 | Q12: ='(붙임2)24년12월농가수'!CZ12 -> 0 | R12: ='(붙임3)24년12월 마리수'!DL11 -> 0 | S12: ='(붙임2)24년12월농가수'!DS12 -> 0 | T12: ='(붙임3)24년12월 마리수'!DV11 -> 0 | U12: =COUNTIF('개(종별, 목적, 성별 , 마리수)'!$C$8:$C$64,L12) -> 4 | V12: ='(붙임3)24년12월 마리수'!EN11 -> 32 | W12: ='(붙임2)24년12월농가수'!CZ32 -> 0 | X12: ='(붙임2)24년12월농가수'!DI32 -> 0 | Y12: 풍산면 | Z12: ='(붙임2)24년12월농가수'!EK12 -> 0 | AA12: ='(붙임2)24년12월농가수'!ES12 -> 0 | AB12: ='(붙임2)24년12월농가수'!FB12 -> 0 | AC12: ='(붙임2)24년12월농가수'!FJ12 -> 0 | AD12: ='(붙임2)24년12월농가수'!B32 -> 0 | AE12: ='(붙임3)24년12월 마리수'!B31 -> 0 | AF12: ='(붙임2)24년12월농가수'!O32 -> 13 | AG12: ='(붙임3)24년12월 마리수'!P31 -> 1213 | AH12: 풍산면 | AI12: ='(붙임2)24년12월농가수'!AB32 -> 0 | AJ12: ='(붙임2)24년12월농가수'!AJ32 -> 0 | AK12: ='(붙임2)24년12월농가수'!BI32 -> 0 | AL12: ='(붙임2)24년12월농가수'!BQ32 -> 0 | AM12: ='(붙임2)24년12월농가수'!BZ32 -> 0 | AN12: ='(붙임3)24년12월 마리수'!CL31 -> 0 | AO12: ='(붙임2)24년12월농가수'!CM32 -> 0 | AP12: ='(붙임3)24년12월 마리수'!CY31 -> 0 | AQ12: ='(붙임2)24년12월농가수'!DS32 -> 0 | AR12: ='(붙임3)24년12월 마리수'!DL31 -> 0
A13: 금과면 | B13: ='(붙임2)24년12월농가수'!B13 -> 35 | C13: ='(붙임3)24년12월 마리수'!B12 -> 1604 | D13: ='(붙임2)24년12월농가수'!O13 -> 2 | E13: ='(붙임3)24년12월 마리수'!O12 -> 98 | F13: ='(붙임2)24년12월농가수'!AB13 -> 0 | G13: ='(붙임3)24년12월 마리수'!AB12 -> 0 | H13: ='(붙임2)24년12월농가수'!AS13 -> 5 | I13: ='(붙임3)24년12월 마리수'!AW12 -> 234445 | J13: ='(붙임2)24년12월농가수'!BI13 -> 0 | K13: ='(붙임3)24년12월 마리수'!BR12 -> 0 | L13: 금과면 | M13: ='(붙임2)24년12월농가수'!BZ13 -> 10 | N13: ='(붙임3)24년12월 마리수'!CL12 -> 618 | O13: ='(붙임2)24년12월농가수'!CM13 -> 0 | P13: ='(붙임3)24년12월 마리수'!CY12 -> 0 | Q13: ='(붙임2)24년12월농가수'!CZ13 -> 0 | R13: ='(붙임3)24년12월 마리수'!DL12 -> 0 | S13: ='(붙임2)24년12월농가수'!DS13 -> 0 | T13: ='(붙임3)24년12월 마리수'!DV12 -> 0 | U13: =COUNTIF('개(종별, 목적, 성별 , 마리수)'!$C$8:$C$64,L13) -> 2 | V13: ='(붙임3)24년12월 마리수'!EN12 -> 3 | W13: ='(붙임2)24년12월농가수'!CZ33 -> 0 | X13: ='(붙임2)24년12월농가수'!DI33 -> 0 | Y13: 금과면 | Z13: ='(붙임2)24년12월농가수'!EK13 -> 0 | AA13: ='(붙임2)24년12월농가수'!ES13 -> 0 | AB13: ='(붙임2)24년12월농가수'!FB13 -> 0 | AC13: ='(붙임2)24년12월농가수'!FJ13 -> 0 | AD13: ='(붙임2)24년12월농가수'!B33 -> 0 | AE13: ='(붙임3)24년12월 마리수'!B32 -> 0 | AF13: ='(붙임2)24년12월농가수'!O33 -> 19 | AG13: ='(붙임3)24년12월 마리수'!P32 -> 1585 | AH13: 금과면 | AI13: ='(붙임2)24년12월농가수'!AB33 -> 0 | AJ13: ='(붙임2)24년12월농가수'!AJ33 -> 0 | AK13: ='(붙임2)24년12월농가수'!BI33 -> 0 | AL13: ='(붙임2)24년12월농가수'!BQ33 -> 0 | AM13: ='(붙임2)24년12월농가수'!BZ33 -> 0 | AN13: ='(붙임3)24년12월 마리수'!CL32 -> 0 | AO13: ='(붙임2)24년12월농가수'!CM33 -> 0 | AP13: ='(붙임3)24년12월 마리수'!CY32 -> 0 | AQ13: ='(붙임2)24년12월농가수'!DS33 -> 0 | AR13: ='(붙임3)24년12월 마리수'!DL32 -> 0
A14: 팔덕면 | B14: ='(붙임2)24년12월농가수'!B14 -> 64 | C14: ='(붙임3)24년12월 마리수'!B13 -> 2209 | D14: ='(붙임2)24년12월농가수'!O14 -> 1 | E14: ='(붙임3)24년12월 마리수'!O13 -> 3 | F14: ='(붙임2)24년12월농가수'!AB14 -> 1 | G14: ='(붙임3)24년12월 마리수'!AB13 -> 533 | H14: ='(붙임2)24년12월농가수'!AS14 -> 3 | I14: ='(붙임3)24년12월 마리수'!AW13 -> 139000 | J14: ='(붙임2)24년12월농가수'!BI14 -> 1 | K14: ='(붙임3)24년12월 마리수'!BR13 -> 11000 | L14: 팔덕면 | M14: ='(붙임2)24년12월농가수'!BZ14 -> 11 | N14: ='(붙임3)24년12월 마리수'!CL13 -> 3410 | O14: ='(붙임2)24년12월농가수'!CM14 -> 0 | P14: ='(붙임3)24년12월 마리수'!CY13 -> 0 | Q14: ='(붙임2)24년12월농가수'!CZ14 -> 1 | R14: ='(붙임3)24년12월 마리수'!DL13 -> 34 | S14: ='(붙임2)24년12월농가수'!DS14 -> 0 | T14: ='(붙임3)24년12월 마리수'!DV13 -> 0 | U14: =COUNTIF('개(종별, 목적, 성별 , 마리수)'!$C$8:$C$64,L14) -> 4 | V14: ='(붙임3)24년12월 마리수'!EN13 -> 13 | W14: ='(붙임2)24년12월농가수'!CZ34 -> 0 | X14: ='(붙임2)24년12월농가수'!DI34 -> 0 | Y14: 팔덕면 | Z14: ='(붙임2)24년12월농가수'!EK14 -> 0 | AA14: ='(붙임2)24년12월농가수'!ES14 -> 0 | AB14: ='(붙임2)24년12월농가수'!FB14 -> 0 | AC14: ='(붙임2)24년12월농가수'!FJ14 -> 0 | AD14: ='(붙임2)24년12월농가수'!B34 -> 0 | AE14: ='(붙임3)24년12월 마리수'!B33 -> 0 | AF14: ='(붙임2)24년12월농가수'!O34 -> 8 | AG14: ='(붙임3)24년12월 마리수'!P33 -> 598 | AH14: 팔덕면 | AI14: ='(붙임2)24년12월농가수'!AB34 -> 0 | AJ14: ='(붙임2)24년12월농가수'!AJ34 -> 0 | AK14: ='(붙임2)24년12월농가수'!BI34 -> 0 | AL14: ='(붙임2)24년12월농가수'!BQ34 -> 0 | AM14: ='(붙임2)24년12월농가수'!BZ34 -> 0 | AN14: ='(붙임3)24년12월 마리수'!CL33 -> 0 | AO14: ='(붙임2)24년12월농가수'!CM34 -> 0 | AP14: ='(붙임3)24년12월 마리수'!CY33 -> 0 | AQ14: ='(붙임2)24년12월농가수'!DS34 -> 0 | AR14: ='(붙임3)24년12월 마리수'!DL33 -> 0
A15: 복흥면 | B15: ='(붙임2)24년12월농가수'!B15 -> 91 | C15: ='(붙임3)24년12월 마리수'!B14 -> 4694 | D15: ='(붙임2)24년12월농가수'!O15 -> 0 | E15: ='(붙임3)24년12월 마리수'!O14 -> 0 | F15: ='(붙임2)24년12월농가수'!AB15 -> 0 | G15: ='(붙임3)24년12월 마리수'!AB14 -> 0 | H15: ='(붙임2)24년12월농가수'!AS15 -> 0 | I15: ='(붙임3)24년12월 마리수'!AW14 -> 0 | J15: ='(붙임2)24년12월농가수'!BI15 -> 0 | K15: ='(붙임3)24년12월 마리수'!BR14 -> 0 | L15: 복흥면 | M15: ='(붙임2)24년12월농가수'!BZ15 -> 7 | N15: ='(붙임3)24년12월 마리수'!CL14 -> 1587 | O15: ='(붙임2)24년12월농가수'!CM15 -> 0 | P15: ='(붙임3)24년12월 마리수'!CY14 -> 0 | Q15: ='(붙임2)24년12월농가수'!CZ15 -> 0 | R15: ='(붙임3)24년12월 마리수'!DL14 -> 0 | S15: ='(붙임2)24년12월농가수'!DS15 -> 0 | T15: ='(붙임3)24년12월 마리수'!DV14 -> 0 | U15: =COUNTIF('개(종별, 목적, 성별 , 마리수)'!$C$8:$C$64,L15) -> 6 | V15: ='(붙임3)24년12월 마리수'!EN14 -> 50 | W15: ='(붙임2)24년12월농가수'!CZ35 -> 1 | X15: ='(붙임2)24년12월농가수'!DI35 -> 3200 | Y15: 복흥면 | Z15: ='(붙임2)24년12월농가수'!EK15 -> 0 | AA15: ='(붙임2)24년12월농가수'!ES15 -> 0 | AB15: ='(붙임2)24년12월농가수'!FB15 -> 0 | AC15: ='(붙임2)24년12월농가수'!FJ15 -> 0 | AD15: ='(붙임2)24년12월농가수'!B35 -> 0 | AE15: ='(붙임3)24년12월 마리수'!B34 -> 0 | AF15: ='(붙임2)24년12월농가수'!O35 -> 10 | AG15: ='(붙임3)24년12월 마리수'!P34 -> 650 | AH15: 복흥면 | AI15: ='(붙임2)24년12월농가수'!AB35 -> 0 | AJ15: ='(붙임2)24년12월농가수'!AJ35 -> 0 | AK15: ='(붙임2)24년12월농가수'!BI35 -> 0 | AL15: ='(붙임2)24년12월농가수'!BQ35 -> 0 | AM15: ='(붙임2)24년12월농가수'!BZ35 -> 0 | AN15: ='(붙임3)24년12월 마리수'!CL34 -> 0 | AO15: ='(붙임2)24년12월농가수'!CM35 -> 0 | AP15: ='(붙임3)24년12월 마리수'!CY34 -> 0 | AQ15: ='(붙임2)24년12월농가수'!DS35 -> 0 | AR15: ='(붙임3)24년12월 마리수'!DL34 -> 0
A16: 쌍치면 | B16: ='(붙임2)24년12월농가수'!B16 -> 33 | C16: ='(붙임3)24년12월 마리수'!B15 -> 1013 | D16: ='(붙임2)24년12월농가수'!O16 -> 0 | E16: ='(붙임3)24년12월 마리수'!O15 -> 0 | F16: ='(붙임2)24년12월농가수'!AB16 -> 1 | G16: ='(붙임3)24년12월 마리수'!AB15 -> 1664 | H16: ='(붙임2)24년12월농가수'!AS16 -> 1 | I16: ='(붙임3)24년12월 마리수'!AW15 -> 117500 | J16: ='(붙임2)24년12월농가수'!BI16 -> 0 | K16: ='(붙임3)24년12월 마리수'!BR15 -> 0 | L16: 쌍치면 | M16: ='(붙임2)24년12월농가수'!BZ16 -> 13 | N16: ='(붙임3)24년12월 마리수'!CL15 -> 103 | O16: ='(붙임2)24년12월농가수'!CM16 -> 0 | P16: ='(붙임3)24년12월 마리수'!CY15 -> 0 | Q16: ='(붙임2)24년12월농가수'!CZ16 -> 0 | R16: ='(붙임3)24년12월 마리수'!DL15 -> 0 | S16: ='(붙임2)24년12월농가수'!DS16 -> 4 | T16: ='(붙임3)24년12월 마리수'!DV15 -> 21 | U16: =COUNTIF('개(종별, 목적, 성별 , 마리수)'!$C$8:$C$64,L16) -> 12 | V16: ='(붙임3)24년12월 마리수'!EN15 -> 1775 | W16: ='(붙임2)24년12월농가수'!CZ36 -> 0 | X16: ='(붙임2)24년12월농가수'!DI36 -> 0 | Y16: 쌍치면 | Z16: ='(붙임2)24년12월농가수'!EK16 -> 0 | AA16: ='(붙임2)24년12월농가수'!ES16 -> 0 | AB16: ='(붙임2)24년12월농가수'!FB16 -> 0 | AC16: ='(붙임2)24년12월농가수'!FJ16 -> 0 | AD16: ='(붙임2)24년12월농가수'!B36 -> 0 | AE16: ='(붙임3)24년12월 마리수'!B35 -> 0 | AF16: ='(붙임2)24년12월농가수'!O36 -> 31 | AG16: ='(붙임3)24년12월 마리수'!P35 -> 1842 | AH16: 쌍치면 | AI16: ='(붙임2)24년12월농가수'!AB36 -> 0 | AJ16: ='(붙임2)24년12월농가수'!AJ36 -> 0 | AK16: ='(붙임2)24년12월농가수'!BI36 -> 0 | AL16: ='(붙임2)24년12월농가수'!BQ36 -> 0 | AM16: ='(붙임2)24년12월농가수'!BZ36 -> 0 | AN16: ='(붙임3)24년12월 마리수'!CL35 -> 0 | AO16: ='(붙임2)24년12월농가수'!CM36 -> 0 | AP16: ='(붙임3)24년12월 마리수'!CY35 -> 0 | AQ16: ='(붙임2)24년12월농가수'!DS36 -> 0 | AR16: ='(붙임3)24년12월 마리수'!DL35 -> 0
A17: 구림면 | B17: ='(붙임2)24년12월농가수'!B17 -> 188 | C17: ='(붙임3)24년12월 마리수'!B16 -> 8349 | D17: ='(붙임2)24년12월농가수'!O17 -> 0 | E17: ='(붙임3)24년12월 마리수'!O16 -> 0 | F17: ='(붙임2)24년12월농가수'!AB17 -> 2 | G17: ='(붙임3)24년12월 마리수'!AB16 -> 4580 | H17: ='(붙임2)24년12월농가수'!AS17 -> 1 | I17: ='(붙임3)24년12월 마리수'!AW16 -> 96300 | J17: ='(붙임2)24년12월농가수'!BI17 -> 0 | K17: ='(붙임3)24년12월 마리수'!BR16 -> 0 | L17: 구림면 | M17: ='(붙임2)24년12월농가수'!BZ17 -> 32 | N17: ='(붙임3)24년12월 마리수'!CL16 -> 5046 | O17: ='(붙임2)24년12월농가수'!CM17 -> 0 | P17: ='(붙임3)24년12월 마리수'!CY16 -> 0 | Q17: ='(붙임2)24년12월농가수'!CZ17 -> 0 | R17: ='(붙임3)24년12월 마리수'!DL16 -> 0 | S17: ='(붙임2)24년12월농가수'!DS17 -> 0 | T17: ='(붙임3)24년12월 마리수'!DV16 -> 0 | U17: =COUNTIF('개(종별, 목적, 성별 , 마리수)'!$C$8:$C$64,L17) -> 10 | V17: ='(붙임3)24년12월 마리수'!EN16 -> 96 | W17: ='(붙임2)24년12월농가수'!CZ37 -> 0 | X17: ='(붙임2)24년12월농가수'!DI37 -> 0 | Y17: 구림면 | Z17: ='(붙임2)24년12월농가수'!EK17 -> 1 | AA17: ='(붙임2)24년12월농가수'!ES17 -> 1 | AB17: ='(붙임2)24년12월농가수'!FB17 -> 0 | AC17: ='(붙임2)24년12월농가수'!FJ17 -> 0 | AD17: ='(붙임2)24년12월농가수'!B37 -> 0 | AE17: ='(붙임3)24년12월 마리수'!B36 -> 0 | AF17: ='(붙임2)24년12월농가수'!O37 -> 23 | AG17: ='(붙임3)24년12월 마리수'!P36 -> 1571 | AH17: 구림면 | AI17: ='(붙임2)24년12월농가수'!AB37 -> 0 | AJ17: ='(붙임2)24년12월농가수'!AJ37 -> 0 | AK17: ='(붙임2)24년12월농가수'!BI37 -> 1 | AL17: ='(붙임4)23년12월 성별마리수'!EX16 -> 2 | AM17: ='(붙임2)24년12월농가수'!BZ37 -> 0 | AN17: ='(붙임3)24년12월 마리수'!CL36 -> 0 | AO17: ='(붙임2)24년12월농가수'!CM37 -> 0 | AP17: ='(붙임3)24년12월 마리수'!CY36 -> 0 | AQ17: ='(붙임2)24년12월농가수'!DS37 -> 2 | AR17: ='(붙임3)24년12월 마리수'!DL36 -> 13
B18: ='(붙임2)24년12월농가수'!B18 -> 0 | C18: ='(붙임3)24년12월 마리수'!B17 -> 0 | D18: ='(붙임2)24년12월농가수'!O18 -> 0 | E18: ='(붙임3)24년12월 마리수'!O17 -> 0 | F18: ='(붙임2)24년12월농가수'!AB18 -> 0 | G18: ='(붙임3)24년12월 마리수'!AB17 -> 0 | H18: ='(붙임2)24년12월농가수'!AS18 -> 0 | I18: ='(붙임3)24년12월 마리수'!AW17 -> 0 | J18: ='(붙임2)24년12월농가수'!BI18 -> 0 | K18: ='(붙임3)24년12월 마리수'!BR17 -> 0 | M18: ='(붙임2)24년12월농가수'!BZ18 -> 0 | N18: ='(붙임3)24년12월 마리수'!CL17 -> 0 | O18: ='(붙임2)24년12월농가수'!CM18 -> 0 | P18: ='(붙임3)24년12월 마리수'!CY17 -> 0 | Q18: ='(붙임2)24년12월농가수'!CZ18 -> 0 | R18: ='(붙임3)24년12월 마리수'!DL17 -> 0 | S18: ='(붙임2)24년12월농가수'!DS18 -> 0 | T18: ='(붙임3)24년12월 마리수'!DV17 -> 0 | W18: ='(붙임2)24년12월농가수'!CZ38 -> 0 | X18: ='(붙임2)24년12월농가수'!DI38 -> 0 | Z18: ='(붙임2)24년12월농가수'!EK18 -> 0 | AA18: ='(붙임2)24년12월농가수'!ES18 -> 0 | AB18: ='(붙임2)24년12월농가수'!FB18 -> 0 | AC18: ='(붙임2)24년12월농가수'!FJ18 -> 0 | AD18: ='(붙임2)24년12월농가수'!B38 -> 0 | AE18: ='(붙임3)24년12월 마리수'!B37 -> 0 | AF18: ='(붙임2)24년12월농가수'!O38 -> 0 | AG18: ='(붙임3)24년12월 마리수'!P37 -> 0 | AI18: ='(붙임2)24년12월농가수'!AB38 -> 0 | AJ18: ='(붙임2)24년12월농가수'!AJ38 -> 0 | AK18: ='(붙임2)24년12월농가수'!BI38 -> 0 | AL18: ='(붙임2)24년12월농가수'!BQ38 -> 0 | AM18: ='(붙임2)24년12월농가수'!BZ38 -> 0 | AN18: ='(붙임3)24년12월 마리수'!CL37 -> 0 | AO18: ='(붙임2)24년12월농가수'!CM38 -> 0 | AP18: ='(붙임3)24년12월 마리수'!CY37 -> 0 | AQ18: ='(붙임2)24년12월농가수'!DS38 -> 0 | AR18: ='(붙임3)24년12월 마리수'!DL37 -> 0
B19: ='(붙임2)24년12월농가수'!B19 -> 0 | C19: ='(붙임3)24년12월 마리수'!B18 -> 0 | D19: ='(붙임2)24년12월농가수'!O19 -> 0 | E19: ='(붙임3)24년12월 마리수'!O18 -> 0 | F19: ='(붙임2)24년12월농가수'!AB19 -> 0 | G19: ='(붙임3)24년12월 마리수'!AB18 -> 0 | H19: ='(붙임2)24년12월농가수'!AS19 -> 0 | I19: ='(붙임3)24년12월 마리수'!AW18 -> 0 | J19: ='(붙임2)24년12월농가수'!BI19 -> 0 | K19: ='(붙임3)24년12월 마리수'!BR18 -> 0 | M19: ='(붙임2)24년12월농가수'!BZ19 -> 0 | N19: ='(붙임3)24년12월 마리수'!CL18 -> 0 | O19: ='(붙임2)24년12월농가수'!CM19 -> 0 | P19: ='(붙임3)24년12월 마리수'!CY18 -> 0 | Q19: ='(붙임2)24년12월농가수'!CZ19 -> 0 | R19: ='(붙임3)24년12월 마리수'!DL18 -> 0 | S19: ='(붙임2)24년12월농가수'!DS19 -> 0 | T19: ='(붙임3)24년12월 마리수'!DV18 -> 0 | W19: ='(붙임2)24년12월농가수'!CZ39 -> 0 | X19: ='(붙임2)24년12월농가수'!DI39 -> 0 | Z19: ='(붙임2)24년12월농가수'!EK19 -> 0 | AA19: ='(붙임2)24년12월농가수'!ES19 -> 0 | AB19: ='(붙임2)24년12월농가수'!FB19 -> 0 | AC19: ='(붙임2)24년12월농가수'!FJ19 -> 0 | AD19: ='(붙임2)24년12월농가수'!B39 -> 0 | AE19: ='(붙임3)24년12월 마리수'!B38 -> 0 | AF19: ='(붙임2)24년12월농가수'!O39 -> 0 | AG19: ='(붙임3)24년12월 마리수'!P38 -> 0 | AI19: ='(붙임2)24년12월농가수'!AB39 -> 0 | AJ19: ='(붙임2)24년12월농가수'!AJ39 -> 0 | AK19: ='(붙임2)24년12월농가수'!BI39 -> 0 | AL19: ='(붙임2)24년12월농가수'!BQ39 -> 0 | AM19: ='(붙임2)24년12월농가수'!BZ39 -> 0 | AN19: ='(붙임3)24년12월 마리수'!CL38 -> 0 | AO19: ='(붙임2)24년12월농가수'!CM39 -> 0 | AP19: ='(붙임3)24년12월 마리수'!CY38 -> 0 | AQ19: ='(붙임2)24년12월농가수'!DS39 -> 0 | AR19: ='(붙임3)24년12월 마리수'!DL38 -> 0
B20: ='(붙임2)24년12월농가수'!B20 -> 0 | C20: ='(붙임3)24년12월 마리수'!B19 -> 0 | D20: ='(붙임2)24년12월농가수'!O20 -> 0 | E20: ='(붙임3)24년12월 마리수'!O19 -> 0 | F20: ='(붙임2)24년12월농가수'!AB20 -> 0 | G20: ='(붙임3)24년12월 마리수'!AB19 -> 0 | H20: ='(붙임2)24년12월농가수'!AS20 -> 0 | I20: ='(붙임3)24년12월 마리수'!AW19 -> 0 | J20: ='(붙임2)24년12월농가수'!BI20 -> 0 | K20: ='(붙임3)24년12월 마리수'!BR19 -> 0 | M20: ='(붙임2)24년12월농가수'!BZ20 -> 0 | N20: ='(붙임3)24년12월 마리수'!CL19 -> 0 | O20: ='(붙임2)24년12월농가수'!CM20 -> 0 | P20: ='(붙임3)24년12월 마리수'!CY19 -> 0 | Q20: ='(붙임2)24년12월농가수'!CZ20 -> 0 | R20: ='(붙임3)24년12월 마리수'!DL19 -> 0 | S20: ='(붙임2)24년12월농가수'!DS20 -> 0 | T20: ='(붙임3)24년12월 마리수'!DV19 -> 0 | W20: ='(붙임2)24년12월농가수'!CZ40 -> 0 | X20: ='(붙임2)24년12월농가수'!DI40 -> 0 | Z20: ='(붙임2)24년12월농가수'!EK20 -> 0 | AA20: ='(붙임2)24년12월농가수'!ES20 -> 0 | AB20: ='(붙임2)24년12월농가수'!FB20 -> 0 | AC20: ='(붙임2)24년12월농가수'!FJ20 -> 0 | AD20: ='(붙임2)24년12월농가수'!B40 -> 0 | AE20: ='(붙임3)24년12월 마리수'!B39 -> 0 | AF20: ='(붙임2)24년12월농가수'!O40 -> 0 | AG20: ='(붙임3)24년12월 마리수'!P39 -> 0 | AI20: ='(붙임2)24년12월농가수'!AB40 -> 0 | AJ20: ='(붙임2)24년12월농가수'!AJ40 -> 0 | AK20: ='(붙임2)24년12월농가수'!BI40 -> 0 | AL20: ='(붙임2)24년12월농가수'!BQ40 -> 0 | AM20: ='(붙임2)24년12월농가수'!BZ40 -> 0 | AN20: ='(붙임3)24년12월 마리수'!CL39 -> 0 | AO20: ='(붙임2)24년12월농가수'!CM40 -> 0 | AP20: ='(붙임3)24년12월 마리수'!CY39 -> 0 | AQ20: ='(붙임2)24년12월농가수'!DS40 -> 0 | AR20: ='(붙임3)24년12월 마리수'!DL39 -> 0
B21: * 젖소 수컷은 한육우에 포함 * 젖소에는 착유우 및 건유우 포함

Sheet (붙임2)24년12월농가수
A1: 1. 한 우 | N1: 2. 젖 소 | AA1: 3. 돼 지 | AR1: 4. 닭 | BH1: 5. 오 리 | BY1: 6. 염 소(산 양) | CL1: 7. 면 양 | CY1: 8. 사 슴 | DR1: 9. 토 끼 | EJ1: 12. 칠면조 | FA1: 13. 거 위
A3: 1 - 1 한육우 사육규모별 농가수 | N3: 2 - 1 젖소 사육규모별 농가수 | AA3: 3 - 1 돼지 사육규모별 농가수 | AR3: 4 - 1 닭 사육규모별 농가수 | BH3: 5 - 1 오리 사육규모별 농가수 | BY3: 6 - 1 염소 사육규모별 농가수 | CL3: 7 - 1 면양 사육규모별 농가수 | CY3: 8 - 1 사슴 사육규모별 가구수 | DR3: 9 - 1 토끼 사육규모별 가구수 | EJ3: 12 - 1 칠면조 규모별 사육가구수 및 마리수 | FA3: 13 - 1 거위 규모별 사육가구수 및 마리수
CY4: 구분 | CZ4: 사 육 가 구 수 | EJ4: 구분 | EK4: 사육가구수 | ES4: 사육마리수 | FA4: 구분 | FB4: 사육가구수 | FJ4: 사육마리수
A5: 구분 | B5: 계 | C5: 1~9 | D5: 10~19 | E5: 20~29 | F5: 30~39 | G5: 40~49 | H5: 50~99 | I5: 100~199 | J5: 200 ~299 | K5: 300 ~ 399 | L5: 400 ~ 499 | M5: 500두 이 상 | N5: 구분 | O5: 계 | P5: 1~9 | Q5: 10~19 | R5: 20~29 | S5: 30~39 | T5: 40~49 | U5: 50~99 | V5: 100~199 | W5: 200 ~299 | X5: 300 ~ 399 | Y5: 400 ~ 499 | Z5: 500두 이 상 | AA5: 구분 | AB5: 계 | AC5: 1~4 | AD5: 5~9 | AE5: 10~19 | AF5: 20~29 | AG5: 30~49 | AH5: 50~99 | AI5: 100 ~299 | AJ5: 300 ~499 | AK5: 500 ~ 999 | AL5: 1,000 ~ 1,999 | AM5: 2,000 ~2,999 | AN5: 3,000 ~ 4,999 | AO5: 5,000 ~ 9,999 | AP5: 10,000 두이상 | AQ5: 비고 | AR5: 구분 | AS5: 계 | AT5: 1~ 259 | AU5: 260~ 499 | AV5: 500 ~999 | AW5: 1,000 ~1,999 | AX5: 2,000 ~2,999 | AY5: 3,000 ~4,999 | AZ5: 5,000 ~9,999 | BA5: 10,000 ~19,999 | BB5: 20,000 ~29,999 | BC5: 30,000 ~39,999 | BD5: 40,000 ~49,999 | BE5: 50,000 ~99,999 | BF5: 100,000 ~199,999 | BG5: 200,000 수이상 | BH5: 구분 | BI5: 계 | BJ5: 1~ 39 | BK5: 40 ~99 | BL5: 100 ~199 | BM5: 200 ~499 | BN5: 500 ~999 | BO5: 1,000 ~1,499 | BP5: 1,500 ~1,999 | BQ5: 2,000 ~2,999 | BR5: 3,000~ 4,999 | BS5: 5,000~ 9,999 | BT5: 10,000~ 29,999 | BU5: 30,000~ 49,999 | BV5: 50,000수 이상 | BW5: 비 고 | BY5: 구분 | BZ5: 계 | CA5: 1~4 | CB5: 5~9 | CC5: 10~19 | CD5: 20~29 | CE5: 30~49 | CF5: 50~99 | CG5: 100 ~299 | CH5: 300 ~499 | CI5: 500 ~ 999 | CJ5: 1,000 두 이상 | CK5: 비 고 | CL5: 구분 | CM5: 계 | CN5: 1~4 | CO5: 5~9 | CP5: 10~19 | CQ5: 20~29 | CR5: 30~49 | CS5: 50~99 | CT5: 100 ~299 | CU5: 300 ~499 | CV5: 500 ~ 999 | CW5: 1,000두 이 상 | CX5: 비 고 | CZ5: 계 | DA5: 1~9 | DB5: 10~49 | DC5: 50 ~ 99 | DD5: 100 ~199 | DE5: 200 ~299 | DF5: 300 ~499 | DG5: 500두 이상 | DR5: 구분 | DS5: 계 | DT5: 1~9 | DU5: 10~19 | DV5: 20 ~39 | DW5: 40 ~49 | DX5: 50 ~99 | DY5: 100 ~199 | DZ5: 200 ~299 | EA5: 300 ~ 399 | EB5: 400 ~499 | EC5: 500 ~999 | ED5: 1,000 ~1,999 | EE5: 2000두 이 상 | EF5: 비 고 | EK5: 계 | EL5: 1~9 | EM5: 10~49 | EN5: 50 ~99 | EO5: 100 ~199 | EP5: 200 ~299 | EQ5: 300 ~499 | ER5: 500수 이 상 | ES5: 계 | ET5: 1~9 | EU5: 10~49 | EV5: 50 ~99 | EW5: 100 ~199 | EX5: 200 ~299 | EY5: 300 ~499 | EZ5: 500수 이 상 | FB5: 계 | FC5: 1~9 | FD5: 10~49 | FE5: 50 ~99 | FF5: 100 ~199 | FG5: 200 ~299 | FH5: 300 ~499 | FI5: 500수 이 상 | FJ5: 계 | FK5: 1~9 | FL5: 10~49 | FM5: 50 ~99 | FN5: 100 ~199 | FO5: 200 ~299 | FP5: 300 ~499 | FQ5: 500수 이 상
A6: 계 | B6: =SUM(B7:B20) -> 642 | C6: =SUM(C7:C20) -> 173 | D6: =SUM(D7:D20) -> 106 | E6: =SUM(E7:E20) -> 74 | F6: =SUM(F7:F20) -> 62 | G6: =SUM(G7:G20) -> 35 | H6: =SUM(H7:H20) -> 129 | I6: =SUM(I7:I20) -> 54 | ... M6: =SUM(M7:M20) -> 2 | N6: 계 | O6: =SUM(O7:O20) -> 12 | P6: =SUM(P7:P20) -> 3 | Q6: =SUM(Q7:Q20) -> 0 | R6: =SUM(R7:R20) -> 0 | S6: =SUM(S7:S20) -> 1 | T6: =SUM(T7:T20) -> 0 | U6: =SUM(U7:U20) -> 7 | V6: =SUM(V7:V20) -> 1 | ... Z6: =SUM(Z7:Z20) -> 0 | AA6: 계 | AB6: =SUM(AB7:AB20) -> 18 | AC6: =SUM(AC7:AC20) -> 1 | AD6: =SUM(AD7:AD20) -> 0 | AE6: =SUM(AE7:AE20) -> 1 | AF6: =SUM(AF7:AF20) -> 0 | AG6: =SUM(AG7:AG20) -> 0 | AH6: =SUM(AH7:AH20) -> 0 | AI6: =SUM(AI7:AI20) -> 2 | ... AP6: =SUM(AP7:AP20) -> 0 | AR6: 계 | AS6: =SUM(AS7:AS20) -> 38 | AT6: =SUM(AT7:AT20) -> 2 | AU6: =SUM(AU7:AU20) -> 0 | AV6: =SUM(AV7:AV20) -> 0 | AW6: =SUM(AW7:AW20) -> 0 | AX6: =SUM(AX7:AX20) -> 0 | AY6: =SUM(AY7:AY20) -> 0 | AZ6: =SUM(AZ7:AZ20) -> 1 | ... BG6: =SUM(BG7:BG20) -> 1 | BH6: 계 | BI6: =SUM(BI7:BI20) -> 6 | BJ6: =SUM(BJ7:BJ20) -> 0 | BK6: =SUM(BK7:BK20) -> 0 | BL6: =SUM(BL7:BL20) -> 0 | BM6: =SUM(BM7:BM20) -> 0 | BN6: =SUM(BN7:BN20) -> 0 | BO6: =SUM(BO7:BO20) -> 0 | BP6: =SUM(BP7:BP20) -> 0 | ... BV6: =SUM(BV7:BV20) -> 0 | BY6: 계 | BZ6: =SUM(BZ7:BZ20) -> 101 | CA6: =SUM(CA7:CA20) -> 11 | CB6: =SUM(CB7:CB20) -> 22 | CC6: =SUM(CC7:CC20) -> 10 | CD6: =SUM(CD7:CD20) -> 4 | CE6: =SUM(CE7:CE20) -> 9 | CF6: =SUM(CF7:CF20) -> 12 | CG6: =SUM(CG7:CG20) -> 11 | ... CJ6: =SUM(CJ7:CJ20) -> 2 | CL6: 계 | CM6: =SUM(CM7:CM20) -> 0 | CN6: =SUM(CN7:CN20) -> 0 | CO6: =SUM(CO7:CO20) -> 0 | CP6: =SUM(CP7:CP20) -> 0 | CQ6: =SUM(CQ7:CQ20) -> 0 | CR6: =SUM(CR7:CR20) -> 0 | CS6: =SUM(CS7:CS20) -> 0 | CT6: =SUM(CT7:CT20) -> 0 | ... CW6: =SUM(CW7:CW20) -> 0 | CY6: 계 | CZ6: =SUM(CZ7:CZ20) -> 3 | DA6: =SUM(DA7:DA20) -> 0 | DB6: =SUM(DB7:DB20) -> 3 | DC6: =SUM(DC7:DC20) -> 0 | DD6: =SUM(DD7:DD20) -> 0 | DE6: =SUM(DE7:DE20) -> 0 | DF6: =SUM(DF7:DF20) -> 0 | DG6: =SUM(DG7:DG20) -> 0 | DR6: 계 | DS6: =SUM(DT6:EE6) -> 4 | DT6: =SUM(DT7:DT20) -> 3 | DU6: =SUM(DU7:DU20) -> 1 | DV6: =SUM(DV7:DV20) -> 0 | DW6: =SUM(DW7:DW20) -> 0 | DX6: =SUM(DX7:DX20) -> 0 | DY6: =SUM(DY7:DY20) -> 0 | DZ6: =SUM(DZ7:DZ20) -> 0 | EA6: =SUM(EA7:EA20) -> 0 | ... EE6: =SUM(EE7:EE20) -> 0 | EJ6: 계 | EK6: =SUM(EK7:EK20) -> 1 | EL6: =SUM(EL7:EL20) -> 1 | EM6: =SUM(EM7:EM20) -> 0 | EN6: =SUM(EN7:EN20) -> 0 | EO6: =SUM(EO7:EO20) -> 0 | EP6: =SUM(EP7:EP20) -> 0 | EQ6: =SUM(EQ7:EQ20) -> 0 | ER6: =SUM(ER7:ER20) -> 0 | ... EZ6: =SUM(EZ7:EZ20) -> 0 | FA6: 계 | FB6: =SUM(FB7:FB20) -> 0 | FC6: =SUM(FC7:FC20) -> 0 | FD6: =SUM(FD7:FD20) -> 0 | FE6: =SUM(FE7:FE20) -> 0 | FF6: =SUM(FF7:FF20) -> 0 | FG6: =SUM(FG7:FG20) -> 0 | FH6: =SUM(FH7:FH20) -> 0 | FI6: =SUM(FI7:FI20) -> 0 | ... FQ6: =SUM(FQ7:FQ20) -> 0
A7: 순창읍 | B7: =SUM(C7:M7) -> 27 | C7: 10 | D7: 5 | E7: 2 | F7: 3 | G7: 1 | H7: 5 | I7: 1 | N7: 순창읍 | O7: =SUM(P7:Z7) -> 0 | AA7: 순창읍 | AB7: =SUM(AC7:AP7) -> 0 | AR7: 순창읍 | AS7: =SUM(AT7:BG7) -> 3 | BA7: 1 | BD7: 1 | BE7: 1 | BH7: 순창읍 | BI7: =SUM(BJ7:BV7) -> 1 | BT7: 1 | BY7: 순창읍 | BZ7: =SUM(CA7:CJ7) -> 7 | CA7: 1 | CB7: 5 | CE7: 1 | CL7: 순창읍 | CM7: =SUM(CN7:CX7) -> 0 | CY7: 순창읍 | CZ7: =SUM(DA7:DH7) -> 0 | DR7: 순창읍 | DS7: =SUM(DT7:EE7) -> 0 | EJ7: 순창읍 | EK7: =SUM(EL7+EM7+EN7+EO7+EP7+EQ7+ER7) -> 0 | ES7: =SUM(ET7+EU7+EV7+EW7+EX7+EY7+EZ7) -> 0 | FA7: 순창읍 | FB7: =SUM(FC7+FD7+FE7+FF7+FG7+FH7+FI7) -> 0 | FJ7: =SUM(FK7+FL7+FM7+FN7+FO7+FP7+FQ7) -> 0
A8: 인계면 | B8: =SUM(C8:M8) -> 42 | C8: 8 | D8: 5 | E8: 4 | F8: 7 | G8: 1 | H8: 12 | I8: 4 | M8: 1 | N8: 인계면 | O8: =SUM(P8:Z8) -> 0 | AA8: 인계면 | AB8: =SUM(AC8:AP8) -> 6 | AI8: 1 | AL8: 1 | AM8: 3 | AN8: 1 | AR8: 인계면 | AS8: =SUM(AT8:BG8) -> 2 | AT8: 1 | BE8: 1 | BH8: 인계면 | BI8: =SUM(BJ8:BV8) -> 1 | BT8: 1 | BY8: 인계면 | BZ8: =SUM(CA8:CJ8) -> 4 | CB8: 1 | CE8: 1 | CF8: 1 | CH8: 1 | CL8: 인계면 | CM8: =SUM(CN8:CX8) -> 0 | CY8: 인계면 | CZ8: =SUM(DA8:DH8) -> 2 | DB8: 2 | DR8: 인계면 | DS8: =SUM(DT8:EE8) -> 0 | EJ8: 인계면 | EK8: =SUM(EL8+EM8+EN8+EO8+EP8+EQ8+ER8) -> 0 | ES8: =SUM(ET8+EU8+EV8+EW8+EX8+EY8+EZ8) -> 0 | FA8: 인계면 | FB8: =SUM(FC8+FD8+FE8+FF8+FG8+FH8+FI8) -> 0 | FJ8: =SUM(FK8+FL8+FM8+FN8+FO8+FP8+FQ8) -> 0
A9: 동계면 | B9: =SUM(C9:M9) -> 50 | C9: 16 | D9: 7 | E9: 7 | F9: 9 | G9: 1 | H9: 8 | I9: 2 | N9: 동계면 | O9: =SUM(P9:Z9) -> 2 | U9: 2 | AA9: 동계면 | AB9: =SUM(AC9:AP9) -> 2 | AK9: 1 | AM9: 1 | AR9: 동계면 | AS9: =SUM(AT9:BG9) -> 10 | BA9: 5 | BB9: 2 | BD9: 1 | BE9: 1 | BG9: 1 | BH9: 동계면 | BI9: =SUM(BJ9:BV9) -> 3 | BS9: 1 | BT9: 2 | BY9: 동계면 | BZ9: =SUM(CA9:CJ9) -> 1 | CE9: 1 | CL9: 동계면 | CM9: =SUM(CN9:CX9) -> 0 | CY9: 동계면 | CZ9: =SUM(DA9:DH9) -> 0 | DR9: 동계면 | DS9: =SUM(DT9:EE9) -> 0 | EJ9: 동계면 | EK9: =SUM(EL9+EM9+EN9+EO9+EP9+EQ9+ER9) -> 0 | ES9: =SUM(ET9+EU9+EV9+EW9+EX9+EY9+EZ9) -> 0 | FA9: 동계면 | FB9: =SUM(FC9+FD9+FE9+FF9+FG9+FH9+FI9) -> 0 | FJ9: =SUM(FK9+FL9+FM9+FN9+FO9+FP9+FQ9) -> 0
A10: 적성면 | B10: =SUM(C10:M10) -> 21 | C10: 7 | D10: 6 | F10: 2 | G10: 2 | H10: 3 | I10: 1 | N10: 적성면 | O10: =SUM(P10:Z10) -> 2 | U10: 1 | V10: 1 | AA10: 적성면 | AB10: =SUM(AC10:AP10) -> 2 | AC10: 1 | AI10: 1 | AR10: 적성면 | AS10: =SUM(AT10:BG10) -> 7 | AT10: 1 | AZ10: 1 | BB10: 2 | BC10: 1 | BE10: 2 | BH10: 적성면 | BI10: =SUM(BJ10:BV10) -> 0 | BY10: 적성면 | BZ10: =SUM(CA10:CJ10) -> 1 | CD10: 1 | CL10: 적성면 | CM10: =SUM(CN10:CX10) -> 0 | CY10: 적성면 | CZ10: =SUM(DA10:DH10) -> 0 | DR10: 적성면 | DS10: =SUM(DT10:EE10) -> 0 | EJ10: 적성면 | EK10: =SUM(EL10+EM10+EN10+EO10+EP10+EQ10+ER10) -> 0 | ES10: =SUM(ET10+EU10+EV10+EW10+EX10+EY10+EZ10) -> 0 | FA10: 적성면 | FB10: =SUM(FC10+FD10+FE10+FF10+FG10+FH10+FI10) -> 0 | FJ10: =SUM(FK10+FL10+FM10+FN10+FO10+FP10+FQ10) -> 0
A11: 유등면 | B11: =SUM(C11:M11) -> 35 | C11: 8 | D11: 4 | E11: 7 | G11: 1 | H11: 11 | I11: 3 | J11: 1 | N11: 유등면 | O11: =SUM(P11:Z11) -> 0 | AA11: 유등면 | AB11: =SUM(AC11:AP11) -> 2 | AE11: 1 | AO11: 1 | AR11: 유등면 | AS11: =SUM(AT11:BG11) -> 4 | BE11: 2 | BF11: 2 | BH11: 유등면 | BI11: =SUM(BJ11:BV11) -> 0 | BY11: 유등면 | BZ11: =SUM(CA11:CJ11) -> 6 | CB11: 1 | CC11: 1 | CE11: 3 | CH11: 1 | CL11: 유등면 | CM11: =SUM(CN11:CX11) -> 0 | CY11: 유등면 | CZ11: =SUM(DA11:DH11) -> 0 | DR11: 유등면 | DS11: =SUM(DT11:EE11) -> 0 | EJ11: 유등면 | EK11: =SUM(EL11+EM11+EN11+EO11+EP11+EQ11+ER11) -> 0 | ES11: =SUM(ET11+EU11+EV11+EW11+EX11+EY11+EZ11) -> 0 | FA11: 유등면 | FB11: =SUM(FC11+FD11+FE11+FF11+FG11+FH11+FI11) -> 0 | FJ11: =SUM(FK11+FL11+FM11+FN11+FO11+FP11+FQ11) -> 0
A12: 풍산면 | B12: =SUM(C12:M12) -> 56 | C12: 15 | D12: 4 | E12: 8 | F12: 11 | G12: 2 | H12: 10 | I12: 6 | N12: 풍산면 | O12: =SUM(P12:Z12) -> 5 | P12: 2 | U12: 3 | AA12: 풍산면 | AB12: =SUM(AC12:AP12) -> 2 | AK12: 1 | AN12: 1 | AR12: 풍산면 | AS12: =SUM(AT12:BG12) -> 2 | BE12: 2 | BH12: 풍산면 | BI12: =SUM(BJ12:BV12) -> 0 | BY12: 풍산면 | BZ12: =SUM(CA12:CJ12) -> 9 | CC12: 4 | CH12: 4 | CI12: 1 | CL12: 풍산면 | CM12: =SUM(CN12:CX12) -> 0 | CY12: 풍산면 | CZ12: =SUM(DA12:DH12) -> 0 | DR12: 풍산면 | DS12: =SUM(DT12:EE12) -> 0 | EJ12: 풍산면 | EK12: =SUM(EL12+EM12+EN12+EO12+EP12+EQ12+ER12) -> 0 | ES12: =SUM(ET12+EU12+EV12+EW12+EX12+EY12+EZ12) -> 0 | FA12: 풍산면 | FB12: =SUM(FC12+FD12+FE12+FF12+FG12+FH12+FI12) -> 0 | FJ12: =SUM(FK12+FL12+FM12+FN12+FO12+FP12+FQ12) -> 0
A13: 금과면 | B13: =SUM(C13:M13) -> 35 | C13: 9 | D13: 5 | E13: 6 | F13: 2 | G13: 1 | H13: 6 | I13: 5 | L13: 1 | N13: 금과면 | O13: =SUM(P13:Z13) -> 2 | S13: 1 | U13: 1 | AA13: 금과면 | AB13: =SUM(AC13:AP13) -> 0 | AR13: 금과면 | AS13: =SUM(AT13:BG13) -> 5 | BC13: 3 | BE13: 2 | BH13: 금과면 | BI13: =SUM(BJ13:BV13) -> 0 | BY13: 금과면 | BZ13: =SUM(CA13:CJ13) -> 10 | CB13: 5 | CC13: 2 | CD13: 1 | CF13: 2 | CL13: 금과면 | CM13: =SUM(CN13:CX13) -> 0 | CY13: 금과면 | CZ13: =SUM(DA13:DH13) -> 0 | DR13: 금과면 | DS13: =SUM(DT13:EE13) -> 0 | EJ13: 금과면 | EK13: =SUM(EL13+EM13+EN13+EO13+EP13+EQ13+ER13) -> 0 | ES13: =SUM(ET13+EU13+EV13+EW13+EX13+EY13+EZ13) -> 0 | FA13: 금과면 | FB13: =SUM(FC13+FD13+FE13+FF13+FG13+FH13+FI13) -> 0 | FJ13: =SUM(FK13+FL13+FM13+FN13+FO13+FP13+FQ13) -> 0
A14: 팔덕면 | B14: =SUM(C14:M14) -> 64 | C14: 24 | D14: 18 | E14: 5 | F14: 4 | G14: 3 | H14: 5 | I14: 3 | J14: 2 | N14: 팔덕면 | O14: =SUM(P14:Z14) -> 1 | P14: 1 | AA14: 팔덕면 | AB14: =SUM(AC14:AP14) -> 1 | AJ14: 1 | AR14: 팔덕면 | AS14: =SUM(AT14:BG14) -> 3 | BC14: 1 | BD14: 1 | BE14: 1 | BH14: 팔덕면 | BI14: =SUM(BJ14:BV14) -> 1 | BT14: 1 | BY14: 팔덕면 | BZ14: =SUM(CA14:CJ14) -> 11 | CF14: 1 | CG14: 4 | CH14: 5 | CJ14: 1 | CL14: 팔덕면 | CM14: =SUM(CN14:CX14) -> 0 | CY14: 팔덕면 | CZ14: =SUM(DA14:DH14) -> 1 | DB14: 1 | DR14: 팔덕면 | DS14: =SUM(DT14:EE14) -> 0 | EJ14: 팔덕면 | EK14: =SUM(EL14+EM14+EN14+EO14+EP14+EQ14+ER14) -> 0 | ES14: =SUM(ET14+EU14+EV14+EW14+EX14+EY14+EZ14) -> 0 | FA14: 팔덕면 | FB14: =SUM(FC14+FD14+FE14+FF14+FG14+FH14+FI14) -> 0 | FJ14: =SUM(FK14+FL14+FM14+FN14+FO14+FP14+FQ14) -> 0
A15: 복흥면 | B15: =SUM(C15:M15) -> 91 | C15: 19 | D15: 12 | E15: 7 | F15: 7 | G15: 8 | H15: 26 | I15: 11 | J15: 1 | N15: 복흥면 | O15: =SUM(P15:Z15) -> 0 | AA15: 복흥면 | AB15: =SUM(AC15:AP15) -> 0 | AR15: 복흥면 | AS15: =SUM(AT15:BG15) -> 0 | BH15: 복흥면 | BI15: =SUM(BJ15:BV15) -> 0 | BY15: 복흥면 | BZ15: =SUM(CA15:CJ15) -> 7 | CA15: 1 | CF15: 1 | CG15: 3 | CH15: 1 | CI15: 1 | CL15: 복흥면 | CM15: =SUM(CN15:CX15) -> 0 | CY15: 복흥면 | CZ15: =SUM(DA15:DH15) -> 0 | DR15: 복흥면 | DS15: =SUM(DT15:EE15) -> 0 | EJ15: 복흥면 | EK15: =SUM(EL15+EM15+EN15+EO15+EP15+EQ15+ER15) -> 0 | ES15: =SUM(ET15+EU15+EV15+EW15+EX15+EY15+EZ15) -> 0 | FA15: 복흥면 | FB15: =SUM(FC15+FD15+FE15+FF15+FG15+FH15+FI15) -> 0 | FJ15: =SUM(FK15+FL15+FM15+FN15+FO15+FP15+FQ15) -> 0
A16: 쌍치면 | B16: =SUM(C16:M16) -> 33 | C16: 10 | D16: 6 | E16: 4 | F16: 2 | G16: 3 | H16: 7 | I16: 1 | N16: 쌍치면 | O16: =SUM(P16:Z16) -> 0 | AA16: 쌍치면 | AB16: =SUM(AC16:AP16) -> 1 | AL16: 1 | AR16: 쌍치면 | AS16: =SUM(AT16:BG16) -> 1 | BA16: 1 | BH16: 쌍치면 | BI16: =SUM(BJ16:BV16) -> 0 | BY16: 쌍치면 | BZ16: =SUM(CA16:CJ16) -> 13 | CA16: 4 | CB16: 6 | CC16: 1 | CD16: 2 | CL16: 쌍치면 | CM16: =SUM(CN16:CX16) -> 0 | CY16: 쌍치면 | CZ16: =SUM(DA16:DH16) -> 0 | DR16: 쌍치면 | DS16: =SUM(DT16:EE16) -> 4 | DT16: 3 | DU16: 1 | EJ16: 쌍치면 | EK16: =SUM(EL16+EM16+EN16+EO16+EP16+EQ16+ER16) -> 0 | ES16: =SUM(ET16+EU16+EV16+EW16+EX16+EY16+EZ16) -> 0 | FA16: 쌍치면 | FB16: =SUM(FC16+FD16+FE16+FF16+FG16+FH16+FI16) -> 0 | FJ16: =SUM(FK16+FL16+FM16+FN16+FO16+FP16+FQ16) -> 0
A17: 구림면 | B17: =SUM(C17:M17) -> 188 | C17: 47 | D17: 34 | E17: 24 | F17: 15 | G17: 12 | H17: 36 | I17: 17 | J17: 2 | M17: 1 | N17: 구림면 | O17: =SUM(P17:Z17) -> 0 | AA17: 구림면 | AB17: =SUM(AC17:AP17) -> 2 | AK17: 1 | AN17: 1 | AR17: 구림면 | AS17: =SUM(AT17:BG17) -> 1 | BE17: 1 | BH17: 구림면 | BI17: =SUM(BJ17:BV17) -> 0 | BY17: 구림면 | BZ17: =SUM(CA17:CJ17) -> 32 | CA17: 5 | CB17: 4 | CC17: 2 | CE17: 3 | CF17: 7 | CG17: 4 | CH17: 6 | CJ17: 1 | CL17: 구림면 | CM17: =SUM(CN17:CX17) -> 0 | CY17: 구림면 | CZ17: =SUM(DA17:DH17) -> 0 | DR17: 구림면 | DS17: =SUM(DT17:EE17) -> 0 | EJ17: 구림면 | EK17: =SUM(EL17+EM17+EN17+EO17+EP17+EQ17+ER17) -> 1 | EL17: 1 | ES17: =SUM(ET17+EU17+EV17+EW17+EX17+EY17+EZ17) -> 1 | ET17: 1 | FA17: 구림면 | FB17: =SUM(FC17+FD17+FE17+FF17+FG17+FH17+FI17) -> 0 | FJ17: =SUM(FK17+FL17+FM17+FN17+FO17+FP17+FQ17) -> 0
B18: =SUM(C18:M18) -> 0 | O18: =SUM(P18:Z18) -> 0 | AB18: =SUM(AC18:AP18) -> 0 | AS18: =SUM(AT18:BG18) -> 0 | BI18: =SUM(BJ18:BV18) -> 0 | BZ18: =SUM(CA18:CJ18) -> 0 | CM18: =SUM(CN18:CX18) -> 0 | CZ18: =SUM(DA18:DH18) -> 0 | DS18: =SUM(DT18:EE18) -> 0 | EK18: =SUM(EL18+EM18+EN18+EO18+EP18+EQ18+ER18) -> 0 | ES18: =SUM(ET18+EU18+EV18+EW18+EX18+EY18+EZ18) -> 0 | FB18: =SUM(FC18+FD18+FE18+FF18+FG18+FH18+FI18) -> 0 | FJ18: =SUM(FK18+FL18+FM18+FN18+FO18+FP18+FQ18) -> 0
B19: =SUM(C19:M19) -> 0 | O19: =SUM(P19:Z19) -> 0 | AB19: =SUM(AC19:AP19) -> 0 | AS19: =SUM(AT19:BG19) -> 0 | BI19: =SUM(BJ19:BV19) -> 0 | BZ19: =SUM(CA19:CJ19) -> 0 | CM19: =SUM(CN19:CX19) -> 0 | CZ19: =SUM(DA19:DH19) -> 0 | DS19: =SUM(DT19:EE19) -> 0 | EK19: =SUM(EL19+EM19+EN19+EO19+EP19+EQ19+ER19) -> 0 | ES19: =SUM(ET19+EU19+EV19+EW19+EX19+EY19+EZ19) -> 0 | FB19: =SUM(FC19+FD19+FE19+FF19+FG19+FH19+FI19) -> 0 | FJ19: =SUM(FK19+FL19+FM19+FN19+FO19+FP19+FQ19) -> 0
B20: =SUM(C20:M20) -> 0 | O20: =SUM(P20:Z20) -> 0 | AB20: =SUM(AC20:AP20) -> 0 | AS20: =SUM(AT20:BG20) -> 0 | BI20: =SUM(BJ20:BV20) -> 0 | BZ20: =SUM(CA20:CJ20) -> 0 | CM20: =SUM(CN20:CX20) -> 0 | CZ20: =SUM(DA20:DH20) -> 0 | DS20: =SUM(DT20:EE20) -> 0 | EK20: =SUM(EL20+EM20+EN20+EO20+EP20+EQ20+ER20) -> 0 | ES20: =SUM(ET20+EU20+EV20+EW20+EX20+EY20+EZ20) -> 0 | FB20: =SUM(FC20+FD20+FE20+FF20+FG20+FH20+FI20) -> 0 | FJ20: =SUM(FK20+FL20+FM20+FN20+FO20+FP20+FQ20) -> 0
A21: 14. 메추리 | N21: 15. 꿀 벌 | AA21: 16. 관상조 | BH21: 17. 타조 | BY21: 18. 오소리 | CL21: 19. 꿩 | CY21: 20. 지렁이 | DR21: 21. 기러기
A23: 14 - 1 메추리 사육규모별 농가수 | N23: 15 - 1 꿀벌 사육규모별 농가수 | AA23: 16 - 1 관상조 사육규모별 가구수 및 마리수 | BH23: 17 - 1 타조 사육규모별 농가수 | BY23: 18 - 1 오소리 사육규모별 농가수 | CL23: 19 - 1 꿩 사육규모별 농가수 | CY23: 20-1 지렁이 사육규모별 농가수 및 마리수 | DR23: 21-1 기러기 사육규모별 농가수 및 마리수
AA24: 구분 | AB24: 사 육 가 구 수 | AJ24: 사 육 마 리 수 | BH24: 구분 | BI24: 사 육 가 구 수 | BQ24: 사 육 마 리 수 | CY24: 구분 | CZ24: 사 육 가 구 수 | DF24: 비고 | DI24: 면 적(㎡) | DO24: 비고 | DR24: 구분 | DS24: 사 육 가 구 수
A25: 구분 | B25: 계 | C25: 1~99 | D25: 100~499 | E25: 500~999 | F25: 1,000 ~9,999 | G25: 10,000 ~19,999 | H25: 20,000 ~29,999 | I25: 30,000 ~39,999 | J25: 40,000 ~49,999 | K25: 50,000 ~99,999 | L25: 100,000 이상 | M25: 비 고 | N25: 구분 | O25: 계 | P25: 1~9 | Q25: 10~49 | S25: 50~99 | T25: 100 ~199 | U25: 200 ~299 | V25: 300 ~499 | W25: 500 ~999 | X25: 1,000군 이상 | Y25: 비고 | AB25: 계 | AC25: 1-99 | AD25: 100 ~499 | AE25: 500 ~999 | AF25: 1,000 ~1,999 | AG25: 2,000 ~2,999 | AH25: 3,000 ~4,999 | AI25: 5,000 이상 | AJ25: 계 | AK25: 1~99 | AL25: 100 ~499 | AM25: 500 ~999 | AN25: 1,000 ~1,999 | AO25: 2,000 ~2,999 | AP25: 3,000 ~4,999 | AQ25: 5,000 이상 | BI25: 계 | BJ25: 1~9 | BK25: 10~49 | BL25: 50 ~99 | BM25: 100 ~199 | BN25: 200 ~299 | BO25: 300 ~499 | BP25: 500두 이상 | BQ25: 계 | BR25: 1~9 | BS25: 10~49 | BT25: 50 ~99 | BU25: 100 ~199 | BV25: 200 ~299 | BW25: 300 ~499 | BX25: 500두 이상 | BY25: 구분 | BZ25: 계 | CA25: 1~9 | CB25: 10~19 | CC25: 20~29 | CD25: 30~49 | CE25: 50~99 | CF25: 100 ~299 | CG25: 300 ~499 | CH25: 500 ~ 999 | CI25: 1,000 두 이상 | CJ25: 비 고 | CL25: 구분 | CM25: 계 | CN25: 1~99 | CO25: 100 ~ 199 | CP25: 200 ~ 499 | CQ25: 500 - 999 | CR25: 1,000 - 2,999 | CS25: 3,000 - 4,999 | CT25: 5,000 ~9,999 | CU25: 10,000 이상 | CV25: 비 고 | CZ25: 계 | DA25: 1~599 | DB25: 600 ~999 | DC25: 1,000 ~1,999 | DD25: 2,000 ~2,999 | DE25: 3,000 이상 | DI25: 계 | DJ25: 1~599 | DK25: 600 ~999 | DL25: 1,000 ~1,999 | DM25: 2,000 ~2,999 | DN25: 3,000 이상 | DS25: 계 | DT25: 1~9 | DU25: 10~49 | DV25: 50 ~99 | DW25: 100 ~199 | DX25: 200 ~299 | DY25: 300 ~499 | DZ25: 500 이상 | EA25: 비고
A26: 계 | B26: =SUM(B27:B40) -> 0 | C26: =SUM(C27:C40) -> 0 | D26: =SUM(D27:D40) -> 0 | E26: =SUM(E27:E40) -> 0 | F26: =SUM(F27:F40) -> 0 | G26: =SUM(G27:G40) -> 0 | H26: =SUM(H27:H40) -> 0 | I26: =SUM(I27:I40) -> 0 | ... L26: =SUM(L27:L40) -> 0 | N26: 계 | O26: =SUM(O27:O40) -> 162 | P26: =SUM(P27:P40) -> 4 | Q26: =SUM(Q27:R40) -> 67 | S26: =SUM(S27:S40) -> 43 | T26: =SUM(T27:T40) -> 26 | U26: =SUM(U27:U40) -> 19 | V26: =SUM(V27:V40) -> 3 | W26: =SUM(W27:W40) -> 0 | X26: =SUM(X27:X40) -> 0 | AA26: 계 | AB26: =SUM(AB27:AB40) -> 0 | AC26: =SUM(AC27:AC40) -> 0 | AD26: =SUM(AD27:AD40) -> 0 | AE26: =SUM(AE27:AE40) -> 0 | AF26: =SUM(AF27:AF40) -> 0 | AG26: =SUM(AG27:AG40) -> 0 | AH26: =SUM(AH27:AH40) -> 0 | AI26: =SUM(AI27:AI40) -> 0 | ... AQ26: =SUM(AQ27:AQ40) -> 0 | BH26: 계 | BI26: =SUM(BJ26:BP26) -> 1 | BJ26: =SUM(BJ27:BJ40) -> 1 | BK26: =SUM(BK27:BK40) -> 0 | BL26: =SUM(BL27:BL40) -> 0 | BM26: =SUM(BM27:BM40) -> 0 | BN26: =SUM(BN27:BN40) -> 0 | BO26: =SUM(BO27:BO40) -> 0 | BP26: =SUM(BP27:BP40) -> 0 | BQ26: =SUM(BR26:BX26) -> 2 | BR26: =SUM(BR27:BR40) -> 2 | BS26: =SUM(BS27:BS40) -> 0 | BT26: =SUM(BT27:BT40) -> 0 | BU26: =SUM(BU27:BU40) -> 0 | BV26: =SUM(BV27:BV40) -> 0 | BW26: =SUM(BW27:BW40) -> 0 | BX26: =SUM(BX27:BX40) -> 0 | BY26: 계 | BZ26: =SUM(BZ27:BZ40) -> 0 | CA26: =SUM(CA27:CA40) -> 0 | CB26: =SUM(CB27:CB40) -> 0 | CC26: =SUM(CC27:CC40) -> 0 | CD26: =SUM(CD27:CD40) -> 0 | CE26: =SUM(CE27:CE40) -> 0 | CF26: =SUM(CF27:CF40) -> 0 | CG26: =SUM(CG27:CG40) -> 0 | ... CJ26: =SUM(CJ27:CJ40) -> 0 | CL26: 계 | CM26: =SUM(CM27:CM40) -> 0 | CN26: =SUM(CN27:CN40) -> 0 | CO26: =SUM(CO27:CO40) -> 0 | CP26: =SUM(CP27:CP40) -> 0 | CQ26: =SUM(CQ27:CQ40) -> 0 | CR26: =SUM(CR27:CR40) -> 0 | CS26: =SUM(CS27:CS40) -> 0 | CT26: =SUM(CT27:CT40) -> 0 | CU26: =SUM(CU27:CU40) -> 0 | CZ26: =SUM(CZ27:CZ40) -> 2 | DA26: =SUM(DA27:DA40) -> 0 | DB26: =SUM(DB27:DB40) -> 0 | DC26: =SUM(DC27:DC40) -> 0 | DD26: =SUM(DD27:DD40) -> 0 | DE26: =SUM(DE27:DE40) -> 2 | DI26: =SUM(DI27:DI40) -> 4200 | DJ26: =SUM(DJ27:DJ40) -> 0 | DK26: =SUM(DK27:DK40) -> 0 | DL26: =SUM(DL27:DL40) -> 1000 | DM26: =SUM(DM27:DM40) -> 0 | DN26: =SUM(DN27:DN40) -> 3200 | DS26: =SUM(DS27:DS40) -> 2 | DT26: =SUM(DT27:DT40) -> 2 | DU26: =SUM(DU27:DU40) -> 0 | DV26: =SUM(DV27:DV40) -> 0 | DW26: =SUM(DW27:DW40) -> 0 | DX26: =SUM(DX27:DX40) -> 0 | DY26: =SUM(DY27:DY40) -> 0 | DZ26: =SUM(DZ27:DZ40) -> 0
A27: 순창읍 | B27: =SUM(C27:M27) -> 0 | N27: 순창읍 | O27: =SUM(P27:X27) -> 16 | Q27: 8 | S27: 5 | T27: 2 | V27: 1 | AA27: 순창읍 | AB27: =SUM(AC27:AI27) -> 0 | AJ27: =SUM(AK27:AQ27) -> 0 | BH27: 순창읍 | BI27: =SUM(BJ27:BP27) -> 0 | BQ27: =SUM(BR27:BX27) -> 0 | BY27: 순창읍 | BZ27: =SUM(CA27:CI27) -> 0 | CL27: 순창읍 | CM27: =SUM(CN27:CU27) -> 0 | CY27: 순창읍 | CZ27: =SUM(DA27:DE27) -> 0 | DI27: =SUM(DJ27:DN27) -> 0 | DR27: 순창읍 | DS27: =SUM(DT27:DZ27) -> 0
A28: 인계면 | B28: =SUM(C28:M28) -> 0 | N28: 인계면 | O28: =SUM(P28:X28) -> 13 | Q28: 6 | S28: 4 | T28: 1 | U28: 2 | AA28: 인계면 | AB28: =SUM(AC28:AI28) -> 0 | AJ28: =SUM(AK28:AQ28) -> 0 | BH28: 인계면 | BI28: =SUM(BJ28:BP28) -> 0 | BQ28: =SUM(BR28:BX28) -> 0 | BY28: 인계면 | BZ28: =SUM(CA28:CI28) -> 0 | CL28: 인계면 | CM28: =SUM(CN28:CU28) -> 0 | CY28: 인계면 | CZ28: =SUM(DA28:DE28) -> 1 | DE28: 1 | DI28: =SUM(DJ28:DN28) -> 1000 | DL28: 1000 | DR28: 인계면 | DS28: =SUM(DT28:DZ28) -> 0
A29: 동계면 | B29: =SUM(C29:M29) -> 0 | N29: 동계면 | O29: =SUM(P29:X29) -> 17 | Q29: 3 | S29: 3 | T29: 3 | U29: 7 | V29: 1 | AA29: 동계면 | AB29: =SUM(AC29:AI29) -> 0 | AJ29: =SUM(AK29:AQ29) -> 0 | BH29: 동계면 | BI29: =SUM(BJ29:BP29) -> 0 | BQ29: =SUM(BR29:BX29) -> 0 | BY29: 동계면 | BZ29: =SUM(CA29:CI29) -> 0 | CL29: 동계면 | CM29: =SUM(CN29:CU29) -> 0 | CY29: 동계면 | CZ29: =SUM(DA29:DE29) -> 0 | DI29: =SUM(DJ29:DN29) -> 0 | DR29: 동계면 | DS29: =SUM(DT29:DZ29) -> 0
A30: 적성면 | B30: =SUM(C30:M30) -> 0 | N30: 적성면 | O30: =SUM(P30:X30) -> 10 | Q30: 3 | S30: 4 | U30: 3 | AA30: 적성면 | AB30: =SUM(AC30:AI30) -> 0 | AJ30: =SUM(AK30:AQ30) -> 0 | BH30: 적성면 | BI30: =SUM(BJ30:BP30) -> 0 | BQ30: =SUM(BR30:BX30) -> 0 | BY30: 적성면 | BZ30: =SUM(CA30:CI30) -> 0 | CL30: 적성면 | CM30: =SUM(CN30:CU30) -> 0 | CY30: 적성면 | CZ30: =SUM(DA30:DE30) -> 0 | DI30: =SUM(DJ30:DN30) -> 0 | DR30: 적성면 | DS30: =SUM(DT30:DZ30) -> 0
A31: 유등면 | B31: =SUM(C31:M31) -> 0 | N31: 유등면 | O31: =SUM(P31:X31) -> 2 | Q31: 1 | T31: 1 | AA31: 유등면 | AB31: =SUM(AC31:AI31) -> 0 | AJ31: =SUM(AK31:AQ31) -> 0 | BH31: 유등면 | BI31: =SUM(BJ31:BP31) -> 0 | BQ31: =SUM(BR31:BX31) -> 0 | BY31: 유등면 | BZ31: =SUM(CA31:CI31) -> 0 | CL31: 유등면 | CM31: =SUM(CN31:CU31) -> 0 | CY31: 유등면 | CZ31: =SUM(DA31:DE31) -> 0 | DI31: =SUM(DJ31:DN31) -> 0 | DR31: 유등면 | DS31: =SUM(DT31:DZ31) -> 0
A32: 풍산면 | B32: =SUM(C32:M32) -> 0 | N32: 풍산면 | O32: =SUM(P32:X32) -> 13 | Q32: 6 | S32: 3 | T32: 2 | U32: 1 | V32: 1 | AA32: 풍산면 | AB32: =SUM(AC32:AI32) -> 0 | AJ32: =SUM(AK32:AQ32) -> 0 | BH32: 풍산면 | BI32: =SUM(BJ32:BP32) -> 0 | BQ32: =SUM(BR32:BX32) -> 0 | BY32: 풍산면 | BZ32: =SUM(CA32:CI32) -> 0 | CL32: 풍산면 | CM32: =SUM(CN32:CU32) -> 0 | CY32: 풍산면 | CZ32: =SUM(DA32:DE32) -> 0 | DI32: =SUM(DJ32:DN32) -> 0 | DR32: 풍산면 | DS32: =SUM(DT32:DZ32) -> 0
A33: 금과면 | B33: =SUM(C33:M33) -> 0 | N33: 금과면 | O33: =SUM(P33:X33) -> 19 | Q33: 8 | S33: 3 | T33: 7 | U33: 1 | AA33: 금과면 | AB33: =SUM(AC33:AI33) -> 0 | AJ33: =SUM(AK33:AQ33) -> 0 | BH33: 금과면 | BI33: =SUM(BJ33:BP33) -> 0 | BQ33: =SUM(BR33:BX33) -> 0 | BY33: 금과면 | BZ33: =SUM(CA33:CI33) -> 0 | CL33: 금과면 | CM33: =SUM(CN33:CU33) -> 0 | CY33: 금과면 | CZ33: =SUM(DA33:DE33) -> 0 | DI33: =SUM(DJ33:DN33) -> 0 | DR33: 금과면 | DS33: =SUM(DT33:DZ33) -> 0
A34: 팔덕면 | B34: =SUM(C34:M34) -> 0 | N34: 팔덕면 | O34: =SUM(P34:X34) -> 8 | Q34: 2 | S34: 4 | T34: 1 | U34: 1 | AA34: 팔덕면 | AB34: =SUM(AC34:AI34) -> 0 | AJ34: =SUM(AK34:AQ34) -> 0 | BH34: 팔덕면 | BI34: =SUM(BJ34:BP34) -> 0 | BQ34: =SUM(BR34:BX34) -> 0 | BY34: 팔덕면 | BZ34: =SUM(CA34:CI34) -> 0 | CL34: 팔덕면 | CM34: =SUM(CN34:CU34) -> 0 | CY34: 팔덕면 | CZ34: =SUM(DA34:DE34) -> 0 | DI34: =SUM(DJ34:DN34) -> 0 | DR34: 팔덕면 | DS34: =SUM(DT34:DZ34) -> 0
A35: 복흥면 | B35: =SUM(C35:M35) -> 0 | N35: 복흥면 | O35: =SUM(P35:X35) -> 10 | Q35: 6 | S35: 2 | T35: 1 | U35: 1 | AA35: 복흥면 | AB35: =SUM(AC35:AI35) -> 0 | AJ35: =SUM(AK35:AQ35) -> 0 | BH35: 복흥면 | BI35: =SUM(BJ35:BP35) -> 0 | BQ35: =SUM(BR35:BX35) -> 0 | BY35: 복흥면 | BZ35: =SUM(CA35:CI35) -> 0 | CL35: 복흥면 | CM35: =SUM(CN35:CU35) -> 0 | CY35: 복흥면 | CZ35: =SUM(DA35:DE35) -> 1 | DE35: 1 | DI35: =SUM(DJ35:DN35) -> 3200 | DN35: 3200 | DR35: 복흥면 | DS35: =SUM(DT35:DZ35) -> 0
A36: 쌍치면 | B36: =SUM(C36:M36) -> 0 | N36: 쌍치면 | O36: =SUM(P36:X36) -> 31 | P36: 3 | Q36: 14 | S36: 8 | T36: 5 | U36: 1 | AA36: 쌍치면 | AB36: =SUM(AC36:AI36) -> 0 | AJ36: =SUM(AK36:AQ36) -> 0 | BH36: 쌍치면 | BI36: =SUM(BJ36:BP36) -> 0 | BQ36: =SUM(BR36:BX36) -> 0 | BY36: 쌍치면 | BZ36: =SUM(CA36:CI36) -> 0 | CL36: 쌍치면 | CM36: =SUM(CN36:CU36) -> 0 | CY36: 쌍치면 | CZ36: =SUM(DA36:DE36) -> 0 | DI36: =SUM(DJ36:DN36) -> 0 | DR36: 쌍치면 | DS36: =SUM(DT36:DZ36) -> 0
A37: 구림면 | B37: =SUM(C37:M37) -> 0 | N37: 구림면 | O37: =SUM(P37:X37) -> 23 | P37: 1 | Q37: 10 | S37: 7 | T37: 3 | U37: 2 | AA37: 구림면 | AB37: =SUM(AC37:AI37) -> 0 | AJ37: =SUM(AK37:AQ37) -> 0 | BH37: 구림면 | BI37: =SUM(BJ37:BP37) -> 1 | BJ37: 1 | BQ37: =SUM(BR37:BX37) -> 2 | BR37: 2 | BY37: 구림면 | BZ37: =SUM(CA37:CI37) -> 0 | CL37: 구림면 | CM37: =SUM(CN37:CU37) -> 0 | CY37: 구림면 | CZ37: =SUM(DA37:DE37) -> 0 | DI37: =SUM(DJ37:DN37) -> 0 | DR37: 구림면 | DS37: =SUM(DT37:DZ37) -> 2 | DT37: 2
B38: =SUM(C38:M38) -> 0 | O38: =SUM(P38:X38) -> 0 | AB38: =SUM(AC38:AI38) -> 0 | AJ38: =SUM(AK38:AQ38) -> 0 | BI38: =SUM(BJ38:BP38) -> 0 | BQ38: =SUM(BR38:BX38) -> 0 | BZ38: =SUM(CA38:CI38) -> 0 | CM38: =SUM(CN38:CU38) -> 0 | CZ38: =SUM(DA38:DE38) -> 0 | DI38: =SUM(DJ38:DN38) -> 0 | DS38: =SUM(DT38:DZ38) -> 0
B39: =SUM(C39:M39) -> 0 | O39: =SUM(P39:X39) -> 0 | AB39: =SUM(AC39:AI39) -> 0 | AJ39: =SUM(AK39:AQ39) -> 0 | BI39: =SUM(BJ39:BP39) -> 0 | BQ39: =SUM(BR39:BX39) -> 0 | BZ39: =SUM(CA39:CI39) -> 0 | CM39: =SUM(CN39:CU39) -> 0 | CZ39: =SUM(DA39:DE39) -> 0 | DI39: =SUM(DJ39:DN39) -> 0 | DS39: =SUM(DT39:DZ39) -> 0
B40: =SUM(C40:M40) -> 0 | O40: =SUM(P40:X40) -> 0 | AB40: =SUM(AC40:AI40) -> 0 | AJ40: =SUM(AK40:AQ40) -> 0 | BI40: =SUM(BJ40:BP40) -> 0 | BQ40: =SUM(BR40:BX40) -> 0 | BZ40: =SUM(CA40:CI40) -> 0 | CM40: =SUM(CN40:CU40) -> 0 | CZ40: =SUM(DA40:DE40) -> 0 | DI40: =SUM(DJ40:DN40) -> 0 | DS40: =SUM(DT40:DZ40) -> 0
N41: 15. 꿀 벌
N43: 15 - 1 - 2 꿀벌 사육규모별 군수
...

Sheet (붙임3)24년12월 마리수
A1: 1-2 한육우 사육규모별 마리수 | N1: 2 - 2 젖소 사육규모별 마리수 | EM1: 10 - 2 개 연령별 성별 마리수 | EW1: 10 - 2 - 1 개 종별 사육목적별 마리수 | FG1: 12-2 칠면조 연령별 성별 마리수 | FX1: 13 - 2 거위 연령별 성별 마리수
AA2: 3 - 2 돼지 사육규모별 마리수 | AV2: 4 - 2 닭 사육규모별 수수 | BQ2: 5 - 2 오리 사육규모별 수수 | CK2: 6 - 2 염소(산양) 사육규모별 마리수 | CX2: 7 - 2 면양 사육규모별 마리수 | DK2: 8 - 2 사슴 사육규모별 마리수 | DU2: 9 - 2 토끼 사육규모별 마리수 | EM2: 구분 | EN2: 연 령 별 성 별 마 리 수 | EW2: 구분 | EX2: 종 별 마 리 수 | FB2: 사육목적별 마리수 | FG2: 구분 | FH2: 연 령 별 성 별 마 리 수 | FT2: 비 고 | FX2: 구분 | FY2: 연 령 별 성 별 마 리 수 | GK2: 비 고
EN3: 합 계 | EQ3: 18개월 미만 | ET3: 18개월 이상 | EX3: 계 | EY3: 애완종 | EZ3: 진돗개 | FA3: 기타 | FB3: 계 | FC3: 반려(애완) | FD3: 특수목적 (방범,경비,안내등) | FE3: 기타 | FF3: 비고 | FH3: 합 계 | FK3: 6개월 미만 | FN3: 6 ~ 12개월 미만 | FQ3: 12개월 이상 | FY3: 합 계 | GB3: 6개월 미만 | GE3: 6 ~ 12개월 미만 | GH3: 12개월 이상
A4: 구분 | B4: 계 | C4: 1~9 | D4: 10~19 | E4: 20~29 | F4: 30~39 | G4: 40~49 | H4: 50~99 | I4: 100~199 | J4: 200~299 | K4: 300~399 | L4: 400~499 | M4: 500두 이 상 | N4: 구분 | O4: 계 | P4: 1~9 | Q4: 10~19 | R4: 20~29 | S4: 30~39 | T4: 40~49 | U4: 50~99 | V4: 100~199 | W4: 200 ~ 299 | X4: 300 ~ 399 | Y4: 400 ~ 499 | Z4: 500두 이 상 | AA4: 구분 | AB4: 계 | AC4: 1~4 | AD4: 5~9 | AE4: 10~19 | AG4: 20~29 | AI4: 30~49 | AJ4: 50~99 | AK4: 100 ~299 | AL4: 300 ~499 | AM4: 500 ~ 999 | AO4: 1,000 ~ 1,999 | AQ4: 2,000 ~2,999 | AS4: 3,000 ~ 4,999 | AT4: 5,000 ~ 9,999 | AU4: 10,000두 이상 | AV4: 구분 | AW4: 계 | AX4: 1~ 259 | AY4: 260~ 499 | AZ4: 500 ~999 | BB4: 1,000 ~1,999 | BD4: 2,000 ~2,999 | BE4: 3,000 ~4,999 | BF4: 5,000 ~9,999 | BG4: 10,000 ~19,999 | BH4: 20,000 ~29,999 | BI4: 30,000 ~39,999 | BK4: 40,000 ~49,999 | BM4: 50,000 ~99,999 | BO4: 십만수~ 199,999 | BP4: 2십만수 이 상 | BQ4: 구분 | BR4: 계 | BS4: 1 ~39 | BT4: 40 ~99 | BU4: 100 ~199 | BW4: 200 ~499 | BY4: 500 ~ 999 | BZ4: 1,000 ~1,499 | CA4: 1,500 ~1,999 | CB4: 2,000 ~2,999 | CC4: 3,000~ 4,999 | CE4: 5,000~ 9,999 | CG4: 10,000~ 29,999 | CI4: 30,000~49,999 | CJ4: 50,000수이상 | CK4: 구분 | CL4: 계 | CM4: 1~4 | CN4: 5~9 | CO4: 10~19 | CP4: 20~29 | CQ4: 30~49 | CR4: 50~99 | CS4: 100 ~299 | CT4: 300 ~499 | CU4: 500 ~ 999 | CV4: 1,000 두 이상 | CW4: 비 고 | CX4: 구분 | CY4: 계 | CZ4: 1~4 | DA4: 5~9 | DB4: 10~19 | DC4: 20~29 | DD4: 30~49 | DE4: 50~99 | DF4: 100 ~299 | DG4: 300 ~499 | DH4: 500 ~ 999 | DI4: 1,000두 이상 | DJ4: 비 고 | DK4: 구분 | DL4: 계 | DM4: 1~9 | DN4: 10~49 | DO4: 50~99 | DP4: 100~199 | DQ4: 200~299 | DR4: 300~499 | DS4: 500이상 | DT4: 비고 | DU4: 구분 | DV4: 계 | DW4: 1~9 | DX4: 10~19 | DY4: 20 ~39 | DZ4: 40 ~49 | EA4: 50 ~99 | EB4: 100 ~199 | EC4: 200 ~299 | ED4: 300 ~ 399 | EE4: 400 ~499 | EF4: 500 ~999 | EG4: 1,000 ~1,999 | EH4: 2000 두 이상 | EI4: 비 고 | EN4: 계 | EO4: 암 | EP4: 수 | EQ4: 소 계 | ER4: 암 | ES4: 수 | ET4: 소 계 | EU4: 암 | EV4: 수 | FH4: 계 | FI4: 암 | FJ4: 수 | FK4: 소 계 | FL4: 암 | FM4: 수 | FN4: 소 계 | FO4: 암 | FP4: 수 | FQ4: 소 계 | FR4: 암 | FS4: 수 | FY4: 계 | FZ4: 암 | GA4: 수 | GB4: 소 계 | GC4: 암 | GD4: 수 | GE4: 소 계 | GF4: 암 | GG4: 수 | GH4: 소 계 | GI4: 암 | GJ4: 수
A5: 계 | B5: =SUM(B6:B19) -> 27200 | C5: =SUM(C6:C19) -> 784 | D5: =SUM(D6:D19) -> 1366 | E5: =SUM(E6:E19) -> 1929 | F5: =SUM(F6:F19) -> 2129 | G5: =SUM(G6:G19) -> 1591 | H5: =SUM(H6:H19) -> 9393 | I5: =SUM(I6:I19) -> 7330 | ... M5: =SUM(M6:M19) -> 702 | N5: 계 | O5: =SUM(O6:O19) -> 713 | P5: =SUM(P6:P19) -> 10 | Q5: =SUM(Q6:Q19) -> 0 | R5: =SUM(R6:R19) -> 0 | S5: =SUM(S6:S19) -> 61 | T5: =SUM(T6:T19) -> 0 | U5: =SUM(U6:U19) -> 520 | V5: =SUM(V6:V19) -> 122 | ... Z5: =SUM(Z6:Z19) -> 0 | AA5: 계 | AB5: =SUM(AB6:AB19) -> 30820 | AC5: =SUM(AC6:AC19) -> 3 | AD5: =SUM(AD6:AD19) -> 0 | AE5: =SUM(AE6:AE19) -> 14 | AF5: =SUM(AF6:AF19) -> 0 | AG5: =SUM(AG6:AG19) -> 0 | AH5: =SUM(AH6:AH19) -> 0 | AI5: =SUM(AI6:AI19) -> 0 | ... AU5: =SUM(AU6:AU19) -> 0 | AV5: 계 | AW5: =SUM(AW6:AW19) -> 2255226 | AX5: =SUM(AX6:AX19) -> 70 | AY5: =SUM(AY6:AY19) -> 0 | AZ5: =SUM(AZ6:BA19) -> 0 | BB5: =SUM(BB6:BC19) -> 0 | BD5: =SUM(BD6:BD19) -> 0 | BE5: =SUM(BE6:BE19) -> 0 | BF5: =SUM(BF6:BF19) -> 6280 | BG5: =SUM(BG6:BG19) -> 207580 | BH5: =SUM(BH6:BH19) -> 99831 | BI5: =SUM(BI6:BI19) -> 153112 | BK5: =SUM(BK6:BK19) -> 130000 | BM5: =SUM(BM6:BM19) -> 790053 | BO5: =SUM(BO6:BO19) -> 388300 | BP5: =SUM(BP6:BP19) -> 480000 | BQ5: 계 | BR5: =SUM(BR6:BR19) -> 91600 | BS5: =SUM(BS6:BS19) -> 0 | BT5: =SUM(BT6:BT19) -> 0 | BU5: =SUM(BU6:BU19) -> 0 | BV5: =SUM(BV6:BV19) -> 0 | BW5: =SUM(BW6:BW19) -> 0 | BX5: =SUM(BX6:BX19) -> 0 | BY5: =SUM(BY6:BY19) -> 0 | ... CJ5: =SUM(CJ6:CJ19) -> 0 | CK5: 계 | CL5: =SUM(CL6:CL19) -> 14226 | CM5: =SUM(CM6:CM19) -> 26 | CN5: =SUM(CN6:CN19) -> 145 | CO5: =SUM(CO6:CO19) -> 123 | CP5: =SUM(CP6:CP19) -> 85 | CQ5: =SUM(CQ6:CQ19) -> 300 | CR5: =SUM(CR6:CR19) -> 841 | CS5: =SUM(CS6:CS19) -> 2346 | ... CV5: =SUM(CV6:CV19) -> 2300 | CX5: 계 | CY5: =SUM(CY6:CY19) -> 0 | CZ5: =SUM(CZ6:CZ19) -> 0 | DA5: =SUM(DA6:DA19) -> 0 | DB5: =SUM(DB6:DB19) -> 0 | DC5: =SUM(DC6:DC19) -> 0 | DD5: =SUM(DD6:DD19) -> 0 | DE5: =SUM(DE6:DE19) -> 0 | DF5: =SUM(DF6:DF19) -> 0 | ... DI5: =SUM(DI6:DI19) -> 0 | DK5: 계 | DL5: =SUM(DL6:DL19) -> 88 | DM5: =SUM(DM6:DM19) -> 0 | DN5: =SUM(DN6:DN19) -> 88 | DO5: =SUM(DO6:DO19) -> 0 | DP5: =SUM(DP6:DP19) -> 0 | DQ5: =SUM(DQ6:DQ19) -> 0 | DR5: =SUM(DR6:DR19) -> 0 | DS5: =SUM(DS6:DS19) -> 0 | DU5: 계 | DV5: =SUM(DV6:DV19) -> 21 | DW5: =SUM(DW6:DW19) -> 6 | DX5: =SUM(DX6:DX19) -> 15 | DY5: =SUM(DY6:DY19) -> 0 | DZ5: =SUM(DZ6:DZ19) -> 0 | EA5: =SUM(EA6:EA19) -> 0 | EB5: =SUM(EB6:EB19) -> 0 | EC5: =SUM(EC6:EC19) -> 0 | ... EH5: =SUM(EH6:EH19) -> 0 | EM5: 계 | EN5: =SUM(EQ5+ET5) -> 2250 | EO5: =SUM(ER5+EU5) -> 1255 | EP5: =SUM(ES5+EV5) -> 995 | EQ5: =SUM(ER5+ES5) -> 276 | ER5: =SUM(ER6:ER19) -> 148 | ES5: =SUM(ES6:ES19) -> 128 | ET5: =SUM(EU5+EV5) -> 1974 | EU5: =SUM(EU6:EU19) -> 1107 | EV5: =SUM(EV6:EV19) -> 867 | EW5: 계 | EX5: =SUM(EY5+EZ5+FA5) -> 2250 | EY5: =SUM(EY6:EY19) -> 152 | EZ5: =SUM(EZ6:EZ19) -> 214 | FA5: =SUM(FA6:FA19) -> 1884 | FB5: =SUM(FC5+FD5+FE5) -> 2250 | FC5: =SUM(FC6:FC19) -> 0 | FD5: =SUM(FD6:FD19) -> 427 | FE5: =SUM(FE6:FE19) -> 1823 | FG5: 계 | FH5: =SUM(FK5+FN5+FQ5) -> 1 | FI5: =SUM(FL5+FO5+FR5) -> 0 | FJ5: =SUM(FM5+FP5+FS5) -> 1 | FK5: =SUM(FL5+FM5) -> 0 | FL5: =SUM(FL6:FL19) -> 0 | FM5: =SUM(FM6:FM19) -> 0 | FN5: =SUM(FO5+FP5) -> 0 | FO5: =SUM(FO6:FO19) -> 0 | FP5: =SUM(FP6:FP19) -> 0 | FQ5: =SUM(FR5+FS5) -> 1 | FR5: =SUM(FR6:FR19) -> 0 | FS5: =SUM(FS6:FS19) -> 1 | FX5: 계 | FY5: =SUM(GB5+GE5+GH5) -> 0 | FZ5: =SUM(GC5+GF5+GI5) -> 0 | GA5: =SUM(GD5+GG5+GJ5) -> 0 | GB5: =SUM(GC5+GD5) -> 0 | GC5: =SUM(GC6:GC19) -> 0 | GD5: =SUM(GD6:GD19) -> 0 | GE5: =SUM(GF5+GG5) -> 0 | GF5: =SUM(GF6:GF19) -> 0 | GG5: =SUM(GG6:GG19) -> 0 | GH5: =SUM(GI5+GJ5) -> 0 | GI5: =SUM(GI6:GI19) -> 0 | GJ5: =SUM(GJ6:GJ19) -> 0
A6: 순창읍 | B6: =SUM(C6:M6) -> 739 | C6: 51 | D6: 75 | E6: 51 | F6: 98 | G6: 46 | H6: 318 | I6: 100 | N6: 순창읍 | O6: =SUM(P6:Z6) -> 0 | AA6: 순창읍 | AB6: =SUM(AC6:AU6) -> 0 | AV6: 순창읍 | AW6: =SUM(AX6:BP6) -> 142500 | BG6: 18000 | BK6: 46000 | BM6: 78500 | BQ6: 순창읍 | BR6: =SUM(BS6:CJ6) -> 25000 | CG6: 25000 | CK6: 순창읍 | CL6: =SUM(CM6:CW6) -> 84 | CM6: 9 | CN6: 35 | CQ6: 40 | CX6: 순창읍 | CY6: =SUM(CZ6:DJ6) -> 0 | DK6: 순창읍 | DL6: =SUM(DM6:DT6) -> 0 | DU6: 순창읍 | DV6: =SUM(DW6:EH6) -> 0 | EM6: 순창읍 | EN6: =SUM(EQ6+ET6) -> 19 | EO6: =SUM(ER6+EU6) -> 15 | EP6: =SUM(ES6+EV6) -> 4 | EQ6: =SUM(ER6+ES6) -> 7 | ER6: 6 | ES6: 1 | ET6: =SUM(EU6+EV6) -> 12 | EU6: 9 | EV6: 3 | EW6: 순창읍 | EX6: =SUM(EY6+EZ6+FA6) -> 19 | EY6: 3 | EZ6: 7 | FA6: 9 | FB6: =SUM(FC6+FD6+FE6) -> 19 | FC6: 0 | FD6: 19 | FE6: 0 | FG6: 순창읍 | FH6: =SUM(FK6+FN6+FQ6) -> 0 | FI6: =SUM(FL6+FO6+FR6) -> 0 | FJ6: =SUM(FM6+FP6+FS6) -> 0 | FK6: =SUM(FL6+FM6) -> 0 | FN6: =SUM(FO6+FP6) -> 0 | FQ6: =SUM(FR6+FS6) -> 0 | FX6: 순창읍 | FY6: =SUM(GB6+GE6+GH6) -> 0 | FZ6: =SUM(GC6+GF6+GI6) -> 0 | GA6: =SUM(GD6+GG6+GJ6) -> 0 | GB6: =SUM(GC6+GD6) -> 0 | GE6: =SUM(GF6+GG6) -> 0 | GH6: =SUM(GI6+GJ6) -> 0
A7: 인계면 | B7: =SUM(C7:M7) -> 2248 | C7: 44 | D7: 63 | E7: 89 | F7: 264 | G7: 48 | H7: 1020 | I7: 720 | N7: 인계면 | O7: =SUM(P7:Z7) -> 0 | AA7: 인계면 | AB7: =SUM(AC7:AU7) -> 11734 | AK7: 100 | AO7: 1000 | AQ7: 6900 | AS7: 3734 | AV7: 인계면 | AW7: =SUM(AX7:BP7) -> 62050 | AX7: 50 | BM7: 62000 | BQ7: 인계면 | BR7: =SUM(BS7:CJ7) -> 21000 | CG7: 21000 | CK7: 인계면 | CL7: =SUM(CM7:CW7) -> 489 | CN7: 9 | CQ7: 40 | CR7: 90 | CT7: 350 | CX7: 인계면 | CY7: =SUM(CZ7:DJ7) -> 0 | DK7: 인계면 | DL7: =SUM(DM7:DT7) -> 54 | DN7: 54 | DU7: 인계면 | DV7: =SUM(DW7:EH7) -> 0 | EM7: 인계면 | EN7: =SUM(EQ7+ET7) -> 39 | EO7: =SUM(ER7+EU7) -> 25 | EP7: =SUM(ES7+EV7) -> 14 | EQ7: =SUM(ER7+ES7) -> 3 | ER7: 2 | ES7: 1 | ET7: =SUM(EU7+EV7) -> 36 | EU7: 23 | EV7: 13 | EW7: 인계면 | EX7: =SUM(EY7+EZ7+FA7) -> 39 | EY7: 12 | EZ7: 11 | FA7: 16 | FB7: =SUM(FC7+FD7+FE7) -> 39 | FC7: 0 | FD7: 11 | FE7: 28 | FG7: 인계면 | FH7: =SUM(FK7+FN7+FQ7) -> 0 | FI7: =SUM(FL7+FO7+FR7) -> 0 | FJ7: =SUM(FM7+FP7+FS7) -> 0 | FK7: =SUM(FL7+FM7) -> 0 | FN7: =SUM(FO7+FP7) -> 0 | FQ7: =SUM(FR7+FS7) -> 0 | FX7: 인계면 | FY7: =SUM(GB7+GE7+GH7) -> 0 | FZ7: =SUM(GC7+GF7+GI7) -> 0 | GA7: =SUM(GD7+GG7+GJ7) -> 0 | GB7: =SUM(GC7+GD7) -> 0 | GE7: =SUM(GF7+GG7) -> 0 | GH7: =SUM(GI7+GJ7) -> 0
A8: 동계면 | B8: =SUM(C8:M8) -> 1470 | C8: 71 | D8: 100 | E8: 168 | F8: 322 | G8: 46 | H8: 533 | I8: 230 | N8: 동계면 | O8: =SUM(P8:Z8) -> 146 | U8: 146 | AA8: 동계면 | AB8: =SUM(AC8:AU8) -> 2644 | AM8: 523 | AQ8: 2121 | AV8: 동계면 | AW8: =SUM(AX8:BP8) -> 703931 | BG8: 72080 | BH8: 47931 | BK8: 44000 | BM8: 59920 | BP8: 480000 | BQ8: 동계면 | BR8: =SUM(BS8:CJ8) -> 34600 | CE8: 8500 | CG8: 26100 | CK8: 동계면 | CL8: =SUM(CM8:CW8) -> 60 | CR8: 60 | CX8: 동계면 | CY8: =SUM(CZ8:DJ8) -> 0 | DK8: 동계면 | DL8: =SUM(DM8:DT8) -> 0 | DU8: 동계면 | DV8: =SUM(DW8:EH8) -> 0 | EM8: 동계면 | EN8: =SUM(EQ8+ET8) -> 175 | EO8: =SUM(ER8+EU8) -> 132 | EP8: =SUM(ES8+EV8) -> 43 | EQ8: =SUM(ER8+ES8) -> 58 | ER8: 34 | ES8: 24 | ET8: =SUM(EU8+EV8) -> 117 | EU8: 98 | EV8: 19 | EW8: 동계면 | EX8: =SUM(EY8+EZ8+FA8) -> 175 | EY8: 7 | EZ8: 6 | FA8: 162 | FB8: =SUM(FC8+FD8+FE8) -> 175 | FC8: 0 | FD8: 25 | FE8: 150 | FG8: 동계면 | FH8: =SUM(FK8+FN8+FQ8) -> 0 | FI8: =SUM(FL8+FO8+FR8) -> 0 | FJ8: =SUM(FM8+FP8+FS8) -> 0 | FK8: =SUM(FL8+FM8) -> 0 | FN8: =SUM(FO8+FP8) -> 0 | FQ8: =SUM(FR8+FS8) -> 0 | FX8: 동계면 | FY8: =SUM(GB8+GE8+GH8) -> 0 | FZ8: =SUM(GC8+GF8+GI8) -> 0 | GA8: =SUM(GD8+GG8+GJ8) -> 0 | GB8: =SUM(GC8+GD8) -> 0 | GE8: =SUM(GF8+GG8) -> 0 | GH8: =SUM(GI8+GJ8) -> 0
A9: 적성면 | B9: =SUM(C9:M9) -> 618 | C9: 23 | D9: 77 | F9: 67 | G9: 87 | H9: 182 | I9: 182 | N9: 적성면 | O9: =SUM(P9:Z9) -> 236 | S9: 31 | U9: 83 | V9: 122 | AA9: 적성면 | AB9: =SUM(AC9:AU9) -> 113 | AC9: 3 | AK9: 110 | AV9: 적성면 | AW9: =SUM(AX9:BP9) -> 222200 | AX9: 20 | BF9: 6280 | BH9: 51900 | BI9: 30000 | BM9: 134000 | BQ9: 적성면 | BR9: =SUM(BS9:CJ9) -> 0 | CK9: 적성면 | CL9: =SUM(CM9:CW9) -> 25 | CP9: 25 | CX9: 적성면 | CY9: =SUM(CZ9:DJ9) -> 0 | DK9: 적성면 | DL9: =SUM(DM9:DT9) -> 0 | DU9: 적성면 | DV9: =SUM(DW9:EH9) -> 0 | EM9: 적성면 | EN9: =SUM(EQ9+ET9) -> 32 | EO9: =SUM(ER9+EU9) -> 15 | EP9: =SUM(ES9+EV9) -> 17 | EQ9: =SUM(ER9+ES9) -> 12 | ER9: 7 | ES9: 5 | ET9: =SUM(EU9+EV9) -> 20 | EU9: 8 | EV9: 12 | EW9: 적성면 | EX9: =SUM(EY9+EZ9+FA9) -> 32 | EY9: 8 | EZ9: 14 | FA9: 10 | FB9: =SUM(FC9+FD9+FE9) -> 32 | FC9: 0 | FD9: 32 | FE9: 0 | FG9: 적성면 | FH9: =SUM(FK9+FN9+FQ9) -> 0 | FI9: =SUM(FL9+FO9+FR9) -> 0 | FJ9: =SUM(FM9+FP9+FS9) -> 0 | FK9: =SUM(FL9+FM9) -> 0 | FN9: =SUM(FO9+FP9) -> 0 | FQ9: =SUM(FR9+FS9) -> 0 | FX9: 적성면 | FY9: =SUM(GB9+GE9+GH9) -> 0 | FZ9: =SUM(GC9+GF9+GI9) -> 0 | GA9: =SUM(GD9+GG9+GJ9) -> 0 | GB9: =SUM(GC9+GD9) -> 0 | GE9: =SUM(GF9+GG9) -> 0 | GH9: =SUM(GI9+GJ9) -> 0
